Workbook
Name MitarbeiterName: Einstellungen!$B$3
Name Personalnummer: Einstellungen!$B$4
Name Firma: Einstellungen!$B$5
Name Jahr: Einstellungen!$B$6
Name Bundesland: Einstellungen!$B$7
Name SollMo: Einstellungen!$B$10
Name SollDi: Einstellungen!$B$11
Name SollMi: Einstellungen!$B$12
Name SollDo: Einstellungen!$B$13
Name SollFr: Einstellungen!$B$14
Name SollSa: Einstellungen!$B$15
Name SollSo: Einstellungen!$B$16
Name Uebertrag: Einstellungen!$B$19
Name Urlaubsanspruch: Einstellungen!$B$20
Name Resturlaub: Einstellungen!$B$21
Name Ostern: Hilfswerte!$B$18
Name Land: Hilfswerte!$B$20
Name FeiertagDaten: Feiertage!$O$4:$O$28
Name FeiertagNamen: Feiertage!$A$4:$A$28

Sheet Anleitung
B2: Zeiterfassung 2026: Excel-Vorlage
B3: Eine Datei je Mitarbeiter und Jahr. Grau hinterlegte Zellen rechnen selbst, hellblaue füllen Sie aus.
B4: So geht's
B5: 1. Blatt „Einstellungen“: Name, Jahr, Bundesland des Arbeitsorts und die Soll-Arbeitszeit je Wochentag eintragen (z. B. 8:00 von Montag bis Freitag). Optional: Übertrag aus dem Vorjahr und Urlaubsanspruch.
B6: 2. Im Monatsblatt je Tag Beginn, Ende und Pause in Minuten eintragen. Bei geteiltem Dienst den zweiten Block in „Beginn 2“ und „Ende 2“; die Lücke dazwischen zählt als Pause.
B7: 3. Abwesenheiten aus der Liste wählen: Urlaub, halber Urlaubstag, Krank und „Bezahlt frei“ zählen den Soll des Tages als gearbeitet; Freizeitausgleich baut Überstunden ab; „Unbezahlt“ setzt den Soll auf 0.
B8: 4. Feiertage stehen automatisch im Kalender und haben keinen Soll. Einzelne Feiertage lassen sich im Blatt „Feiertage“ an- oder abschalten, eigene (z. B. ein örtlicher Feiertag) unten ergänzen.
B9: 5. Rechts stehen Ist, Soll und Saldo. Der Soll eines Tages zählt, sobald der Tag erreicht ist oder etwas für ihn eingetragen ist: Im laufenden Monat steht so der Saldo bis heute. Er wird von Monat zu Monat übertragen; die Jahresübersicht zeigt alle Monate und den Resturlaub.
B10: 6. Zum Abgeben das Monatsblatt drucken oder als PDF speichern: Es passt auf eine Seite (A4 quer), mit Feldern für die Unterschriften.
B11: Nachtschicht: Endet die Arbeit nach Mitternacht, einfach die Uhrzeit eintragen (z. B. 22:00 bis 6:00); sie zählt zum Tag des Beginns.
B12: Fahrzeit: „davon Fahrzeit“ ist ein Teil der Arbeitszeit (Fahrten zwischen Einsätzen), keine zusätzliche Zeit. Sie wird je Monat summiert.
B13: Was die Datei prüft (Spalte „Hinweis“)
... B20: Mehr Werkzeuge und die Einsatzplanung für Servicetechniker: dispatchping.com

Sheet Einstellungen
A1: Einstellungen
A3: Name | C3: Steht oben auf jedem Monatsblatt.
A4: Personalnummer | C4: Optional.
A5: Firma | C5: Optional.
A6: Jahr | B6: 2026 | C6: Ein anderes Jahr eintragen: Kalender und Feiertage stellen sich um.
A7: Bundesland (Arbeitsort) | C7: Bestimmt die Feiertage. Maßgeblich ist der Arbeitsort, nicht der Wohnort.
A9: Soll-Arbeitszeit je Wochentag (hh:mm)
A10: Montag | C10: Laut Arbeitsvertrag, z. B. 8:00. Freie Tage leer lassen.
A11: Dienstag
A12: Mittwoch
A13: Donnerstag
A14: Freitag
A15: Samstag
A16: Sonntag
A17: Wochenstunden | B17: =SUM(B10:B16)
A19: Übertrag Zeitsaldo aus dem Vorjahr (Stunden) | C19: Als Dezimalzahl: 12,5 für +12:30, -3,25 für −3:15. Leer: 0.
A20: Urlaubsanspruch im Jahr (Tage) | C20: Laut Arbeitsvertrag.
A21: Resturlaub aus dem Vorjahr (Tage) | C21: Optional.

Sheet Januar
A1: ="Arbeitszeitnachweis Januar "&Jahr
A2: ="Name: "&IF(MitarbeiterName="","…",MitarbeiterName)&IF(Personalnummer="",""," · Personalnr. "&Personalnummer)&IF(Firma="",""," · "&Firma)&IF(Bundesland="",""," · "&Bundesland)
A3: =IF(Bundesland="","Bitte in den Einstellungen das Bundesland wählen, damit die Feiertage stimmen. ","")&IF(SUM(SollMo,SollDi,SollMi,SollDo,SollFr,SollSa,SollSo)=0,"Bitte in den Einstellungen die Soll-Arbeitszeit eintragen.","")
A4: Datum | B4: Tag | C4: Beginn | D4: Ende | E4: Beginn 2 | F4: Ende 2 | G4: Pause (Min.) | H4: Abwesenheit | I4: davon Fahrzeit | J4: Einsatzort / Notiz | K4: Ist | L4: Soll | M4: Saldo | N4: Hinweis (§ ArbZG)
A5: =IF(MONTH(DATE(Jahr,1,1))=1,DATE(Jahr,1,1),"") | B5: =IF(A5="","",CHOOSE(WEEKDAY(A5,2),"Mo","Di","Mi","Do","Fr","Sa","So")) | K5: =IF(OR(A5="",P5+R5<=0),"",P5+R5) | L5: =IF(OR(A5="",S5=0),"",S5) | M5: =IF(OR(A5="",AND(P5+R5=0,S5=0)),"",IF(T5<0,"-","+")&TEXT(ABS(T5),"[h]:mm")) | N5: =IF(A5="","",IF(Q5<>"","Feiertag: "&Q5&IF(Z5<>"","; ",""),"")&IF(Z5<>"",LEFT(Z5,LEN(Z5)-2),"")) | P5: =IF(A5="",0,ROUND((IF(AND(ISNUMBER(C5),ISNUMBER(D5)),MOD(D5-C5,1),0)+IF(AND(ISNUMBER(E5),ISNUMBER(F5)),MOD(F5-E5,1),0)-IF(ISNUMBER(G5),G5,0)/1440)*1440,0)/1440) | Q5: =IF(A5="","",IFERROR(INDEX(FeiertagNamen,MATCH(A5,FeiertagDaten,0)),"")) | R5: =IF(OR(H5="Urlaub",H5="Krank",H5="Bezahlt frei"),S5,IF(H5="Halber Urlaubstag",ROUND(S5*720,0)/1440,0)) | S5: =IF(OR(A5="",Q5<>"",H5="Unbezahlt",AA5=0),0,ROUND(CHOOSE(WEEKDAY(A5,2),N(SollMo),N(SollDi),N(SollMi),N(SollDo),N(SollFr),N(SollSa),N(SollSo))*1440,0)/1440) | T5: =P5+R5-S5 | U5: =IF(OR(A5="",NOT(ISNUMBER(C5)),NOT(ISNUMBER(D5))),"",A5+IF(AND(ISNUMBER(E5),ISNUMBER(F5)),F5+IF(E5<C5,1,0)+IF(F5<E5,1,0),D5+IF(D5<C5,1,0))) | V5: =IF(OR(A5="",NOT(ISNUMBER(C5))),"",A5+C5) | W5: =IF(OR(V5="",0=0),"",ROUND((V5-0)*1440,0)) | X5: =MAX(0,N(U5)) | Y5: =IF(ISNUMBER(G5),G5,0)+IF(AND(ISNUMBER(D5),ISNUMBER(E5)),MAX(0,ROUND((E5+IF(E5<C5,1,0)-D5-IF(D5<C5,1,0))*1440,0)),0) | Z5: =IF(A5="","",IF(OR(ISNUMBER(C5)<>ISNUMBER(D5),ISNUMBER(E5)<>ISNUMBER(F5)),"Beginn oder Ende fehlt; ","")&IF(P5<0,"Pause länger als Arbeitszeit; ","")&IF(AND(ROUND(P5*1440,0)>360,ROUND(P5*1440,0)<=540,Y5<30),"Pause unter 30 Min. (§ 4); ","")&IF(AND(ROUND(P5*1440,0)>540,Y5<45),"Pause unter 45 Min. (§ 4); ","")&IF(ROUND(P5*1440,0)>600,"über 10 Std. (§ 3); ","")&IF(W5="","",IF(W5<0,"beginnt vor Ende des Vortags; ",IF(W5<660,"Ruhezeit unter 11 Std. (§ 5); ","")))&IF(AND(ISNUMBER(I5),ROUND(N(I5)*1440,0)>ROUND(P5*1440,0)),"Fahrzeit über Arbeitszeit; ","")&IF(AND(OR(H5="Urlaub",H5="Krank",H5="Bezahlt frei"),ROUND(P5*1440,0)>0),"Abwesenheit und Arbeitszeit; ","")&IF(AND(H5<>"",H5<>"Unbezahlt",S5=0),"Abwesenheit an freiem Tag zählt nicht; ","")) | AA5: =IF(A5="",0,IF(OR(A5<=TODAY(),COUNTA(C5:J5)>0),1,0))
A6: =IF(MONTH(DATE(Jahr,1,2))=1,DATE(Jahr,1,2),"") | B6: =IF(A6="","",CHOOSE(WEEKDAY(A6,2),"Mo","Di","Mi","Do","Fr","Sa","So")) | K6: =IF(OR(A6="",P6+R6<=0),"",P6+R6) | L6: =IF(OR(A6="",S6=0),"",S6) | M6: =IF(OR(A6="",AND(P6+R6=0,S6=0)),"",IF(T6<0,"-","+")&TEXT(ABS(T6),"[h]:mm")) | N6: =IF(A6="","",IF(Q6<>"","Feiertag: "&Q6&IF(Z6<>"","; ",""),"")&IF(Z6<>"",LEFT(Z6,LEN(Z6)-2),"")) | P6: =IF(A6="",0,ROUND((IF(AND(ISNUMBER(C6),ISNUMBER(D6)),MOD(D6-C6,1),0)+IF(AND(ISNUMBER(E6),ISNUMBER(F6)),MOD(F6-E6,1),0)-IF(ISNUMBER(G6),G6,0)/1440)*1440,0)/1440) | Q6: =IF(A6="","",IFERROR(INDEX(FeiertagNamen,MATCH(A6,FeiertagDaten,0)),"")) | R6: =IF(OR(H6="Urlaub",H6="Krank",H6="Bezahlt frei"),S6,IF(H6="Halber Urlaubstag",ROUND(S6*720,0)/1440,0)) | S6: =IF(OR(A6="",Q6<>"",H6="Unbezahlt",AA6=0),0,ROUND(CHOOSE(WEEKDAY(A6,2),N(SollMo),N(SollDi),N(SollMi),N(SollDo),N(SollFr),N(SollSa),N(SollSo))*1440,0)/1440) | T6: =P6+R6-S6 | U6: =IF(OR(A6="",NOT(ISNUMBER(C6)),NOT(ISNUMBER(D6))),"",A6+IF(AND(ISNUMBER(E6),ISNUMBER(F6)),F6+IF(E6<C6,1,0)+IF(F6<E6,1,0),D6+IF(D6<C6,1,0))) | V6: =IF(OR(A6="",NOT(ISNUMBER(C6))),"",A6+C6) | W6: =IF(OR(V6="",X5=0),"",ROUND((V6-X5)*1440,0)) | X6: =MAX(X5,N(U6)) | Y6: =IF(ISNUMBER(G6),G6,0)+IF(AND(ISNUMBER(D6),ISNUMBER(E6)),MAX(0,ROUND((E6+IF(E6<C6,1,0)-D6-IF(D6<C6,1,0))*1440,0)),0) | Z6: =IF(A6="","",IF(OR(ISNUMBER(C6)<>ISNUMBER(D6),ISNUMBER(E6)<>ISNUMBER(F6)),"Beginn oder Ende fehlt; ","")&IF(P6<0,"Pause länger als Arbeitszeit; ","")&IF(AND(ROUND(P6*1440,0)>360,ROUND(P6*1440,0)<=540,Y6<30),"Pause unter 30 Min. (§ 4); ","")&IF(AND(ROUND(P6*1440,0)>540,Y6<45),"Pause unter 45 Min. (§ 4); ","")&IF(ROUND(P6*1440,0)>600,"über 10 Std. (§ 3); ","")&IF(W6="","",IF(W6<0,"beginnt vor Ende des Vortags; ",IF(W6<660,"Ruhezeit unter 11 Std. (§ 5); ","")))&IF(AND(ISNUMBER(I6),ROUND(N(I6)*1440,0)>ROUND(P6*1440,0)),"Fahrzeit über Arbeitszeit; ","")&IF(AND(OR(H6="Urlaub",H6="Krank",H6="Bezahlt frei"),ROUND(P6*1440,0)>0),"Abwesenheit und Arbeitszeit; ","")&IF(AND(H6<>"",H6<>"Unbezahlt",S6=0),"Abwesenheit an freiem Tag zählt nicht; ","")) | AA6: =IF(A6="",0,IF(OR(A6<=TODAY(),COUNTA(C6:J6)>0),1,0))
A7: =IF(MONTH(DATE(Jahr,1,3))=1,DATE(Jahr,1,3),"") | B7: =IF(A7="","",CHOOSE(WEEKDAY(A7,2),"Mo","Di","Mi","Do","Fr","Sa","So")) | K7: =IF(OR(A7="",P7+R7<=0),"",P7+R7) | L7: =IF(OR(A7="",S7=0),"",S7) | M7: =IF(OR(A7="",AND(P7+R7=0,S7=0)),"",IF(T7<0,"-","+")&TEXT(ABS(T7),"[h]:mm")) | N7: =IF(A7="","",IF(Q7<>"","Feiertag: "&Q7&IF(Z7<>"","; ",""),"")&IF(Z7<>"",LEFT(Z7,LEN(Z7)-2),"")) | P7: =IF(A7="",0,ROUND((IF(AND(ISNUMBER(C7),ISNUMBER(D7)),MOD(D7-C7,1),0)+IF(AND(ISNUMBER(E7),ISNUMBER(F7)),MOD(F7-E7,1),0)-IF(ISNUMBER(G7),G7,0)/1440)*1440,0)/1440) | Q7: =IF(A7="","",IFERROR(INDEX(FeiertagNamen,MATCH(A7,FeiertagDaten,0)),"")) | R7: =IF(OR(H7="Urlaub",H7="Krank",H7="Bezahlt frei"),S7,IF(H7="Halber Urlaubstag",ROUND(S7*720,0)/1440,0)) | S7: =IF(OR(A7="",Q7<>"",H7="Unbezahlt",AA7=0),0,ROUND(CHOOSE(WEEKDAY(A7,2),N(SollMo),N(SollDi),N(SollMi),N(SollDo),N(SollFr),N(SollSa),N(SollSo))*1440,0)/1440) | T7: =P7+R7-S7 | U7: =IF(OR(A7="",NOT(ISNUMBER(C7)),NOT(ISNUMBER(D7))),"",A7+IF(AND(ISNUMBER(E7),ISNUMBER(F7)),F7+IF(E7<C7,1,0)+IF(F7<E7,1,0),D7+IF(D7<C7,1,0))) | V7: =IF(OR(A7="",NOT(ISNUMBER(C7))),"",A7+C7) | W7: =IF(OR(V7="",X6=0),"",ROUND((V7-X6)*1440,0)) | X7: =MAX(X6,N(U7)) | Y7: =IF(ISNUMBER(G7),G7,0)+IF(AND(ISNUMBER(D7),ISNUMBER(E7)),MAX(0,ROUND((E7+IF(E7<C7,1,0)-D7-IF(D7<C7,1,0))*1440,0)),0) | Z7: =IF(A7="","",IF(OR(ISNUMBER(C7)<>ISNUMBER(D7),ISNUMBER(E7)<>ISNUMBER(F7)),"Beginn oder Ende fehlt; ","")&IF(P7<0,"Pause länger als Arbeitszeit; ","")&IF(AND(ROUND(P7*1440,0)>360,ROUND(P7*1440,0)<=540,Y7<30),"Pause unter 30 Min. (§ 4); ","")&IF(AND(ROUND(P7*1440,0)>540,Y7<45),"Pause unter 45 Min. (§ 4); ","")&IF(ROUND(P7*1440,0)>600,"über 10 Std. (§ 3); ","")&IF(W7="","",IF(W7<0,"beginnt vor Ende des Vortags; ",IF(W7<660,"Ruhezeit unter 11 Std. (§ 5); ","")))&IF(AND(ISNUMBER(I7),ROUND(N(I7)*1440,0)>ROUND(P7*1440,0)),"Fahrzeit über Arbeitszeit; ","")&IF(AND(OR(H7="Urlaub",H7="Krank",H7="Bezahlt frei"),ROUND(P7*1440,0)>0),"Abwesenheit und Arbeitszeit; ","")&IF(AND(H7<>"",H7<>"Unbezahlt",S7=0),"Abwesenheit an freiem Tag zählt nicht; ","")) | AA7: =IF(A7="",0,IF(OR(A7<=TODAY(),COUNTA(C7:J7)>0),1,0))
A8: =IF(MONTH(DATE(Jahr,1,4))=1,DATE(Jahr,1,4),"") | B8: =IF(A8="","",CHOOSE(WEEKDAY(A8,2),"Mo","Di","Mi","Do","Fr","Sa","So")) | K8: =IF(OR(A8="",P8+R8<=0),"",P8+R8) | L8: =IF(OR(A8="",S8=0),"",S8) | M8: =IF(OR(A8="",AND(P8+R8=0,S8=0)),"",IF(T8<0,"-","+")&TEXT(ABS(T8),"[h]:mm")) | N8: =IF(A8="","",IF(Q8<>"","Feiertag: "&Q8&IF(Z8<>"","; ",""),"")&IF(Z8<>"",LEFT(Z8,LEN(Z8)-2),"")) | P8: =IF(A8="",0,ROUND((IF(AND(ISNUMBER(C8),ISNUMBER(D8)),MOD(D8-C8,1),0)+IF(AND(ISNUMBER(E8),ISNUMBER(F8)),MOD(F8-E8,1),0)-IF(ISNUMBER(G8),G8,0)/1440)*1440,0)/1440) | Q8: =IF(A8="","",IFERROR(INDEX(FeiertagNamen,MATCH(A8,FeiertagDaten,0)),"")) | R8: =IF(OR(H8="Urlaub",H8="Krank",H8="Bezahlt frei"),S8,IF(H8="Halber Urlaubstag",ROUND(S8*720,0)/1440,0)) | S8: =IF(OR(A8="",Q8<>"",H8="Unbezahlt",AA8=0),0,ROUND(CHOOSE(WEEKDAY(A8,2),N(SollMo),N(SollDi),N(SollMi),N(SollDo),N(SollFr),N(SollSa),N(SollSo))*1440,0)/1440) | T8: =P8+R8-S8 | U8: =IF(OR(A8="",NOT(ISNUMBER(C8)),NOT(ISNUMBER(D8))),"",A8+IF(AND(ISNUMBER(E8),ISNUMBER(F8)),F8+IF(E8<C8,1,0)+IF(F8<E8,1,0),D8+IF(D8<C8,1,0))) | V8: =IF(OR(A8="",NOT(ISNUMBER(C8))),"",A8+C8) | W8: =IF(OR(V8="",X7=0),"",ROUND((V8-X7)*1440,0)) | X8: =MAX(X7,N(U8)) | Y8: =IF(ISNUMBER(G8),G8,0)+IF(AND(ISNUMBER(D8),ISNUMBER(E8)),MAX(0,ROUND((E8+IF(E8<C8,1,0)-D8-IF(D8<C8,1,0))*1440,0)),0) | Z8: =IF(A8="","",IF(OR(ISNUMBER(C8)<>ISNUMBER(D8),ISNUMBER(E8)<>ISNUMBER(F8)),"Beginn oder Ende fehlt; ","")&IF(P8<0,"Pause länger als Arbeitszeit; ","")&IF(AND(ROUND(P8*1440,0)>360,ROUND(P8*1440,0)<=540,Y8<30),"Pause unter 30 Min. (§ 4); ","")&IF(AND(ROUND(P8*1440,0)>540,Y8<45),"Pause unter 45 Min. (§ 4); ","")&IF(ROUND(P8*1440,0)>600,"über 10 Std. (§ 3); ","")&IF(W8="","",IF(W8<0,"beginnt vor Ende des Vortags; ",IF(W8<660,"Ruhezeit unter 11 Std. (§ 5); ","")))&IF(AND(ISNUMBER(I8),ROUND(N(I8)*1440,0)>ROUND(P8*1440,0)),"Fahrzeit über Arbeitszeit; ","")&IF(AND(OR(H8="Urlaub",H8="Krank",H8="Bezahlt frei"),ROUND(P8*1440,0)>0),"Abwesenheit und Arbeitszeit; ","")&IF(AND(H8<>"",H8<>"Unbezahlt",S8=0),"Abwesenheit an freiem Tag zählt nicht; ","")) | AA8: =IF(A8="",0,IF(OR(A8<=TODAY(),COUNTA(C8:J8)>0),1,0))
A9: =IF(MONTH(DATE(Jahr,1,5))=1,DATE(Jahr,1,5),"") | B9: =IF(A9="","",CHOOSE(WEEKDAY(A9,2),"Mo","Di","Mi","Do","Fr","Sa","So")) | K9: =IF(OR(A9="",P9+R9<=0),"",P9+R9) | L9: =IF(OR(A9="",S9=0),"",S9) | M9: =IF(OR(A9="",AND(P9+R9=0,S9=0)),"",IF(T9<0,"-","+")&TEXT(ABS(T9),"[h]:mm")) | N9: =IF(A9="","",IF(Q9<>"","Feiertag: "&Q9&IF(Z9<>"","; ",""),"")&IF(Z9<>"",LEFT(Z9,LEN(Z9)-2),"")) | P9: =IF(A9="",0,ROUND((IF(AND(ISNUMBER(C9),ISNUMBER(D9)),MOD(D9-C9,1),0)+IF(AND(ISNUMBER(E9),ISNUMBER(F9)),MOD(F9-E9,1),0)-IF(ISNUMBER(G9),G9,0)/1440)*1440,0)/1440) | Q9: =IF(A9="","",IFERROR(INDEX(FeiertagNamen,MATCH(A9,FeiertagDaten,0)),"")) | R9: =IF(OR(H9="Urlaub",H9="Krank",H9="Bezahlt frei"),S9,IF(H9="Halber Urlaubstag",ROUND(S9*720,0)/1440,0)) | S9: =IF(OR(A9="",Q9<>"",H9="Unbezahlt",AA9=0),0,ROUND(CHOOSE(WEEKDAY(A9,2),N(SollMo),N(SollDi),N(SollMi),N(SollDo),N(SollFr),N(SollSa),N(SollSo))*1440,0)/1440) | T9: =P9+R9-S9 | U9: =IF(OR(A9="",NOT(ISNUMBER(C9)),NOT(ISNUMBER(D9))),"",A9+IF(AND(ISNUMBER(E9),ISNUMBER(F9)),F9+IF(E9<C9,1,0)+IF(F9<E9,1,0),D9+IF(D9<C9,1,0))) | V9: =IF(OR(A9="",NOT(ISNUMBER(C9))),"",A9+C9) | W9: =IF(OR(V9="",X8=0),"",ROUND((V9-X8)*1440,0)) | X9: =MAX(X8,N(U9)) | Y9: =IF(ISNUMBER(G9),G9,0)+IF(AND(ISNUMBER(D9),ISNUMBER(E9)),MAX(0,ROUND((E9+IF(E9<C9,1,0)-D9-IF(D9<C9,1,0))*1440,0)),0) | Z9: =IF(A9="","",IF(OR(ISNUMBER(C9)<>ISNUMBER(D9),ISNUMBER(E9)<>ISNUMBER(F9)),"Beginn oder Ende fehlt; ","")&IF(P9<0,"Pause länger als Arbeitszeit; ","")&IF(AND(ROUND(P9*1440,0)>360,ROUND(P9*1440,0)<=540,Y9<30),"Pause unter 30 Min. (§ 4); ","")&IF(AND(ROUND(P9*1440,0)>540,Y9<45),"Pause unter 45 Min. (§ 4); ","")&IF(ROUND(P9*1440,0)>600,"über 10 Std. (§ 3); ","")&IF(W9="","",IF(W9<0,"beginnt vor Ende des Vortags; ",IF(W9<660,"Ruhezeit unter 11 Std. (§ 5); ","")))&IF(AND(ISNUMBER(I9),ROUND(N(I9)*1440,0)>ROUND(P9*1440,0)),"Fahrzeit über Arbeitszeit; ","")&IF(AND(OR(H9="Urlaub",H9="Krank",H9="Bezahlt frei"),ROUND(P9*1440,0)>0),"Abwesenheit und Arbeitszeit; ","")&IF(AND(H9<>"",H9<>"Unbezahlt",S9=0),"Abwesenheit an freiem Tag zählt nicht; ","")) | AA9: =IF(A9="",0,IF(OR(A9<=TODAY(),COUNTA(C9:J9)>0),1,0))
A10: =IF(MONTH(DATE(Jahr,1,6))=1,DATE(Jahr,1,6),"") | B10: =IF(A10="","",CHOOSE(WEEKDAY(A10,2),"Mo","Di","Mi","Do","Fr","Sa","So")) | K10: =IF(OR(A10="",P10+R10<=0),"",P10+R10) | L10: =IF(OR(A10="",S10=0),"",S10) | M10: =IF(OR(A10="",AND(P10+R10=0,S10=0)),"",IF(T10<0,"-","+")&TEXT(ABS(T10),"[h]:mm")) | N10: =IF(A10="","",IF(Q10<>"","Feiertag: "&Q10&IF(Z10<>"","; ",""),"")&IF(Z10<>"",LEFT(Z10,LEN(Z10)-2),"")) | P10: =IF(A10="",0,ROUND((IF(AND(ISNUMBER(C10),ISNUMBER(D10)),MOD(D10-C10,1),0)+IF(AND(ISNUMBER(E10),ISNUMBER(F10)),MOD(F10-E10,1),0)-IF(ISNUMBER(G10),G10,0)/1440)*1440,0)/1440) | Q10: =IF(A10="","",IFERROR(INDEX(FeiertagNamen,MATCH(A10,FeiertagDaten,0)),"")) | R10: =IF(OR(H10="Urlaub",H10="Krank",H10="Bezahlt frei"),S10,IF(H10="Halber Urlaubstag",ROUND(S10*720,0)/1440,0)) | S10: =IF(OR(A10="",Q10<>"",H10="Unbezahlt",AA10=0),0,ROUND(CHOOSE(WEEKDAY(A10,2),N(SollMo),N(SollDi),N(SollMi),N(SollDo),N(SollFr),N(SollSa),N(SollSo))*1440,0)/1440) | T10: =P10+R10-S10 | U10: =IF(OR(A10="",NOT(ISNUMBER(C10)),NOT(ISNUMBER(D10))),"",A10+IF(AND(ISNUMBER(E10),ISNUMBER(F10)),F10+IF(E10<C10,1,0)+IF(F10<E10,1,0),D10+IF(D10<C10,1,0))) | V10: =IF(OR(A10="",NOT(ISNUMBER(C10))),"",A10+C10) | W10: =IF(OR(V10="",X9=0),"",ROUND((V10-X9)*1440,0)) | X10: =MAX(X9,N(U10)) | Y10: =IF(ISNUMBER(G10),G10,0)+IF(AND(ISNUMBER(D10),ISNUMBER(E10)),MAX(0,ROUND((E10+IF(E10<C10,1,0)-D10-IF(D10<C10,1,0))*1440,0)),0) | Z10: =IF(A10="","",IF(OR(ISNUMBER(C10)<>ISNUMBER(D10),ISNUMBER(E10)<>ISNUMBER(F10)),"Beginn oder Ende fehlt; ","")&IF(P10<0,"Pause länger als Arbeitszeit; ","")&IF(AND(ROUND(P10*1440,0)>360,ROUND(P10*1440,0)<=540,Y10<30),"Pause unter 30 Min. (§ 4); ","")&IF(AND(ROUND(P10*1440,0)>540,Y10<45),"Pause unter 45 Min. (§ 4); ","")&IF(ROUND(P10*1440,0)>600,"über 10 Std. (§ 3); ","")&IF(W10="","",IF(W10<0,"beginnt vor Ende des Vortags; ",IF(W10<660,"Ruhezeit unter 11 Std. (§ 5); ","")))&IF(AND(ISNUMBER(I10),ROUND(N(I10)*1440,0)>ROUND(P10*1440,0)),"Fahrzeit über Arbeitszeit; ","")&IF(AND(OR(H10="Urlaub",H10="Krank",H10="Bezahlt frei"),ROUND(P10*1440,0)>0),"Abwesenheit und Arbeitszeit; ","")&IF(AND(H10<>"",H10<>"Unbezahlt",S10=0),"Abwesenheit an freiem Tag zählt nicht; ","")) | AA10: =IF(A10="",0,IF(OR(A10<=TODAY(),COUNTA(C10:J10)>0),1,0))
A11: =IF(MONTH(DATE(Jahr,1,7))=1,DATE(Jahr,1,7),"") | B11: =IF(A11="","",CHOOSE(WEEKDAY(A11,2),"Mo","Di","Mi","Do","Fr","Sa","So")) | K11: =IF(OR(A11="",P11+R11<=0),"",P11+R11) | L11: =IF(OR(A11="",S11=0),"",S11) | M11: =IF(OR(A11="",AND(P11+R11=0,S11=0)),"",IF(T11<0,"-","+")&TEXT(ABS(T11),"[h]:mm")) | N11: =IF(A11="","",IF(Q11<>"","Feiertag: "&Q11&IF(Z11<>"","; ",""),"")&IF(Z11<>"",LEFT(Z11,LEN(Z11)-2),"")) | P11: =IF(A11="",0,ROUND((IF(AND(ISNUMBER(C11),ISNUMBER(D11)),MOD(D11-C11,1),0)+IF(AND(ISNUMBER(E11),ISNUMBER(F11)),MOD(F11-E11,1),0)-IF(ISNUMBER(G11),G11,0)/1440)*1440,0)/1440) | Q11: =IF(A11="","",IFERROR(INDEX(FeiertagNamen,MATCH(A11,FeiertagDaten,0)),"")) | R11: =IF(OR(H11="Urlaub",H11="Krank",H11="Bezahlt frei"),S11,IF(H11="Halber Urlaubstag",ROUND(S11*720,0)/1440,0)) | S11: =IF(OR(A11="",Q11<>"",H11="Unbezahlt",AA11=0),0,ROUND(CHOOSE(WEEKDAY(A11,2),N(SollMo),N(SollDi),N(SollMi),N(SollDo),N(SollFr),N(SollSa),N(SollSo))*1440,0)/1440) | T11: =P11+R11-S11 | U11: =IF(OR(A11="",NOT(ISNUMBER(C11)),NOT(ISNUMBER(D11))),"",A11+IF(AND(ISNUMBER(E11),ISNUMBER(F11)),F11+IF(E11<C11,1,0)+IF(F11<E11,1,0),D11+IF(D11<C11,1,0))) | V11: =IF(OR(A11="",NOT(ISNUMBER(C11))),"",A11+C11) | W11: =IF(OR(V11="",X10=0),"",ROUND((V11-X10)*1440,0)) | X11: =MAX(X10,N(U11)) | Y11: =IF(ISNUMBER(G11),G11,0)+IF(AND(ISNUMBER(D11),ISNUMBER(E11)),MAX(0,ROUND((E11+IF(E11<C11,1,0)-D11-IF(D11<C11,1,0))*1440,0)),0) | Z11: =IF(A11="","",IF(OR(ISNUMBER(C11)<>ISNUMBER(D11),ISNUMBER(E11)<>ISNUMBER(F11)),"Beginn oder Ende fehlt; ","")&IF(P11<0,"Pause länger als Arbeitszeit; ","")&IF(AND(ROUND(P11*1440,0)>360,ROUND(P11*1440,0)<=540,Y11<30),"Pause unter 30 Min. (§ 4); ","")&IF(AND(ROUND(P11*1440,0)>540,Y11<45),"Pause unter 45 Min. (§ 4); ","")&IF(ROUND(P11*1440,0)>600,"über 10 Std. (§ 3); ","")&IF(W11="","",IF(W11<0,"beginnt vor Ende des Vortags; ",IF(W11<660,"Ruhezeit unter 11 Std. (§ 5); ","")))&IF(AND(ISNUMBER(I11),ROUND(N(I11)*1440,0)>ROUND(P11*1440,0)),"Fahrzeit über Arbeitszeit; ","")&IF(AND(OR(H11="Urlaub",H11="Krank",H11="Bezahlt frei"),ROUND(P11*1440,0)>0),"Abwesenheit und Arbeitszeit; ","")&IF(AND(H11<>"",H11<>"Unbezahlt",S11=0),"Abwesenheit an freiem Tag zählt nicht; ","")) | AA11: =IF(A11="",0,IF(OR(A11<=TODAY(),COUNTA(C11:J11)>0),1,0))
A12: =IF(MONTH(DATE(Jahr,1,8))=1,DATE(Jahr,1,8),"") | B12: =IF(A12="","",CHOOSE(WEEKDAY(A12,2),"Mo","Di","Mi","Do","Fr","Sa","So")) | K12: =IF(OR(A12="",P12+R12<=0),"",P12+R12) | L12: =IF(OR(A12="",S12=0),"",S12) | M12: =IF(OR(A12="",AND(P12+R12=0,S12=0)),"",IF(T12<0,"-","+")&TEXT(ABS(T12),"[h]:mm")) | N12: =IF(A12="","",IF(Q12<>"","Feiertag: "&Q12&IF(Z12<>"","; ",""),"")&IF(Z12<>"",LEFT(Z12,LEN(Z12)-2),"")) | P12: =IF(A12="",0,ROUND((IF(AND(ISNUMBER(C12),ISNUMBER(D12)),MOD(D12-C12,1),0)+IF(AND(ISNUMBER(E12),ISNUMBER(F12)),MOD(F12-E12,1),0)-IF(ISNUMBER(G12),G12,0)/1440)*1440,0)/1440) | Q12: =IF(A12="","",IFERROR(INDEX(FeiertagNamen,MATCH(A12,FeiertagDaten,0)),"")) | R12: =IF(OR(H12="Urlaub",H12="Krank",H12="Bezahlt frei"),S12,IF(H12="Halber Urlaubstag",ROUND(S12*720,0)/1440,0)) | S12: =IF(OR(A12="",Q12<>"",H12="Unbezahlt",AA12=0),0,ROUND(CHOOSE(WEEKDAY(A12,2),N(SollMo),N(SollDi),N(SollMi),N(SollDo),N(SollFr),N(SollSa),N(SollSo))*1440,0)/1440) | T12: =P12+R12-S12 | U12: =IF(OR(A12="",NOT(ISNUMBER(C12)),NOT(ISNUMBER(D12))),"",A12+IF(AND(ISNUMBER(E12),ISNUMBER(F12)),F12+IF(E12<C12,1,0)+IF(F12<E12,1,0),D12+IF(D12<C12,1,0))) | V12: =IF(OR(A12="",NOT(ISNUMBER(C12))),"",A12+C12) | W12: =IF(OR(V12="",X11=0),"",ROUND((V12-X11)*1440,0)) | X12: =MAX(X11,N(U12)) | Y12: =IF(ISNUMBER(G12),G12,0)+IF(AND(ISNUMBER(D12),ISNUMBER(E12)),MAX(0,ROUND((E12+IF(E12<C12,1,0)-D12-IF(D12<C12,1,0))*1440,0)),0) | Z12: =IF(A12="","",IF(OR(ISNUMBER(C12)<>ISNUMBER(D12),ISNUMBER(E12)<>ISNUMBER(F12)),"Beginn oder Ende fehlt; ","")&IF(P12<0,"Pause länger als Arbeitszeit; ","")&IF(AND(ROUND(P12*1440,0)>360,ROUND(P12*1440,0)<=540,Y12<30),"Pause unter 30 Min. (§ 4); ","")&IF(AND(ROUND(P12*1440,0)>540,Y12<45),"Pause unter 45 Min. (§ 4); ","")&IF(ROUND(P12*1440,0)>600,"über 10 Std. (§ 3); ","")&IF(W12="","",IF(W12<0,"beginnt vor Ende des Vortags; ",IF(W12<660,"Ruhezeit unter 11 Std. (§ 5); ","")))&IF(AND(ISNUMBER(I12),ROUND(N(I12)*1440,0)>ROUND(P12*1440,0)),"Fahrzeit über Arbeitszeit; ","")&IF(AND(OR(H12="Urlaub",H12="Krank",H12="Bezahlt frei"),ROUND(P12*1440,0)>0),"Abwesenheit und Arbeitszeit; ","")&IF(AND(H12<>"",H12<>"Unbezahlt",S12=0),"Abwesenheit an freiem Tag zählt nicht; ","")) | AA12: =IF(A12="",0,IF(OR(A12<=TODAY(),COUNTA(C12:J12)>0),1,0))
A13: =IF(MONTH(DATE(Jahr,1,9))=1,DATE(Jahr,1,9),"") | B13: =IF(A13="","",CHOOSE(WEEKDAY(A13,2),"Mo","Di","Mi","Do","Fr","Sa","So")) | K13: =IF(OR(A13="",P13+R13<=0),"",P13+R13) | L13: =IF(OR(A13="",S13=0),"",S13) | M13: =IF(OR(A13="",AND(P13+R13=0,S13=0)),"",IF(T13<0,"-","+")&TEXT(ABS(T13),"[h]:mm")) | N13: =IF(A13="","",IF(Q13<>"","Feiertag: "&Q13&IF(Z13<>"","; ",""),"")&IF(Z13<>"",LEFT(Z13,LEN(Z13)-2),"")) | P13: =IF(A13="",0,ROUND((IF(AND(ISNUMBER(C13),ISNUMBER(D13)),MOD(D13-C13,1),0)+IF(AND(ISNUMBER(E13),ISNUMBER(F13)),MOD(F13-E13,1),0)-IF(ISNUMBER(G13),G13,0)/1440)*1440,0)/1440) | Q13: =IF(A13="","",IFERROR(INDEX(FeiertagNamen,MATCH(A13,FeiertagDaten,0)),"")) | R13: =IF(OR(H13="Urlaub",H13="Krank",H13="Bezahlt frei"),S13,IF(H13="Halber Urlaubstag",ROUND(S13*720,0)/1440,0)) | S13: =IF(OR(A13="",Q13<>"",H13="Unbezahlt",AA13=0),0,ROUND(CHOOSE(WEEKDAY(A13,2),N(SollMo),N(SollDi),N(SollMi),N(SollDo),N(SollFr),N(SollSa),N(SollSo))*1440,0)/1440) | T13: =P13+R13-S13 | U13: =IF(OR(A13="",NOT(ISNUMBER(C13)),NOT(ISNUMBER(D13))),"",A13+IF(AND(ISNUMBER(E13),ISNUMBER(F13)),F13+IF(E13<C13,1,0)+IF(F13<E13,1,0),D13+IF(D13<C13,1,0))) | V13: =IF(OR(A13="",NOT(ISNUMBER(C13))),"",A13+C13) | W13: =IF(OR(V13="",X12=0),"",ROUND((V13-X12)*1440,0)) | X13: =MAX(X12,N(U13)) | Y13: =IF(ISNUMBER(G13),G13,0)+IF(AND(ISNUMBER(D13),ISNUMBER(E13)),MAX(0,ROUND((E13+IF(E13<C13,1,0)-D13-IF(D13<C13,1,0))*1440,0)),0) | Z13: =IF(A13="","",IF(OR(ISNUMBER(C13)<>ISNUMBER(D13),ISNUMBER(E13)<>ISNUMBER(F13)),"Beginn oder Ende fehlt; ","")&IF(P13<0,"Pause länger als Arbeitszeit; ","")&IF(AND(ROUND(P13*1440,0)>360,ROUND(P13*1440,0)<=540,Y13<30),"Pause unter 30 Min. (§ 4); ","")&IF(AND(ROUND(P13*1440,0)>540,Y13<45),"Pause unter 45 Min. (§ 4); ","")&IF(ROUND(P13*1440,0)>600,"über 10 Std. (§ 3); ","")&IF(W13="","",IF(W13<0,"beginnt vor Ende des Vortags; ",IF(W13<660,"Ruhezeit unter 11 Std. (§ 5); ","")))&IF(AND(ISNUMBER(I13),ROUND(N(I13)*1440,0)>ROUND(P13*1440,0)),"Fahrzeit über Arbeitszeit; ","")&IF(AND(OR(H13="Urlaub",H13="Krank",H13="Bezahlt frei"),ROUND(P13*1440,0)>0),"Abwesenheit und Arbeitszeit; ","")&IF(AND(H13<>"",H13<>"Unbezahlt",S13=0),"Abwesenheit an freiem Tag zählt nicht; ","")) | AA13: =IF(A13="",0,IF(OR(A13<=TODAY(),COUNTA(C13:J13)>0),1,0))
A14: =IF(MONTH(DATE(Jahr,1,10))=1,DATE(Jahr,1,10),"") | B14: =IF(A14="","",CHOOSE(WEEKDAY(A14,2),"Mo","Di","Mi","Do","Fr","Sa","So")) | K14: =IF(OR(A14="",P14+R14<=0),"",P14+R14) | L14: =IF(OR(A14="",S14=0),"",S14) | M14: =IF(OR(A14="",AND(P14+R14=0,S14=0)),"",IF(T14<0,"-","+")&TEXT(ABS(T14),"[h]:mm")) | N14: =IF(A14="","",IF(Q14<>"","Feiertag: "&Q14&IF(Z14<>"","; ",""),"")&IF(Z14<>"",LEFT(Z14,LEN(Z14)-2),"")) | P14: =IF(A14="",0,ROUND((IF(AND(ISNUMBER(C14),ISNUMBER(D14)),MOD(D14-C14,1),0)+IF(AND(ISNUMBER(E14),ISNUMBER(F14)),MOD(F14-E14,1),0)-IF(ISNUMBER(G14),G14,0)/1440)*1440,0)/1440) | Q14: =IF(A14="","",IFERROR(INDEX(FeiertagNamen,MATCH(A14,FeiertagDaten,0)),"")) | R14: =IF(OR(H14="Urlaub",H14="Krank",H14="Bezahlt frei"),S14,IF(H14="Halber Urlaubstag",ROUND(S14*720,0)/1440,0)) | S14: =IF(OR(A14="",Q14<>"",H14="Unbezahlt",AA14=0),0,ROUND(CHOOSE(WEEKDAY(A14,2),N(SollMo),N(SollDi),N(SollMi),N(SollDo),N(SollFr),N(SollSa),N(SollSo))*1440,0)/1440) | T14: =P14+R14-S14 | U14: =IF(OR(A14="",NOT(ISNUMBER(C14)),NOT(ISNUMBER(D14))),"",A14+IF(AND(ISNUMBER(E14),ISNUMBER(F14)),F14+IF(E14<C14,1,0)+IF(F14<E14,1,0),D14+IF(D14<C14,1,0))) | V14: =IF(OR(A14="",NOT(ISNUMBER(C14))),"",A14+C14) | W14: =IF(OR(V14="",X13=0),"",ROUND((V14-X13)*1440,0)) | X14: =MAX(X13,N(U14)) | Y14: =IF(ISNUMBER(G14),G14,0)+IF(AND(ISNUMBER(D14),ISNUMBER(E14)),MAX(0,ROUND((E14+IF(E14<C14,1,0)-D14-IF(D14<C14,1,0))*1440,0)),0) | Z14: =IF(A14="","",IF(OR(ISNUMBER(C14)<>ISNUMBER(D14),ISNUMBER(E14)<>ISNUMBER(F14)),"Beginn oder Ende fehlt; ","")&IF(P14<0,"Pause länger als Arbeitszeit; ","")&IF(AND(ROUND(P14*1440,0)>360,ROUND(P14*1440,0)<=540,Y14<30),"Pause unter 30 Min. (§ 4); ","")&IF(AND(ROUND(P14*1440,0)>540,Y14<45),"Pause unter 45 Min. (§ 4); ","")&IF(ROUND(P14*1440,0)>600,"über 10 Std. (§ 3); ","")&IF(W14="","",IF(W14<0,"beginnt vor Ende des Vortags; ",IF(W14<660,"Ruhezeit unter 11 Std. (§ 5); ","")))&IF(AND(ISNUMBER(I14),ROUND(N(I14)*1440,0)>ROUND(P14*1440,0)),"Fahrzeit über Arbeitszeit; ","")&IF(AND(OR(H14="Urlaub",H14="Krank",H14="Bezahlt frei"),ROUND(P14*1440,0)>0),"Abwesenheit und Arbeitszeit; ","")&IF(AND(H14<>"",H14<>"Unbezahlt",S14=0),"Abwesenheit an freiem Tag zählt nicht; ","")) | AA14: =IF(A14="",0,IF(OR(A14<=TODAY(),COUNTA(C14:J14)>0),1,0))
A15: =IF(MONTH(DATE(Jahr,1,11))=1,DATE(Jahr,1,11),"") | B15: =IF(A15="","",CHOOSE(WEEKDAY(A15,2),"Mo","Di","Mi","Do","Fr","Sa","So")) | K15: =IF(OR(A15="",P15+R15<=0),"",P15+R15) | L15: =IF(OR(A15="",S15=0),"",S15) | M15: =IF(OR(A15="",AND(P15+R15=0,S15=0)),"",IF(T15<0,"-","+")&TEXT(ABS(T15),"[h]:mm")) | N15: =IF(A15="","",IF(Q15<>"","Feiertag: "&Q15&IF(Z15<>"","; ",""),"")&IF(Z15<>"",LEFT(Z15,LEN(Z15)-2),"")) | P15: =IF(A15="",0,ROUND((IF(AND(ISNUMBER(C15),ISNUMBER(D15)),MOD(D15-C15,1),0)+IF(AND(ISNUMBER(E15),ISNUMBER(F15)),MOD(F15-E15,1),0)-IF(ISNUMBER(G15),G15,0)/1440)*1440,0)/1440) | Q15: =IF(A15="","",IFERROR(INDEX(FeiertagNamen,MATCH(A15,FeiertagDaten,0)),"")) | R15: =IF(OR(H15="Urlaub",H15="Krank",H15="Bezahlt frei"),S15,IF(H15="Halber Urlaubstag",ROUND(S15*720,0)/1440,0)) | S15: =IF(OR(A15="",Q15<>"",H15="Unbezahlt",AA15=0),0,ROUND(CHOOSE(WEEKDAY(A15,2),N(SollMo),N(SollDi),N(SollMi),N(SollDo),N(SollFr),N(SollSa),N(SollSo))*1440,0)/1440) | T15: =P15+R15-S15 | U15: =IF(OR(A15="",NOT(ISNUMBER(C15)),NOT(ISNUMBER(D15))),"",A15+IF(AND(ISNUMBER(E15),ISNUMBER(F15)),F15+IF(E15<C15,1,0)+IF(F15<E15,1,0),D15+IF(D15<C15,1,0))) | V15: =IF(OR(A15="",NOT(ISNUMBER(C15))),"",A15+C15) | W15: =IF(OR(V15="",X14=0),"",ROUND((V15-X14)*1440,0)) | X15: =MAX(X14,N(U15)) | Y15: =IF(ISNUMBER(G15),G15,0)+IF(AND(ISNUMBER(D15),ISNUMBER(E15)),MAX(0,ROUND((E15+IF(E15<C15,1,0)-D15-IF(D15<C15,1,0))*1440,0)),0) | Z15: =IF(A15="","",IF(OR(ISNUMBER(C15)<>ISNUMBER(D15),ISNUMBER(E15)<>ISNUMBER(F15)),"Beginn oder Ende fehlt; ","")&IF(P15<0,"Pause länger als Arbeitszeit; ","")&IF(AND(ROUND(P15*1440,0)>360,ROUND(P15*1440,0)<=540,Y15<30),"Pause unter 30 Min. (§ 4); ","")&IF(AND(ROUND(P15*1440,0)>540,Y15<45),"Pause unter 45 Min. (§ 4); ","")&IF(ROUND(P15*1440,0)>600,"über 10 Std. (§ 3); ","")&IF(W15="","",IF(W15<0,"beginnt vor Ende des Vortags; ",IF(W15<660,"Ruhezeit unter 11 Std. (§ 5); ","")))&IF(AND(ISNUMBER(I15),ROUND(N(I15)*1440,0)>ROUND(P15*1440,0)),"Fahrzeit über Arbeitszeit; ","")&IF(AND(OR(H15="Urlaub",H15="Krank",H15="Bezahlt frei"),ROUND(P15*1440,0)>0),"Abwesenheit und Arbeitszeit; ","")&IF(AND(H15<>"",H15<>"Unbezahlt",S15=0),"Abwesenheit an freiem Tag zählt nicht; ","")) | AA15: =IF(A15="",0,IF(OR(A15<=TODAY(),COUNTA(C15:J15)>0),1,0))
A16: =IF(MONTH(DATE(Jahr,1,12))=1,DATE(Jahr,1,12),"") | B16: =IF(A16="","",CHOOSE(WEEKDAY(A16,2),"Mo","Di","Mi","Do","Fr","Sa","So")) | K16: =IF(OR(A16="",P16+R16<=0),"",P16+R16) | L16: =IF(OR(A16="",S16=0),"",S16) | M16: =IF(OR(A16="",AND(P16+R16=0,S16=0)),"",IF(T16<0,"-","+")&TEXT(ABS(T16),"[h]:mm")) | N16: =IF(A16="","",IF(Q16<>"","Feiertag: "&Q16&IF(Z16<>"","; ",""),"")&IF(Z16<>"",LEFT(Z16,LEN(Z16)-2),"")) | P16: =IF(A16="",0,ROUND((IF(AND(ISNUMBER(C16),ISNUMBER(D16)),MOD(D16-C16,1),0)+IF(AND(ISNUMBER(E16),ISNUMBER(F16)),MOD(F16-E16,1),0)-IF(ISNUMBER(G16),G16,0)/1440)*1440,0)/1440) | Q16: =IF(A16="","",IFERROR(INDEX(FeiertagNamen,MATCH(A16,FeiertagDaten,0)),"")) | R16: =IF(OR(H16="Urlaub",H16="Krank",H16="Bezahlt frei"),S16,IF(H16="Halber Urlaubstag",ROUND(S16*720,0)/1440,0)) | S16: =IF(OR(A16="",Q16<>"",H16="Unbezahlt",AA16=0),0,ROUND(CHOOSE(WEEKDAY(A16,2),N(SollMo),N(SollDi),N(SollMi),N(SollDo),N(SollFr),N(SollSa),N(SollSo))*1440,0)/1440) | T16: =P16+R16-S16 | U16: =IF(OR(A16="",NOT(ISNUMBER(C16)),NOT(ISNUMBER(D16))),"",A16+IF(AND(ISNUMBER(E16),ISNUMBER(F16)),F16+IF(E16<C16,1,0)+IF(F16<E16,1,0),D16+IF(D16<C16,1,0))) | V16: =IF(OR(A16="",NOT(ISNUMBER(C16))),"",A16+C16) | W16: =IF(OR(V16="",X15=0),"",ROUND((V16-X15)*1440,0)) | X16: =MAX(X15,N(U16)) | Y16: =IF(ISNUMBER(G16),G16,0)+IF(AND(ISNUMBER(D16),ISNUMBER(E16)),MAX(0,ROUND((E16+IF(E16<C16,1,0)-D16-IF(D16<C16,1,0))*1440,0)),0) | Z16: =IF(A16="","",IF(OR(ISNUMBER(C16)<>ISNUMBER(D16),ISNUMBER(E16)<>ISNUMBER(F16)),"Beginn oder Ende fehlt; ","")&IF(P16<0,"Pause länger als Arbeitszeit; ","")&IF(AND(ROUND(P16*1440,0)>360,ROUND(P16*1440,0)<=540,Y16<30),"Pause unter 30 Min. (§ 4); ","")&IF(AND(ROUND(P16*1440,0)>540,Y16<45),"Pause unter 45 Min. (§ 4); ","")&IF(ROUND(P16*1440,0)>600,"über 10 Std. (§ 3); ","")&IF(W16="","",IF(W16<0,"beginnt vor Ende des Vortags; ",IF(W16<660,"Ruhezeit unter 11 Std. (§ 5); ","")))&IF(AND(ISNUMBER(I16),ROUND(N(I16)*1440,0)>ROUND(P16*1440,0)),"Fahrzeit über Arbeitszeit; ","")&IF(AND(OR(H16="Urlaub",H16="Krank",H16="Bezahlt frei"),ROUND(P16*1440,0)>0),"Abwesenheit und Arbeitszeit; ","")&IF(AND(H16<>"",H16<>"Unbezahlt",S16=0),"Abwesenheit an freiem Tag zählt nicht; ","")) | AA16: =IF(A16="",0,IF(OR(A16<=TODAY(),COUNTA(C16:J16)>0),1,0))
A17: =IF(MONTH(DATE(Jahr,1,13))=1,DATE(Jahr,1,13),"") | B17: =IF(A17="","",CHOOSE(WEEKDAY(A17,2),"Mo","Di","Mi","Do","Fr","Sa","So")) | K17: =IF(OR(A17="",P17+R17<=0),"",P17+R17) | L17: =IF(OR(A17="",S17=0),"",S17) | M17: =IF(OR(A17="",AND(P17+R17=0,S17=0)),"",IF(T17<0,"-","+")&TEXT(ABS(T17),"[h]:mm")) | N17: =IF(A17="","",IF(Q17<>"","Feiertag: "&Q17&IF(Z17<>"","; ",""),"")&IF(Z17<>"",LEFT(Z17,LEN(Z17)-2),"")) | P17: =IF(A17="",0,ROUND((IF(AND(ISNUMBER(C17),ISNUMBER(D17)),MOD(D17-C17,1),0)+IF(AND(ISNUMBER(E17),ISNUMBER(F17)),MOD(F17-E17,1),0)-IF(ISNUMBER(G17),G17,0)/1440)*1440,0)/1440) | Q17: =IF(A17="","",IFERROR(INDEX(FeiertagNamen,MATCH(A17,FeiertagDaten,0)),"")) | R17: =IF(OR(H17="Urlaub",H17="Krank",H17="Bezahlt frei"),S17,IF(H17="Halber Urlaubstag",ROUND(S17*720,0)/1440,0)) | S17: =IF(OR(A17="",Q17<>"",H17="Unbezahlt",AA17=0),0,ROUND(CHOOSE(WEEKDAY(A17,2),N(SollMo),N(SollDi),N(SollMi),N(SollDo),N(SollFr),N(SollSa),N(SollSo))*1440,0)/1440) | T17: =P17+R17-S17 | U17: =IF(OR(A17="",NOT(ISNUMBER(C17)),NOT(ISNUMBER(D17))),"",A17+IF(AND(ISNUMBER(E17),ISNUMBER(F17)),F17+IF(E17<C17,1,0)+IF(F17<E17,1,0),D17+IF(D17<C17,1,0))) | V17: =IF(OR(A17="",NOT(ISNUMBER(C17))),"",A17+C17) | W17: =IF(OR(V17="",X16=0),"",ROUND((V17-X16)*1440,0)) | X17: =MAX(X16,N(U17)) | Y17: =IF(ISNUMBER(G17),G17,0)+IF(AND(ISNUMBER(D17),ISNUMBER(E17)),MAX(0,ROUND((E17+IF(E17<C17,1,0)-D17-IF(D17<C17,1,0))*1440,0)),0) | Z17: =IF(A17="","",IF(OR(ISNUMBER(C17)<>ISNUMBER(D17),ISNUMBER(E17)<>ISNUMBER(F17)),"Beginn oder Ende fehlt; ","")&IF(P17<0,"Pause länger als Arbeitszeit; ","")&IF(AND(ROUND(P17*1440,0)>360,ROUND(P17*1440,0)<=540,Y17<30),"Pause unter 30 Min. (§ 4); ","")&IF(AND(ROUND(P17*1440,0)>540,Y17<45),"Pause unter 45 Min. (§ 4); ","")&IF(ROUND(P17*1440,0)>600,"über 10 Std. (§ 3); ","")&IF(W17="","",IF(W17<0,"beginnt vor Ende des Vortags; ",IF(W17<660,"Ruhezeit unter 11 Std. (§ 5); ","")))&IF(AND(ISNUMBER(I17),ROUND(N(I17)*1440,0)>ROUND(P17*1440,0)),"Fahrzeit über Arbeitszeit; ","")&IF(AND(OR(H17="Urlaub",H17="Krank",H17="Bezahlt frei"),ROUND(P17*1440,0)>0),"Abwesenheit und Arbeitszeit; ","")&IF(AND(H17<>"",H17<>"Unbezahlt",S17=0),"Abwesenheit an freiem Tag zählt nicht; ","")) | AA17: =IF(A17="",0,IF(OR(A17<=TODAY(),COUNTA(C17:J17)>0),1,0))
A18: =IF(MONTH(DATE(Jahr,1,14))=1,DATE(Jahr,1,14),"") | B18: =IF(A18="","",CHOOSE(WEEKDAY(A18,2),"Mo","Di","Mi","Do","Fr","Sa","So")) | K18: =IF(OR(A18="",P18+R18<=0),"",P18+R18) | L18: =IF(OR(A18="",S18=0),"",S18) | M18: =IF(OR(A18="",AND(P18+R18=0,S18=0)),"",IF(T18<0,"-","+")&TEXT(ABS(T18),"[h]:mm")) | N18: =IF(A18="","",IF(Q18<>"","Feiertag: "&Q18&IF(Z18<>"","; ",""),"")&IF(Z18<>"",LEFT(Z18,LEN(Z18)-2),"")) | P18: =IF(A18="",0,ROUND((IF(AND(ISNUMBER(C18),ISNUMBER(D18)),MOD(D18-C18,1),0)+IF(AND(ISNUMBER(E18),ISNUMBER(F18)),MOD(F18-E18,1),0)-IF(ISNUMBER(G18),G18,0)/1440)*1440,0)/1440) | Q18: =IF(A18="","",IFERROR(INDEX(FeiertagNamen,MATCH(A18,FeiertagDaten,0)),"")) | R18: =IF(OR(H18="Urlaub",H18="Krank",H18="Bezahlt frei"),S18,IF(H18="Halber Urlaubstag",ROUND(S18*720,0)/1440,0)) | S18: =IF(OR(A18="",Q18<>"",H18="Unbezahlt",AA18=0),0,ROUND(CHOOSE(WEEKDAY(A18,2),N(SollMo),N(SollDi),N(SollMi),N(SollDo),N(SollFr),N(SollSa),N(SollSo))*1440,0)/1440) | T18: =P18+R18-S18 | U18: =IF(OR(A18="",NOT(ISNUMBER(C18)),NOT(ISNUMBER(D18))),"",A18+IF(AND(ISNUMBER(E18),ISNUMBER(F18)),F18+IF(E18<C18,1,0)+IF(F18<E18,1,0),D18+IF(D18<C18,1,0))) | V18: =IF(OR(A18="",NOT(ISNUMBER(C18))),"",A18+C18) | W18: =IF(OR(V18="",X17=0),"",ROUND((V18-X17)*1440,0)) | X18: =MAX(X17,N(U18)) | Y18: =IF(ISNUMBER(G18),G18,0)+IF(AND(ISNUMBER(D18),ISNUMBER(E18)),MAX(0,ROUND((E18+IF(E18<C18,1,0)-D18-IF(D18<C18,1,0))*1440,0)),0) | Z18: =IF(A18="","",IF(OR(ISNUMBER(C18)<>ISNUMBER(D18),ISNUMBER(E18)<>ISNUMBER(F18)),"Beginn oder Ende fehlt; ","")&IF(P18<0,"Pause länger als Arbeitszeit; ","")&IF(AND(ROUND(P18*1440,0)>360,ROUND(P18*1440,0)<=540,Y18<30),"Pause unter 30 Min. (§ 4); ","")&IF(AND(ROUND(P18*1440,0)>540,Y18<45),"Pause unter 45 Min. (§ 4); ","")&IF(ROUND(P18*1440,0)>600,"über 10 Std. (§ 3); ","")&IF(W18="","",IF(W18<0,"beginnt vor Ende des Vortags; ",IF(W18<660,"Ruhezeit unter 11 Std. (§ 5); ","")))&IF(AND(ISNUMBER(I18),ROUND(N(I18)*1440,0)>ROUND(P18*1440,0)),"Fahrzeit über Arbeitszeit; ","")&IF(AND(OR(H18="Urlaub",H18="Krank",H18="Bezahlt frei"),ROUND(P18*1440,0)>0),"Abwesenheit und Arbeitszeit; ","")&IF(AND(H18<>"",H18<>"Unbezahlt",S18=0),"Abwesenheit an freiem Tag zählt nicht; ","")) | AA18: =IF(A18="",0,IF(OR(A18<=TODAY(),COUNTA(C18:J18)>0),1,0))
A19: =IF(MONTH(DATE(Jahr,1,15))=1,DATE(Jahr,1,15),"") | B19: =IF(A19="","",CHOOSE(WEEKDAY(A19,2),"Mo","Di","Mi","Do","Fr","Sa","So")) | K19: =IF(OR(A19="",P19+R19<=0),"",P19+R19) | L19: =IF(OR(A19="",S19=0),"",S19) | M19: =IF(OR(A19="",AND(P19+R19=0,S19=0)),"",IF(T19<0,"-","+")&TEXT(ABS(T19),"[h]:mm")) | N19: =IF(A19="","",IF(Q19<>"","Feiertag: "&Q19&IF(Z19<>"","; ",""),"")&IF(Z19<>"",LEFT(Z19,LEN(Z19)-2),"")) | P19: =IF(A19="",0,ROUND((IF(AND(ISNUMBER(C19),ISNUMBER(D19)),MOD(D19-C19,1),0)+IF(AND(ISNUMBER(E19),ISNUMBER(F19)),MOD(F19-E19,1),0)-IF(ISNUMBER(G19),G19,0)/1440)*1440,0)/1440) | Q19: =IF(A19="","",IFERROR(INDEX(FeiertagNamen,MATCH(A19,FeiertagDaten,0)),"")) | R19: =IF(OR(H19="Urlaub",H19="Krank",H19="Bezahlt frei"),S19,IF(H19="Halber Urlaubstag",ROUND(S19*720,0)/1440,0)) | S19: =IF(OR(A19="",Q19<>"",H19="Unbezahlt",AA19=0),0,ROUND(CHOOSE(WEEKDAY(A19,2),N(SollMo),N(SollDi),N(SollMi),N(SollDo),N(SollFr),N(SollSa),N(SollSo))*1440,0)/1440) | T19: =P19+R19-S19 | U19: =IF(OR(A19="",NOT(ISNUMBER(C19)),NOT(ISNUMBER(D19))),"",A19+IF(AND(ISNUMBER(E19),ISNUMBER(F19)),F19+IF(E19<C19,1,0)+IF(F19<E19,1,0),D19+IF(D19<C19,1,0))) | V19: =IF(OR(A19="",NOT(ISNUMBER(C19))),"",A19+C19) | W19: =IF(OR(V19="",X18=0),"",ROUND((V19-X18)*1440,0)) | X19: =MAX(X18,N(U19)) | Y19: =IF(ISNUMBER(G19),G19,0)+IF(AND(ISNUMBER(D19),ISNUMBER(E19)),MAX(0,ROUND((E19+IF(E19<C19,1,0)-D19-IF(D19<C19,1,0))*1440,0)),0) | Z19: =IF(A19="","",IF(OR(ISNUMBER(C19)<>ISNUMBER(D19),ISNUMBER(E19)<>ISNUMBER(F19)),"Beginn oder Ende fehlt; ","")&IF(P19<0,"Pause länger als Arbeitszeit; ","")&IF(AND(ROUND(P19*1440,0)>360,ROUND(P19*1440,0)<=540,Y19<30),"Pause unter 30 Min. (§ 4); ","")&IF(AND(ROUND(P19*1440,0)>540,Y19<45),"Pause unter 45 Min. (§ 4); ","")&IF(ROUND(P19*1440,0)>600,"über 10 Std. (§ 3); ","")&IF(W19="","",IF(W19<0,"beginnt vor Ende des Vortags; ",IF(W19<660,"Ruhezeit unter 11 Std. (§ 5); ","")))&IF(AND(ISNUMBER(I19),ROUND(N(I19)*1440,0)>ROUND(P19*1440,0)),"Fahrzeit über Arbeitszeit; ","")&IF(AND(OR(H19="Urlaub",H19="Krank",H19="Bezahlt frei"),ROUND(P19*1440,0)>0),"Abwesenheit und Arbeitszeit; ","")&IF(AND(H19<>"",H19<>"Unbezahlt",S19=0),"Abwesenheit an freiem Tag zählt nicht; ","")) | AA19: =IF(A19="",0,IF(OR(A19<=TODAY(),COUNTA(C19:J19)>0),1,0))
A20: =IF(MONTH(DATE(Jahr,1,16))=1,DATE(Jahr,1,16),"") | B20: =IF(A20="","",CHOOSE(WEEKDAY(A20,2),"Mo","Di","Mi","Do","Fr","Sa","So")) | K20: =IF(OR(A20="",P20+R20<=0),"",P20+R20) | L20: =IF(OR(A20="",S20=0),"",S20) | M20: =IF(OR(A20="",AND(P20+R20=0,S20=0)),"",IF(T20<0,"-","+")&TEXT(ABS(T20),"[h]:mm")) | N20: =IF(A20="","",IF(Q20<>"","Feiertag: "&Q20&IF(Z20<>"","; ",""),"")&IF(Z20<>"",LEFT(Z20,LEN(Z20)-2),"")) | P20: =IF(A20="",0,ROUND((IF(AND(ISNUMBER(C20),ISNUMBER(D20)),MOD(D20-C20,1),0)+IF(AND(ISNUMBER(E20),ISNUMBER(F20)),MOD(F20-E20,1),0)-IF(ISNUMBER(G20),G20,0)/1440)*1440,0)/1440) | Q20: =IF(A20="","",IFERROR(INDEX(FeiertagNamen,MATCH(A20,FeiertagDaten,0)),"")) | R20: =IF(OR(H20="Urlaub",H20="Krank",H20="Bezahlt frei"),S20,IF(H20="Halber Urlaubstag",ROUND(S20*720,0)/1440,0)) | S20: =IF(OR(A20="",Q20<>"",H20="Unbezahlt",AA20=0),0,ROUND(CHOOSE(WEEKDAY(A20,2),N(SollMo),N(SollDi),N(SollMi),N(SollDo),N(SollFr),N(SollSa),N(SollSo))*1440,0)/1440) | T20: =P20+R20-S20 | U20: =IF(OR(A20="",NOT(ISNUMBER(C20)),NOT(ISNUMBER(D20))),"",A20+IF(AND(ISNUMBER(E20),ISNUMBER(F20)),F20+IF(E20<C20,1,0)+IF(F20<E20,1,0),D20+IF(D20<C20,1,0))) | V20: =IF(OR(A20="",NOT(ISNUMBER(C20))),"",A20+C20) | W20: =IF(OR(V20="",X19=0),"",ROUND((V20-X19)*1440,0)) | X20: =MAX(X19,N(U20)) | Y20: =IF(ISNUMBER(G20),G20,0)+IF(AND(ISNUMBER(D20),ISNUMBER(E20)),MAX(0,ROUND((E20+IF(E20<C20,1,0)-D20-IF(D20<C20,1,0))*1440,0)),0) | Z20: =IF(A20="","",IF(OR(ISNUMBER(C20)<>ISNUMBER(D20),ISNUMBER(E20)<>ISNUMBER(F20)),"Beginn oder Ende fehlt; ","")&IF(P20<0,"Pause länger als Arbeitszeit; ","")&IF(AND(ROUND(P20*1440,0)>360,ROUND(P20*1440,0)<=540,Y20<30),"Pause unter 30 Min. (§ 4); ","")&IF(AND(ROUND(P20*1440,0)>540,Y20<45),"Pause unter 45 Min. (§ 4); ","")&IF(ROUND(P20*1440,0)>600,"über 10 Std. (§ 3); ","")&IF(W20="","",IF(W20<0,"beginnt vor Ende des Vortags; ",IF(W20<660,"Ruhezeit unter 11 Std. (§ 5); ","")))&IF(AND(ISNUMBER(I20),ROUND(N(I20)*1440,0)>ROUND(P20*1440,0)),"Fahrzeit über Arbeitszeit; ","")&IF(AND(OR(H20="Urlaub",H20="Krank",H20="Bezahlt frei"),ROUND(P20*1440,0)>0),"Abwesenheit und Arbeitszeit; ","")&IF(AND(H20<>"",H20<>"Unbezahlt",S20=0),"Abwesenheit an freiem Tag zählt nicht; ","")) | AA20: =IF(A20="",0,IF(OR(A20<=TODAY(),COUNTA(C20:J20)>0),1,0))
A21: =IF(MONTH(DATE(Jahr,1,17))=1,DATE(Jahr,1,17),"") | B21: =IF(A21="","",CHOOSE(WEEKDAY(A21,2),"Mo","Di","Mi","Do","Fr","Sa","So")) | K21: =IF(OR(A21="",P21+R21<=0),"",P21+R21) | L21: =IF(OR(A21="",S21=0),"",S21) | M21: =IF(OR(A21="",AND(P21+R21=0,S21=0)),"",IF(T21<0,"-","+")&TEXT(ABS(T21),"[h]:mm")) | N21: =IF(A21="","",IF(Q21<>"","Feiertag: "&Q21&IF(Z21<>"","; ",""),"")&IF(Z21<>"",LEFT(Z21,LEN(Z21)-2),"")) | P21: =IF(A21="",0,ROUND((IF(AND(ISNUMBER(C21),ISNUMBER(D21)),MOD(D21-C21,1),0)+IF(AND(ISNUMBER(E21),ISNUMBER(F21)),MOD(F21-E21,1),0)-IF(ISNUMBER(G21),G21,0)/1440)*1440,0)/1440) | Q21: =IF(A21="","",IFERROR(INDEX(FeiertagNamen,MATCH(A21,FeiertagDaten,0)),"")) | R21: =IF(OR(H21="Urlaub",H21="Krank",H21="Bezahlt frei"),S21,IF(H21="Halber Urlaubstag",ROUND(S21*720,0)/1440,0)) | S21: =IF(OR(A21="",Q21<>"",H21="Unbezahlt",AA21=0),0,ROUND(CHOOSE(WEEKDAY(A21,2),N(SollMo),N(SollDi),N(SollMi),N(SollDo),N(SollFr),N(SollSa),N(SollSo))*1440,0)/1440) | T21: =P21+R21-S21 | U21: =IF(OR(A21="",NOT(ISNUMBER(C21)),NOT(ISNUMBER(D21))),"",A21+IF(AND(ISNUMBER(E21),ISNUMBER(F21)),F21+IF(E21<C21,1,0)+IF(F21<E21,1,0),D21+IF(D21<C21,1,0))) | V21: =IF(OR(A21="",NOT(ISNUMBER(C21))),"",A21+C21) | W21: =IF(OR(V21="",X20=0),"",ROUND((V21-X20)*1440,0)) | X21: =MAX(X20,N(U21)) | Y21: =IF(ISNUMBER(G21),G21,0)+IF(AND(ISNUMBER(D21),ISNUMBER(E21)),MAX(0,ROUND((E21+IF(E21<C21,1,0)-D21-IF(D21<C21,1,0))*1440,0)),0) | Z21: =IF(A21="","",IF(OR(ISNUMBER(C21)<>ISNUMBER(D21),ISNUMBER(E21)<>ISNUMBER(F21)),"Beginn oder Ende fehlt; ","")&IF(P21<0,"Pause länger als Arbeitszeit; ","")&IF(AND(ROUND(P21*1440,0)>360,ROUND(P21*1440,0)<=540,Y21<30),"Pause unter 30 Min. (§ 4); ","")&IF(AND(ROUND(P21*1440,0)>540,Y21<45),"Pause unter 45 Min. (§ 4); ","")&IF(ROUND(P21*1440,0)>600,"über 10 Std. (§ 3); ","")&IF(W21="","",IF(W21<0,"beginnt vor Ende des Vortags; ",IF(W21<660,"Ruhezeit unter 11 Std. (§ 5); ","")))&IF(AND(ISNUMBER(I21),ROUND(N(I21)*1440,0)>ROUND(P21*1440,0)),"Fahrzeit über Arbeitszeit; ","")&IF(AND(OR(H21="Urlaub",H21="Krank",H21="Bezahlt frei"),ROUND(P21*1440,0)>0),"Abwesenheit und Arbeitszeit; ","")&IF(AND(H21<>"",H21<>"Unbezahlt",S21=0),"Abwesenheit an freiem Tag zählt nicht; ","")) | AA21: =IF(A21="",0,IF(OR(A21<=TODAY(),COUNTA(C21:J21)>0),1,0))
A22: =IF(MONTH(DATE(Jahr,1,18))=1,DATE(Jahr,1,18),"") | B22: =IF(A22="","",CHOOSE(WEEKDAY(A22,2),"Mo","Di","Mi","Do","Fr","Sa","So")) | K22: =IF(OR(A22="",P22+R22<=0),"",P22+R22) | L22: =IF(OR(A22="",S22=0),"",S22) | M22: =IF(OR(A22="",AND(P22+R22=0,S22=0)),"",IF(T22<0,"-","+")&TEXT(ABS(T22),"[h]:mm")) | N22: =IF(A22="","",IF(Q22<>"","Feiertag: "&Q22&IF(Z22<>"","; ",""),"")&IF(Z22<>"",LEFT(Z22,LEN(Z22)-2),"")) | P22: =IF(A22="",0,ROUND((IF(AND(ISNUMBER(C22),ISNUMBER(D22)),MOD(D22-C22,1),0)+IF(AND(ISNUMBER(E22),ISNUMBER(F22)),MOD(F22-E22,1),0)-IF(ISNUMBER(G22),G22,0)/1440)*1440,0)/1440) | Q22: =IF(A22="","",IFERROR(INDEX(FeiertagNamen,MATCH(A22,FeiertagDaten,0)),"")) | R22: =IF(OR(H22="Urlaub",H22="Krank",H22="Bezahlt frei"),S22,IF(H22="Halber Urlaubstag",ROUND(S22*720,0)/1440,0)) | S22: =IF(OR(A22="",Q22<>"",H22="Unbezahlt",AA22=0),0,ROUND(CHOOSE(WEEKDAY(A22,2),N(SollMo),N(SollDi),N(SollMi),N(SollDo),N(SollFr),N(SollSa),N(SollSo))*1440,0)/1440) | T22: =P22+R22-S22 | U22: =IF(OR(A22="",NOT(ISNUMBER(C22)),NOT(ISNUMBER(D22))),"",A22+IF(AND(ISNUMBER(E22),ISNUMBER(F22)),F22+IF(E22<C22,1,0)+IF(F22<E22,1,0),D22+IF(D22<C22,1,0))) | V22: =IF(OR(A22="",NOT(ISNUMBER(C22))),"",A22+C22) | W22: =IF(OR(V22="",X21=0),"",ROUND((V22-X21)*1440,0)) | X22: =MAX(X21,N(U22)) | Y22: =IF(ISNUMBER(G22),G22,0)+IF(AND(ISNUMBER(D22),ISNUMBER(E22)),MAX(0,ROUND((E22+IF(E22<C22,1,0)-D22-IF(D22<C22,1,0))*1440,0)),0) | Z22: =IF(A22="","",IF(OR(ISNUMBER(C22)<>ISNUMBER(D22),ISNUMBER(E22)<>ISNUMBER(F22)),"Beginn oder Ende fehlt; ","")&IF(P22<0,"Pause länger als Arbeitszeit; ","")&IF(AND(ROUND(P22*1440,0)>360,ROUND(P22*1440,0)<=540,Y22<30),"Pause unter 30 Min. (§ 4); ","")&IF(AND(ROUND(P22*1440,0)>540,Y22<45),"Pause unter 45 Min. (§ 4); ","")&IF(ROUND(P22*1440,0)>600,"über 10 Std. (§ 3); ","")&IF(W22="","",IF(W22<0,"beginnt vor Ende des Vortags; ",IF(W22<660,"Ruhezeit unter 11 Std. (§ 5); ","")))&IF(AND(ISNUMBER(I22),ROUND(N(I22)*1440,0)>ROUND(P22*1440,0)),"Fahrzeit über Arbeitszeit; ","")&IF(AND(OR(H22="Urlaub",H22="Krank",H22="Bezahlt frei"),ROUND(P22*1440,0)>0),"Abwesenheit und Arbeitszeit; ","")&IF(AND(H22<>"",H22<>"Unbezahlt",S22=0),"Abwesenheit an freiem Tag zählt nicht; ","")) | AA22: =IF(A22="",0,IF(OR(A22<=TODAY(),COUNTA(C22:J22)>0),1,0))
A23: =IF(MONTH(DATE(Jahr,1,19))=1,DATE(Jahr,1,19),"") | B23: =IF(A23="","",CHOOSE(WEEKDAY(A23,2),"Mo","Di","Mi","Do","Fr","Sa","So")) | K23: =IF(OR(A23="",P23+R23<=0),"",P23+R23) | L23: =IF(OR(A23="",S23=0),"",S23) | M23: =IF(OR(A23="",AND(P23+R23=0,S23=0)),"",IF(T23<0,"-","+")&TEXT(ABS(T23),"[h]:mm")) | N23: =IF(A23="","",IF(Q23<>"","Feiertag: "&Q23&IF(Z23<>"","; ",""),"")&IF(Z23<>"",LEFT(Z23,LEN(Z23)-2),"")) | P23: =IF(A23="",0,ROUND((IF(AND(ISNUMBER(C23),ISNUMBER(D23)),MOD(D23-C23,1),0)+IF(AND(ISNUMBER(E23),ISNUMBER(F23)),MOD(F23-E23,1),0)-IF(ISNUMBER(G23),G23,0)/1440)*1440,0)/1440) | Q23: =IF(A23="","",IFERROR(INDEX(FeiertagNamen,MATCH(A23,FeiertagDaten,0)),"")) | R23: =IF(OR(H23="Urlaub",H23="Krank",H23="Bezahlt frei"),S23,IF(H23="Halber Urlaubstag",ROUND(S23*720,0)/1440,0)) | S23: =IF(OR(A23="",Q23<>"",H23="Unbezahlt",AA23=0),0,ROUND(CHOOSE(WEEKDAY(A23,2),N(SollMo),N(SollDi),N(SollMi),N(SollDo),N(SollFr),N(SollSa),N(SollSo))*1440,0)/1440) | T23: =P23+R23-S23 | U23: =IF(OR(A23="",NOT(ISNUMBER(C23)),NOT(ISNUMBER(D23))),"",A23+IF(AND(ISNUMBER(E23),ISNUMBER(F23)),F23+IF(E23<C23,1,0)+IF(F23<E23,1,0),D23+IF(D23<C23,1,0))) | V23: =IF(OR(A23="",NOT(ISNUMBER(C23))),"",A23+C23) | W23: =IF(OR(V23="",X22=0),"",ROUND((V23-X22)*1440,0)) | X23: =MAX(X22,N(U23)) | Y23: =IF(ISNUMBER(G23),G23,0)+IF(AND(ISNUMBER(D23),ISNUMBER(E23)),MAX(0,ROUND((E23+IF(E23<C23,1,0)-D23-IF(D23<C23,1,0))*1440,0)),0) | Z23: =IF(A23="","",IF(OR(ISNUMBER(C23)<>ISNUMBER(D23),ISNUMBER(E23)<>ISNUMBER(F23)),"Beginn oder Ende fehlt; ","")&IF(P23<0,"Pause länger als Arbeitszeit; ","")&IF(AND(ROUND(P23*1440,0)>360,ROUND(P23*1440,0)<=540,Y23<30),"Pause unter 30 Min. (§ 4); ","")&IF(AND(ROUND(P23*1440,0)>540,Y23<45),"Pause unter 45 Min. (§ 4); ","")&IF(ROUND(P23*1440,0)>600,"über 10 Std. (§ 3); ","")&IF(W23="","",IF(W23<0,"beginnt vor Ende des Vortags; ",IF(W23<660,"Ruhezeit unter 11 Std. (§ 5); ","")))&IF(AND(ISNUMBER(I23),ROUND(N(I23)*1440,0)>ROUND(P23*1440,0)),"Fahrzeit über Arbeitszeit; ","")&IF(AND(OR(H23="Urlaub",H23="Krank",H23="Bezahlt frei"),ROUND(P23*1440,0)>0),"Abwesenheit und Arbeitszeit; ","")&IF(AND(H23<>"",H23<>"Unbezahlt",S23=0),"Abwesenheit an freiem Tag zählt nicht; ","")) | AA23: =IF(A23="",0,IF(OR(A23<=TODAY(),COUNTA(C23:J23)>0),1,0))
A24: =IF(MONTH(DATE(Jahr,1,20))=1,DATE(Jahr,1,20),"") | B24: =IF(A24="","",CHOOSE(WEEKDAY(A24,2),"Mo","Di","Mi","Do","Fr","Sa","So")) | K24: =IF(OR(A24="",P24+R24<=0),"",P24+R24) | L24: =IF(OR(A24="",S24=0),"",S24) | M24: =IF(OR(A24="",AND(P24+R24=0,S24=0)),"",IF(T24<0,"-","+")&TEXT(ABS(T24),"[h]:mm")) | N24: =IF(A24="","",IF(Q24<>"","Feiertag: "&Q24&IF(Z24<>"","; ",""),"")&IF(Z24<>"",LEFT(Z24,LEN(Z24)-2),"")) | P24: =IF(A24="",0,ROUND((IF(AND(ISNUMBER(C24),ISNUMBER(D24)),MOD(D24-C24,1),0)+IF(AND(ISNUMBER(E24),ISNUMBER(F24)),MOD(F24-E24,1),0)-IF(ISNUMBER(G24),G24,0)/1440)*1440,0)/1440) | Q24: =IF(A24="","",IFERROR(INDEX(FeiertagNamen,MATCH(A24,FeiertagDaten,0)),"")) | R24: =IF(OR(H24="Urlaub",H24="Krank",H24="Bezahlt frei"),S24,IF(H24="Halber Urlaubstag",ROUND(S24*720,0)/1440,0)) | S24: =IF(OR(A24="",Q24<>"",H24="Unbezahlt",AA24=0),0,ROUND(CHOOSE(WEEKDAY(A24,2),N(SollMo),N(SollDi),N(SollMi),N(SollDo),N(SollFr),N(SollSa),N(SollSo))*1440,0)/1440) | T24: =P24+R24-S24 | U24: =IF(OR(A24="",NOT(ISNUMBER(C24)),NOT(ISNUMBER(D24))),"",A24+IF(AND(ISNUMBER(E24),ISNUMBER(F24)),F24+IF(E24<C24,1,0)+IF(F24<E24,1,0),D24+IF(D24<C24,1,0))) | V24: =IF(OR(A24="",NOT(ISNUMBER(C24))),"",A24+C24) | W24: =IF(OR(V24="",X23=0),"",ROUND((V24-X23)*1440,0)) | X24: =MAX(X23,N(U24)) | Y24: =IF(ISNUMBER(G24),G24,0)+IF(AND(ISNUMBER(D24),ISNUMBER(E24)),MAX(0,ROUND((E24+IF(E24<C24,1,0)-D24-IF(D24<C24,1,0))*1440,0)),0) | Z24: =IF(A24="","",IF(OR(ISNUMBER(C24)<>ISNUMBER(D24),ISNUMBER(E24)<>ISNUMBER(F24)),"Beginn oder Ende fehlt; ","")&IF(P24<0,"Pause länger als Arbeitszeit; ","")&IF(AND(ROUND(P24*1440,0)>360,ROUND(P24*1440,0)<=540,Y24<30),"Pause unter 30 Min. (§ 4); ","")&IF(AND(ROUND(P24*1440,0)>540,Y24<45),"Pause unter 45 Min. (§ 4); ","")&IF(ROUND(P24*1440,0)>600,"über 10 Std. (§ 3); ","")&IF(W24="","",IF(W24<0,"beginnt vor Ende des Vortags; ",IF(W24<660,"Ruhezeit unter 11 Std. (§ 5); ","")))&IF(AND(ISNUMBER(I24),ROUND(N(I24)*1440,0)>ROUND(P24*1440,0)),"Fahrzeit über Arbeitszeit; ","")&IF(AND(OR(H24="Urlaub",H24="Krank",H24="Bezahlt frei"),ROUND(P24*1440,0)>0),"Abwesenheit und Arbeitszeit; ","")&IF(AND(H24<>"",H24<>"Unbezahlt",S24=0),"Abwesenheit an freiem Tag zählt nicht; ","")) | AA24: =IF(A24="",0,IF(OR(A24<=TODAY(),COUNTA(C24:J24)>0),1,0))
A25: =IF(MONTH(DATE(Jahr,1,21))=1,DATE(Jahr,1,21),"") | B25: =IF(A25="","",CHOOSE(WEEKDAY(A25,2),"Mo","Di","Mi","Do","Fr","Sa","So")) | K25: =IF(OR(A25="",P25+R25<=0),"",P25+R25) | L25: =IF(OR(A25="",S25=0),"",S25) | M25: =IF(OR(A25="",AND(P25+R25=0,S25=0)),"",IF(T25<0,"-","+")&TEXT(ABS(T25),"[h]:mm")) | N25: =IF(A25="","",IF(Q25<>"","Feiertag: "&Q25&IF(Z25<>"","; ",""),"")&IF(Z25<>"",LEFT(Z25,LEN(Z25)-2),"")) | P25: =IF(A25="",0,ROUND((IF(AND(ISNUMBER(C25),ISNUMBER(D25)),MOD(D25-C25,1),0)+IF(AND(ISNUMBER(E25),ISNUMBER(F25)),MOD(F25-E25,1),0)-IF(ISNUMBER(G25),G25,0)/1440)*1440,0)/1440) | Q25: =IF(A25="","",IFERROR(INDEX(FeiertagNamen,MATCH(A25,FeiertagDaten,0)),"")) | R25: =IF(OR(H25="Urlaub",H25="Krank",H25="Bezahlt frei"),S25,IF(H25="Halber Urlaubstag",ROUND(S25*720,0)/1440,0)) | S25: =IF(OR(A25="",Q25<>"",H25="Unbezahlt",AA25=0),0,ROUND(CHOOSE(WEEKDAY(A25,2),N(SollMo),N(SollDi),N(SollMi),N(SollDo),N(SollFr),N(SollSa),N(SollSo))*1440,0)/1440) | T25: =P25+R25-S25 | U25: =IF(OR(A25="",NOT(ISNUMBER(C25)),NOT(ISNUMBER(D25))),"",A25+IF(AND(ISNUMBER(E25),ISNUMBER(F25)),F25+IF(E25<C25,1,0)+IF(F25<E25,1,0),D25+IF(D25<C25,1,0))) | V25: =IF(OR(A25="",NOT(ISNUMBER(C25))),"",A25+C25) | W25: =IF(OR(V25="",X24=0),"",ROUND((V25-X24)*1440,0)) | X25: =MAX(X24,N(U25)) | Y25: =IF(ISNUMBER(G25),G25,0)+IF(AND(ISNUMBER(D25),ISNUMBER(E25)),MAX(0,ROUND((E25+IF(E25<C25,1,0)-D25-IF(D25<C25,1,0))*1440,0)),0) | Z25: =IF(A25="","",IF(OR(ISNUMBER(C25)<>ISNUMBER(D25),ISNUMBER(E25)<>ISNUMBER(F25)),"Beginn oder Ende fehlt; ","")&IF(P25<0,"Pause länger als Arbeitszeit; ","")&IF(AND(ROUND(P25*1440,0)>360,ROUND(P25*1440,0)<=540,Y25<30),"Pause unter 30 Min. (§ 4); ","")&IF(AND(ROUND(P25*1440,0)>540,Y25<45),"Pause unter 45 Min. (§ 4); ","")&IF(ROUND(P25*1440,0)>600,"über 10 Std. (§ 3); ","")&IF(W25="","",IF(W25<0,"beginnt vor Ende des Vortags; ",IF(W25<660,"Ruhezeit unter 11 Std. (§ 5); ","")))&IF(AND(ISNUMBER(I25),ROUND(N(I25)*1440,0)>ROUND(P25*1440,0)),"Fahrzeit über Arbeitszeit; ","")&IF(AND(OR(H25="Urlaub",H25="Krank",H25="Bezahlt frei"),ROUND(P25*1440,0)>0),"Abwesenheit und Arbeitszeit; ","")&IF(AND(H25<>"",H25<>"Unbezahlt",S25=0),"Abwesenheit an freiem Tag zählt nicht; ","")) | AA25: =IF(A25="",0,IF(OR(A25<=TODAY(),COUNTA(C25:J25)>0),1,0))
A26: =IF(MONTH(DATE(Jahr,1,22))=1,DATE(Jahr,1,22),"") | B26: =IF(A26="","",CHOOSE(WEEKDAY(A26,2),"Mo","Di","Mi","Do","Fr","Sa","So")) | K26: =IF(OR(A26="",P26+R26<=0),"",P26+R26) | L26: =IF(OR(A26="",S26=0),"",S26) | M26: =IF(OR(A26="",AND(P26+R26=0,S26=0)),"",IF(T26<0,"-","+")&TEXT(ABS(T26),"[h]:mm")) | N26: =IF(A26="","",IF(Q26<>"","Feiertag: "&Q26&IF(Z26<>"","; ",""),"")&IF(Z26<>"",LEFT(Z26,LEN(Z26)-2),"")) | P26: =IF(A26="",0,ROUND((IF(AND(ISNUMBER(C26),ISNUMBER(D26)),MOD(D26-C26,1),0)+IF(AND(ISNUMBER(E26),ISNUMBER(F26)),MOD(F26-E26,1),0)-IF(ISNUMBER(G26),G26,0)/1440)*1440,0)/1440) | Q26: =IF(A26="","",IFERROR(INDEX(FeiertagNamen,MATCH(A26,FeiertagDaten,0)),"")) | R26: =IF(OR(H26="Urlaub",H26="Krank",H26="Bezahlt frei"),S26,IF(H26="Halber Urlaubstag",ROUND(S26*720,0)/1440,0)) | S26: =IF(OR(A26="",Q26<>"",H26="Unbezahlt",AA26=0),0,ROUND(CHOOSE(WEEKDAY(A26,2),N(SollMo),N(SollDi),N(SollMi),N(SollDo),N(SollFr),N(SollSa),N(SollSo))*1440,0)/1440) | T26: =P26+R26-S26 | U26: =IF(OR(A26="",NOT(ISNUMBER(C26)),NOT(ISNUMBER(D26))),"",A26+IF(AND(ISNUMBER(E26),ISNUMBER(F26)),F26+IF(E26<C26,1,0)+IF(F26<E26,1,0),D26+IF(D26<C26,1,0))) | V26: =IF(OR(A26="",NOT(ISNUMBER(C26))),"",A26+C26) | W26: =IF(OR(V26="",X25=0),"",ROUND((V26-X25)*1440,0)) | X26: =MAX(X25,N(U26)) | Y26: =IF(ISNUMBER(G26),G26,0)+IF(AND(ISNUMBER(D26),ISNUMBER(E26)),MAX(0,ROUND((E26+IF(E26<C26,1,0)-D26-IF(D26<C26,1,0))*1440,0)),0) | Z26: =IF(A26="","",IF(OR(ISNUMBER(C26)<>ISNUMBER(D26),ISNUMBER(E26)<>ISNUMBER(F26)),"Beginn oder Ende fehlt; ","")&IF(P26<0,"Pause länger als Arbeitszeit; ","")&IF(AND(ROUND(P26*1440,0)>360,ROUND(P26*1440,0)<=540,Y26<30),"Pause unter 30 Min. (§ 4); ","")&IF(AND(ROUND(P26*1440,0)>540,Y26<45),"Pause unter 45 Min. (§ 4); ","")&IF(ROUND(P26*1440,0)>600,"über 10 Std. (§ 3); ","")&IF(W26="","",IF(W26<0,"beginnt vor Ende des Vortags; ",IF(W26<660,"Ruhezeit unter 11 Std. (§ 5); ","")))&IF(AND(ISNUMBER(I26),ROUND(N(I26)*1440,0)>ROUND(P26*1440,0)),"Fahrzeit über Arbeitszeit; ","")&IF(AND(OR(H26="Urlaub",H26="Krank",H26="Bezahlt frei"),ROUND(P26*1440,0)>0),"Abwesenheit und Arbeitszeit; ","")&IF(AND(H26<>"",H26<>"Unbezahlt",S26=0),"Abwesenheit an freiem Tag zählt nicht; ","")) | AA26: =IF(A26="",0,IF(OR(A26<=TODAY(),COUNTA(C26:J26)>0),1,0))
A27: =IF(MONTH(DATE(Jahr,1,23))=1,DATE(Jahr,1,23),"") | B27: =IF(A27="","",CHOOSE(WEEKDAY(A27,2),"Mo","Di","Mi","Do","Fr","Sa","So")) | K27: =IF(OR(A27="",P27+R27<=0),"",P27+R27) | L27: =IF(OR(A27="",S27=0),"",S27) | M27: =IF(OR(A27="",AND(P27+R27=0,S27=0)),"",IF(T27<0,"-","+")&TEXT(ABS(T27),"[h]:mm")) | N27: =IF(A27="","",IF(Q27<>"","Feiertag: "&Q27&IF(Z27<>"","; ",""),"")&IF(Z27<>"",LEFT(Z27,LEN(Z27)-2),"")) | P27: =IF(A27="",0,ROUND((IF(AND(ISNUMBER(C27),ISNUMBER(D27)),MOD(D27-C27,1),0)+IF(AND(ISNUMBER(E27),ISNUMBER(F27)),MOD(F27-E27,1),0)-IF(ISNUMBER(G27),G27,0)/1440)*1440,0)/1440) | Q27: =IF(A27="","",IFERROR(INDEX(FeiertagNamen,MATCH(A27,FeiertagDaten,0)),"")) | R27: =IF(OR(H27="Urlaub",H27="Krank",H27="Bezahlt frei"),S27,IF(H27="Halber Urlaubstag",ROUND(S27*720,0)/1440,0)) | S27: =IF(OR(A27="",Q27<>"",H27="Unbezahlt",AA27=0),0,ROUND(CHOOSE(WEEKDAY(A27,2),N(SollMo),N(SollDi),N(SollMi),N(SollDo),N(SollFr),N(SollSa),N(SollSo))*1440,0)/1440) | T27: =P27+R27-S27 | U27: =IF(OR(A27="",NOT(ISNUMBER(C27)),NOT(ISNUMBER(D27))),"",A27+IF(AND(ISNUMBER(E27),ISNUMBER(F27)),F27+IF(E27<C27,1,0)+IF(F27<E27,1,0),D27+IF(D27<C27,1,0))) | V27: =IF(OR(A27="",NOT(ISNUMBER(C27))),"",A27+C27) | W27: =IF(OR(V27="",X26=0),"",ROUND((V27-X26)*1440,0)) | X27: =MAX(X26,N(U27)) | Y27: =IF(ISNUMBER(G27),G27,0)+IF(AND(ISNUMBER(D27),ISNUMBER(E27)),MAX(0,ROUND((E27+IF(E27<C27,1,0)-D27-IF(D27<C27,1,0))*1440,0)),0) | Z27: =IF(A27="","",IF(OR(ISNUMBER(C27)<>ISNUMBER(D27),ISNUMBER(E27)<>ISNUMBER(F27)),"Beginn oder Ende fehlt; ","")&IF(P27<0,"Pause länger als Arbeitszeit; ","")&IF(AND(ROUND(P27*1440,0)>360,ROUND(P27*1440,0)<=540,Y27<30),"Pause unter 30 Min. (§ 4); ","")&IF(AND(ROUND(P27*1440,0)>540,Y27<45),"Pause unter 45 Min. (§ 4); ","")&IF(ROUND(P27*1440,0)>600,"über 10 Std. (§ 3); ","")&IF(W27="","",IF(W27<0,"beginnt vor Ende des Vortags; ",IF(W27<660,"Ruhezeit unter 11 Std. (§ 5); ","")))&IF(AND(ISNUMBER(I27),ROUND(N(I27)*1440,0)>ROUND(P27*1440,0)),"Fahrzeit über Arbeitszeit; ","")&IF(AND(OR(H27="Urlaub",H27="Krank",H27="Bezahlt frei"),ROUND(P27*1440,0)>0),"Abwesenheit und Arbeitszeit; ","")&IF(AND(H27<>"",H27<>"Unbezahlt",S27=0),"Abwesenheit an freiem Tag zählt nicht; ","")) | AA27: =IF(A27="",0,IF(OR(A27<=TODAY(),COUNTA(C27:J27)>0),1,0))
A28: =IF(MONTH(DATE(Jahr,1,24))=1,DATE(Jahr,1,24),"") | B28: =IF(A28="","",CHOOSE(WEEKDAY(A28,2),"Mo","Di","Mi","Do","Fr","Sa","So")) | K28: =IF(OR(A28="",P28+R28<=0),"",P28+R28) | L28: =IF(OR(A28="",S28=0),"",S28) | M28: =IF(OR(A28="",AND(P28+R28=0,S28=0)),"",IF(T28<0,"-","+")&TEXT(ABS(T28),"[h]:mm")) | N28: =IF(A28="","",IF(Q28<>"","Feiertag: "&Q28&IF(Z28<>"","; ",""),"")&IF(Z28<>"",LEFT(Z28,LEN(Z28)-2),"")) | P28: =IF(A28="",0,ROUND((IF(AND(ISNUMBER(C28),ISNUMBER(D28)),MOD(D28-C28,1),0)+IF(AND(ISNUMBER(E28),ISNUMBER(F28)),MOD(F28-E28,1),0)-IF(ISNUMBER(G28),G28,0)/1440)*1440,0)/1440) | Q28: =IF(A28="","",IFERROR(INDEX(FeiertagNamen,MATCH(A28,FeiertagDaten,0)),"")) | R28: =IF(OR(H28="Urlaub",H28="Krank",H28="Bezahlt frei"),S28,IF(H28="Halber Urlaubstag",ROUND(S28*720,0)/1440,0)) | S28: =IF(OR(A28="",Q28<>"",H28="Unbezahlt",AA28=0),0,ROUND(CHOOSE(WEEKDAY(A28,2),N(SollMo),N(SollDi),N(SollMi),N(SollDo),N(SollFr),N(SollSa),N(SollSo))*1440,0)/1440) | T28: =P28+R28-S28 | U28: =IF(OR(A28="",NOT(ISNUMBER(C28)),NOT(ISNUMBER(D28))),"",A28+IF(AND(ISNUMBER(E28),ISNUMBER(F28)),F28+IF(E28<C28,1,0)+IF(F28<E28,1,0),D28+IF(D28<C28,1,0))) | V28: =IF(OR(A28="",NOT(ISNUMBER(C28))),"",A28+C28) | W28: =IF(OR(V28="",X27=0),"",ROUND((V28-X27)*1440,0)) | X28: =MAX(X27,N(U28)) | Y28: =IF(ISNUMBER(G28),G28,0)+IF(AND(ISNUMBER(D28),ISNUMBER(E28)),MAX(0,ROUND((E28+IF(E28<C28,1,0)-D28-IF(D28<C28,1,0))*1440,0)),0) | Z28: =IF(A28="","",IF(OR(ISNUMBER(C28)<>ISNUMBER(D28),ISNUMBER(E28)<>ISNUMBER(F28)),"Beginn oder Ende fehlt; ","")&IF(P28<0,"Pause länger als Arbeitszeit; ","")&IF(AND(ROUND(P28*1440,0)>360,ROUND(P28*1440,0)<=540,Y28<30),"Pause unter 30 Min. (§ 4); ","")&IF(AND(ROUND(P28*1440,0)>540,Y28<45),"Pause unter 45 Min. (§ 4); ","")&IF(ROUND(P28*1440,0)>600,"über 10 Std. (§ 3); ","")&IF(W28="","",IF(W28<0,"beginnt vor Ende des Vortags; ",IF(W28<660,"Ruhezeit unter 11 Std. (§ 5); ","")))&IF(AND(ISNUMBER(I28),ROUND(N(I28)*1440,0)>ROUND(P28*1440,0)),"Fahrzeit über Arbeitszeit; ","")&IF(AND(OR(H28="Urlaub",H28="Krank",H28="Bezahlt frei"),ROUND(P28*1440,0)>0),"Abwesenheit und Arbeitszeit; ","")&IF(AND(H28<>"",H28<>"Unbezahlt",S28=0),"Abwesenheit an freiem Tag zählt nicht; ","")) | AA28: =IF(A28="",0,IF(OR(A28<=TODAY(),COUNTA(C28:J28)>0),1,0))
A29: =IF(MONTH(DATE(Jahr,1,25))=1,DATE(Jahr,1,25),"") | B29: =IF(A29="","",CHOOSE(WEEKDAY(A29,2),"Mo","Di","Mi","Do","Fr","Sa","So")) | K29: =IF(OR(A29="",P29+R29<=0),"",P29+R29) | L29: =IF(OR(A29="",S29=0),"",S29) | M29: =IF(OR(A29="",AND(P29+R29=0,S29=0)),"",IF(T29<0,"-","+")&TEXT(ABS(T29),"[h]:mm")) | N29: =IF(A29="","",IF(Q29<>"","Feiertag: "&Q29&IF(Z29<>"","; ",""),"")&IF(Z29<>"",LEFT(Z29,LEN(Z29)-2),"")) | P29: =IF(A29="",0,ROUND((IF(AND(ISNUMBER(C29),ISNUMBER(D29)),MOD(D29-C29,1),0)+IF(AND(ISNUMBER(E29),ISNUMBER(F29)),MOD(F29-E29,1),0)-IF(ISNUMBER(G29),G29,0)/1440)*1440,0)/1440) | Q29: =IF(A29="","",IFERROR(INDEX(FeiertagNamen,MATCH(A29,FeiertagDaten,0)),"")) | R29: =IF(OR(H29="Urlaub",H29="Krank",H29="Bezahlt frei"),S29,IF(H29="Halber Urlaubstag",ROUND(S29*720,0)/1440,0)) | S29: =IF(OR(A29="",Q29<>"",H29="Unbezahlt",AA29=0),0,ROUND(CHOOSE(WEEKDAY(A29,2),N(SollMo),N(SollDi),N(SollMi),N(SollDo),N(SollFr),N(SollSa),N(SollSo))*1440,0)/1440) | T29: =P29+R29-S29 | U29: =IF(OR(A29="",NOT(ISNUMBER(C29)),NOT(ISNUMBER(D29))),"",A29+IF(AND(ISNUMBER(E29),ISNUMBER(F29)),F29+IF(E29<C29,1,0)+IF(F29<E29,1,0),D29+IF(D29<C29,1,0))) | V29: =IF(OR(A29="",NOT(ISNUMBER(C29))),"",A29+C29) | W29: =IF(OR(V29="",X28=0),"",ROUND((V29-X28)*1440,0)) | X29: =MAX(X28,N(U29)) | Y29: =IF(ISNUMBER(G29),G29,0)+IF(AND(ISNUMBER(D29),ISNUMBER(E29)),MAX(0,ROUND((E29+IF(E29<C29,1,0)-D29-IF(D29<C29,1,0))*1440,0)),0) | Z29: =IF(A29="","",IF(OR(ISNUMBER(C29)<>ISNUMBER(D29),ISNUMBER(E29)<>ISNUMBER(F29)),"Beginn oder Ende fehlt; ","")&IF(P29<0,"Pause länger als Arbeitszeit; ","")&IF(AND(ROUND(P29*1440,0)>360,ROUND(P29*1440,0)<=540,Y29<30),"Pause unter 30 Min. (§ 4); ","")&IF(AND(ROUND(P29*1440,0)>540,Y29<45),"Pause unter 45 Min. (§ 4); ","")&IF(ROUND(P29*1440,0)>600,"über 10 Std. (§ 3); ","")&IF(W29="","",IF(W29<0,"beginnt vor Ende des Vortags; ",IF(W29<660,"Ruhezeit unter 11 Std. (§ 5); ","")))&IF(AND(ISNUMBER(I29),ROUND(N(I29)*1440,0)>ROUND(P29*1440,0)),"Fahrzeit über Arbeitszeit; ","")&IF(AND(OR(H29="Urlaub",H29="Krank",H29="Bezahlt frei"),ROUND(P29*1440,0)>0),"Abwesenheit und Arbeitszeit; ","")&IF(AND(H29<>"",H29<>"Unbezahlt",S29=0),"Abwesenheit an freiem Tag zählt nicht; ","")) | AA29: =IF(A29="",0,IF(OR(A29<=TODAY(),COUNTA(C29:J29)>0),1,0))
A30: =IF(MONTH(DATE(Jahr,1,26))=1,DATE(Jahr,1,26),"") | B30: =IF(A30="","",CHOOSE(WEEKDAY(A30,2),"Mo","Di","Mi","Do","Fr","Sa","So")) | K30: =IF(OR(A30="",P30+R30<=0),"",P30+R30) | L30: =IF(OR(A30="",S30=0),"",S30) | M30: =IF(OR(A30="",AND(P30+R30=0,S30=0)),"",IF(T30<0,"-","+")&TEXT(ABS(T30),"[h]:mm")) | N30: =IF(A30="","",IF(Q30<>"","Feiertag: "&Q30&IF(Z30<>"","; ",""),"")&IF(Z30<>"",LEFT(Z30,LEN(Z30)-2),"")) | P30: =IF(A30="",0,ROUND((IF(AND(ISNUMBER(C30),ISNUMBER(D30)),MOD(D30-C30,1),0)+IF(AND(ISNUMBER(E30),ISNUMBER(F30)),MOD(F30-E30,1),0)-IF(ISNUMBER(G30),G30,0)/1440)*1440,0)/1440) | Q30: =IF(A30="","",IFERROR(INDEX(FeiertagNamen,MATCH(A30,FeiertagDaten,0)),"")) | R30: =IF(OR(H30="Urlaub",H30="Krank",H30="Bezahlt frei"),S30,IF(H30="Halber Urlaubstag",ROUND(S30*720,0)/1440,0)) | S30: =IF(OR(A30="",Q30<>"",H30="Unbezahlt",AA30=0),0,ROUND(CHOOSE(WEEKDAY(A30,2),N(SollMo),N(SollDi),N(SollMi),N(SollDo),N(SollFr),N(SollSa),N(SollSo))*1440,0)/1440) | T30: =P30+R30-S30 | U30: =IF(OR(A30="",NOT(ISNUMBER(C30)),NOT(ISNUMBER(D30))),"",A30+IF(AND(ISNUMBER(E30),ISNUMBER(F30)),F30+IF(E30<C30,1,0)+IF(F30<E30,1,0),D30+IF(D30<C30,1,0))) | V30: =IF(OR(A30="",NOT(ISNUMBER(C30))),"",A30+C30) | W30: =IF(OR(V30="",X29=0),"",ROUND((V30-X29)*1440,0)) | X30: =MAX(X29,N(U30)) | Y30: =IF(ISNUMBER(G30),G30,0)+IF(AND(ISNUMBER(D30),ISNUMBER(E30)),MAX(0,ROUND((E30+IF(E30<C30,1,0)-D30-IF(D30<C30,1,0))*1440,0)),0) | Z30: =IF(A30="","",IF(OR(ISNUMBER(C30)<>ISNUMBER(D30),ISNUMBER(E30)<>ISNUMBER(F30)),"Beginn oder Ende fehlt; ","")&IF(P30<0,"Pause länger als Arbeitszeit; ","")&IF(AND(ROUND(P30*1440,0)>360,ROUND(P30*1440,0)<=540,Y30<30),"Pause unter 30 Min. (§ 4); ","")&IF(AND(ROUND(P30*1440,0)>540,Y30<45),"Pause unter 45 Min. (§ 4); ","")&IF(ROUND(P30*1440,0)>600,"über 10 Std. (§ 3); ","")&IF(W30="","",IF(W30<0,"beginnt vor Ende des Vortags; ",IF(W30<660,"Ruhezeit unter 11 Std. (§ 5); ","")))&IF(AND(ISNUMBER(I30),ROUND(N(I30)*1440,0)>ROUND(P30*1440,0)),"Fahrzeit über Arbeitszeit; ","")&IF(AND(OR(H30="Urlaub",H30="Krank",H30="Bezahlt frei"),ROUND(P30*1440,0)>0),"Abwesenheit und Arbeitszeit; ","")&IF(AND(H30<>"",H30<>"Unbezahlt",S30=0),"Abwesenheit an freiem Tag zählt nicht; ","")) | AA30: =IF(A30="",0,IF(OR(A30<=TODAY(),COUNTA(C30:J30)>0),1,0))
A31: =IF(MONTH(DATE(Jahr,1,27))=1,DATE(Jahr,1,27),"") | B31: =IF(A31="","",CHOOSE(WEEKDAY(A31,2),"Mo","Di","Mi","Do","Fr","Sa","So")) | K31: =IF(OR(A31="",P31+R31<=0),"",P31+R31) | L31: =IF(OR(A31="",S31=0),"",S31) | M31: =IF(OR(A31="",AND(P31+R31=0,S31=0)),"",IF(T31<0,"-","+")&TEXT(ABS(T31),"[h]:mm")) | N31: =IF(A31="","",IF(Q31<>"","Feiertag: "&Q31&IF(Z31<>"","; ",""),"")&IF(Z31<>"",LEFT(Z31,LEN(Z31)-2),"")) | P31: =IF(A31="",0,ROUND((IF(AND(ISNUMBER(C31),ISNUMBER(D31)),MOD(D31-C31,1),0)+IF(AND(ISNUMBER(E31),ISNUMBER(F31)),MOD(F31-E31,1),0)-IF(ISNUMBER(G31),G31,0)/1440)*1440,0)/1440) | Q31: =IF(A31="","",IFERROR(INDEX(FeiertagNamen,MATCH(A31,FeiertagDaten,0)),"")) | R31: =IF(OR(H31="Urlaub",H31="Krank",H31="Bezahlt frei"),S31,IF(H31="Halber Urlaubstag",ROUND(S31*720,0)/1440,0)) | S31: =IF(OR(A31="",Q31<>"",H31="Unbezahlt",AA31=0),0,ROUND(CHOOSE(WEEKDAY(A31,2),N(SollMo),N(SollDi),N(SollMi),N(SollDo),N(SollFr),N(SollSa),N(SollSo))*1440,0)/1440) | T31: =P31+R31-S31 | U31: =IF(OR(A31="",NOT(ISNUMBER(C31)),NOT(ISNUMBER(D31))),"",A31+IF(AND(ISNUMBER(E31),ISNUMBER(F31)),F31+IF(E31<C31,1,0)+IF(F31<E31,1,0),D31+IF(D31<C31,1,0))) | V31: =IF(OR(A31="",NOT(ISNUMBER(C31))),"",A31+C31) | W31: =IF(OR(V31="",X30=0),"",ROUND((V31-X30)*1440,0)) | X31: =MAX(X30,N(U31)) | Y31: =IF(ISNUMBER(G31),G31,0)+IF(AND(ISNUMBER(D31),ISNUMBER(E31)),MAX(0,ROUND((E31+IF(E31<C31,1,0)-D31-IF(D31<C31,1,0))*1440,0)),0) | Z31: =IF(A31="","",IF(OR(ISNUMBER(C31)<>ISNUMBER(D31),ISNUMBER(E31)<>ISNUMBER(F31)),"Beginn oder Ende fehlt; ","")&IF(P31<0,"Pause länger als Arbeitszeit; ","")&IF(AND(ROUND(P31*1440,0)>360,ROUND(P31*1440,0)<=540,Y31<30),"Pause unter 30 Min. (§ 4); ","")&IF(AND(ROUND(P31*1440,0)>540,Y31<45),"Pause unter 45 Min. (§ 4); ","")&IF(ROUND(P31*1440,0)>600,"über 10 Std. (§ 3); ","")&IF(W31="","",IF(W31<0,"beginnt vor Ende des Vortags; ",IF(W31<660,"Ruhezeit unter 11 Std. (§ 5); ","")))&IF(AND(ISNUMBER(I31),ROUND(N(I31)*1440,0)>ROUND(P31*1440,0)),"Fahrzeit über Arbeitszeit; ","")&IF(AND(OR(H31="Urlaub",H31="Krank",H31="Bezahlt frei"),ROUND(P31*1440,0)>0),"Abwesenheit und Arbeitszeit; ","")&IF(AND(H31<>"",H31<>"Unbezahlt",S31=0),"Abwesenheit an freiem Tag zählt nicht; ","")) | AA31: =IF(A31="",0,IF(OR(A31<=TODAY(),COUNTA(C31:J31)>0),1,0))
A32: =IF(MONTH(DATE(Jahr,1,28))=1,DATE(Jahr,1,28),"") | B32: =IF(A32="","",CHOOSE(WEEKDAY(A32,2),"Mo","Di","Mi","Do","Fr","Sa","So")) | K32: =IF(OR(A32="",P32+R32<=0),"",P32+R32) | L32: =IF(OR(A32="",S32=0),"",S32) | M32: =IF(OR(A32="",AND(P32+R32=0,S32=0)),"",IF(T32<0,"-","+")&TEXT(ABS(T32),"[h]:mm")) | N32: =IF(A32="","",IF(Q32<>"","Feiertag: "&Q32&IF(Z32<>"","; ",""),"")&IF(Z32<>"",LEFT(Z32,LEN(Z32)-2),"")) | P32: =IF(A32="",0,ROUND((IF(AND(ISNUMBER(C32),ISNUMBER(D32)),MOD(D32-C32,1),0)+IF(AND(ISNUMBER(E32),ISNUMBER(F32)),MOD(F32-E32,1),0)-IF(ISNUMBER(G32),G32,0)/1440)*1440,0)/1440) | Q32: =IF(A32="","",IFERROR(INDEX(FeiertagNamen,MATCH(A32,FeiertagDaten,0)),"")) | R32: =IF(OR(H32="Urlaub",H32="Krank",H32="Bezahlt frei"),S32,IF(H32="Halber Urlaubstag",ROUND(S32*720,0)/1440,0)) | S32: =IF(OR(A32="",Q32<>"",H32="Unbezahlt",AA32=0),0,ROUND(CHOOSE(WEEKDAY(A32,2),N(SollMo),N(SollDi),N(SollMi),N(SollDo),N(SollFr),N(SollSa),N(SollSo))*1440,0)/1440) | T32: =P32+R32-S32 | U32: =IF(OR(A32="",NOT(ISNUMBER(C32)),NOT(ISNUMBER(D32))),"",A32+IF(AND(ISNUMBER(E32),ISNUMBER(F32)),F32+IF(E32<C32,1,0)+IF(F32<E32,1,0),D32+IF(D32<C32,1,0))) | V32: =IF(OR(A32="",NOT(ISNUMBER(C32))),"",A32+C32) | W32: =IF(OR(V32="",X31=0),"",ROUND((V32-X31)*1440,0)) | X32: =MAX(X31,N(U32)) | Y32: =IF(ISNUMBER(G32),G32,0)+IF(AND(ISNUMBER(D32),ISNUMBER(E32)),MAX(0,ROUND((E32+IF(E32<C32,1,0)-D32-IF(D32<C32,1,0))*1440,0)),0) | Z32: =IF(A32="","",IF(OR(ISNUMBER(C32)<>ISNUMBER(D32),ISNUMBER(E32)<>ISNUMBER(F32)),"Beginn oder Ende fehlt; ","")&IF(P32<0,"Pause länger als Arbeitszeit; ","")&IF(AND(ROUND(P32*1440,0)>360,ROUND(P32*1440,0)<=540,Y32<30),"Pause unter 30 Min. (§ 4); ","")&IF(AND(ROUND(P32*1440,0)>540,Y32<45),"Pause unter 45 Min. (§ 4); ","")&IF(ROUND(P32*1440,0)>600,"über 10 Std. (§ 3); ","")&IF(W32="","",IF(W32<0,"beginnt vor Ende des Vortags; ",IF(W32<660,"Ruhezeit unter 11 Std. (§ 5); ","")))&IF(AND(ISNUMBER(I32),ROUND(N(I32)*1440,0)>ROUND(P32*1440,0)),"Fahrzeit über Arbeitszeit; ","")&IF(AND(OR(H32="Urlaub",H32="Krank",H32="Bezahlt frei"),ROUND(P32*1440,0)>0),"Abwesenheit und Arbeitszeit; ","")&IF(AND(H32<>"",H32<>"Unbezahlt",S32=0),"Abwesenheit an freiem Tag zählt nicht; ","")) | AA32: =IF(A32="",0,IF(OR(A32<=TODAY(),COUNTA(C32:J32)>0),1,0))
A33: =IF(MONTH(DATE(Jahr,1,29))=1,DATE(Jahr,1,29),"") | B33: =IF(A33="","",CHOOSE(WEEKDAY(A33,2),"Mo","Di","Mi","Do","Fr","Sa","So")) | K33: =IF(OR(A33="",P33+R33<=0),"",P33+R33) | L33: =IF(OR(A33="",S33=0),"",S33) | M33: =IF(OR(A33="",AND(P33+R33=0,S33=0)),"",IF(T33<0,"-","+")&TEXT(ABS(T33),"[h]:mm")) | N33: =IF(A33="","",IF(Q33<>"","Feiertag: "&Q33&IF(Z33<>"","; ",""),"")&IF(Z33<>"",LEFT(Z33,LEN(Z33)-2),"")) | P33: =IF(A33="",0,ROUND((IF(AND(ISNUMBER(C33),ISNUMBER(D33)),MOD(D33-C33,1),0)+IF(AND(ISNUMBER(E33),ISNUMBER(F33)),MOD(F33-E33,1),0)-IF(ISNUMBER(G33),G33,0)/1440)*1440,0)/1440) | Q33: =IF(A33="","",IFERROR(INDEX(FeiertagNamen,MATCH(A33,FeiertagDaten,0)),"")) | R33: =IF(OR(H33="Urlaub",H33="Krank",H33="Bezahlt frei"),S33,IF(H33="Halber Urlaubstag",ROUND(S33*720,0)/1440,0)) | S33: =IF(OR(A33="",Q33<>"",H33="Unbezahlt",AA33=0),0,ROUND(CHOOSE(WEEKDAY(A33,2),N(SollMo),N(SollDi),N(SollMi),N(SollDo),N(SollFr),N(SollSa),N(SollSo))*1440,0)/1440) | T33: =P33+R33-S33 | U33: =IF(OR(A33="",NOT(ISNUMBER(C33)),NOT(ISNUMBER(D33))),"",A33+IF(AND(ISNUMBER(E33),ISNUMBER(F33)),F33+IF(E33<C33,1,0)+IF(F33<E33,1,0),D33+IF(D33<C33,1,0))) | V33: =IF(OR(A33="",NOT(ISNUMBER(C33))),"",A33+C33) | W33: =IF(OR(V33="",X32=0),"",ROUND((V33-X32)*1440,0)) | X33: =MAX(X32,N(U33)) | Y33: =IF(ISNUMBER(G33),G33,0)+IF(AND(ISNUMBER(D33),ISNUMBER(E33)),MAX(0,ROUND((E33+IF(E33<C33,1,0)-D33-IF(D33<C33,1,0))*1440,0)),0) | Z33: =IF(A33="","",IF(OR(ISNUMBER(C33)<>ISNUMBER(D33),ISNUMBER(E33)<>ISNUMBER(F33)),"Beginn oder Ende fehlt; ","")&IF(P33<0,"Pause länger als Arbeitszeit; ","")&IF(AND(ROUND(P33*1440,0)>360,ROUND(P33*1440,0)<=540,Y33<30),"Pause unter 30 Min. (§ 4); ","")&IF(AND(ROUND(P33*1440,0)>540,Y33<45),"Pause unter 45 Min. (§ 4); ","")&IF(ROUND(P33*1440,0)>600,"über 10 Std. (§ 3); ","")&IF(W33="","",IF(W33<0,"beginnt vor Ende des Vortags; ",IF(W33<660,"Ruhezeit unter 11 Std. (§ 5); ","")))&IF(AND(ISNUMBER(I33),ROUND(N(I33)*1440,0)>ROUND(P33*1440,0)),"Fahrzeit über Arbeitszeit; ","")&IF(AND(OR(H33="Urlaub",H33="Krank",H33="Bezahlt frei"),ROUND(P33*1440,0)>0),"Abwesenheit und Arbeitszeit; ","")&IF(AND(H33<>"",H33<>"Unbezahlt",S33=0),"Abwesenheit an freiem Tag zählt nicht; ","")) | AA33: =IF(A33="",0,IF(OR(A33<=TODAY(),COUNTA(C33:J33)>0),1,0))
A34: =IF(MONTH(DATE(Jahr,1,30))=1,DATE(Jahr,1,30),"") | B34: =IF(A34="","",CHOOSE(WEEKDAY(A34,2),"Mo","Di","Mi","Do","Fr","Sa","So")) | K34: =IF(OR(A34="",P34+R34<=0),"",P34+R34) | L34: =IF(OR(A34="",S34=0),"",S34) | M34: =IF(OR(A34="",AND(P34+R34=0,S34=0)),"",IF(T34<0,"-","+")&TEXT(ABS(T34),"[h]:mm")) | N34: =IF(A34="","",IF(Q34<>"","Feiertag: "&Q34&IF(Z34<>"","; ",""),"")&IF(Z34<>"",LEFT(Z34,LEN(Z34)-2),"")) | P34: =IF(A34="",0,ROUND((IF(AND(ISNUMBER(C34),ISNUMBER(D34)),MOD(D34-C34,1),0)+IF(AND(ISNUMBER(E34),ISNUMBER(F34)),MOD(F34-E34,1),0)-IF(ISNUMBER(G34),G34,0)/1440)*1440,0)/1440) | Q34: =IF(A34="","",IFERROR(INDEX(FeiertagNamen,MATCH(A34,FeiertagDaten,0)),"")) | R34: =IF(OR(H34="Urlaub",H34="Krank",H34="Bezahlt frei"),S34,IF(H34="Halber Urlaubstag",ROUND(S34*720,0)/1440,0)) | S34: =IF(OR(A34="",Q34<>"",H34="Unbezahlt",AA34=0),0,ROUND(CHOOSE(WEEKDAY(A34,2),N(SollMo),N(SollDi),N(SollMi),N(SollDo),N(SollFr),N(SollSa),N(SollSo))*1440,0)/1440) | T34: =P34+R34-S34 | U34: =IF(OR(A34="",NOT(ISNUMBER(C34)),NOT(ISNUMBER(D34))),"",A34+IF(AND(ISNUMBER(E34),ISNUMBER(F34)),F34+IF(E34<C34,1,0)+IF(F34<E34,1,0),D34+IF(D34<C34,1,0))) | V34: =IF(OR(A34="",NOT(ISNUMBER(C34))),"",A34+C34) | W34: =IF(OR(V34="",X33=0),"",ROUND((V34-X33)*1440,0)) | X34: =MAX(X33,N(U34)) | Y34: =IF(ISNUMBER(G34),G34,0)+IF(AND(ISNUMBER(D34),ISNUMBER(E34)),MAX(0,ROUND((E34+IF(E34<C34,1,0)-D34-IF(D34<C34,1,0))*1440,0)),0) | Z34: =IF(A34="","",IF(OR(ISNUMBER(C34)<>ISNUMBER(D34),ISNUMBER(E34)<>ISNUMBER(F34)),"Beginn oder Ende fehlt; ","")&IF(P34<0,"Pause länger als Arbeitszeit; ","")&IF(AND(ROUND(P34*1440,0)>360,ROUND(P34*1440,0)<=540,Y34<30),"Pause unter 30 Min. (§ 4); ","")&IF(AND(ROUND(P34*1440,0)>540,Y34<45),"Pause unter 45 Min. (§ 4); ","")&IF(ROUND(P34*1440,0)>600,"über 10 Std. (§ 3); ","")&IF(W34="","",IF(W34<0,"beginnt vor Ende des Vortags; ",IF(W34<660,"Ruhezeit unter 11 Std. (§ 5); ","")))&IF(AND(ISNUMBER(I34),ROUND(N(I34)*1440,0)>ROUND(P34*1440,0)),"Fahrzeit über Arbeitszeit; ","")&IF(AND(OR(H34="Urlaub",H34="Krank",H34="Bezahlt frei"),ROUND(P34*1440,0)>0),"Abwesenheit und Arbeitszeit; ","")&IF(AND(H34<>"",H34<>"Unbezahlt",S34=0),"Abwesenheit an freiem Tag zählt nicht; ","")) | AA34: =IF(A34="",0,IF(OR(A34<=TODAY(),COUNTA(C34:J34)>0),1,0))
A35: =IF(MONTH(DATE(Jahr,1,31))=1,DATE(Jahr,1,31),"") | B35: =IF(A35="","",CHOOSE(WEEKDAY(A35,2),"Mo","Di","Mi","Do","Fr","Sa","So")) | K35: =IF(OR(A35="",P35+R35<=0),"",P35+R35) | L35: =IF(OR(A35="",S35=0),"",S35) | M35: =IF(OR(A35="",AND(P35+R35=0,S35=0)),"",IF(T35<0,"-","+")&TEXT(ABS(T35),"[h]:mm")) | N35: =IF(A35="","",IF(Q35<>"","Feiertag: "&Q35&IF(Z35<>"","; ",""),"")&IF(Z35<>"",LEFT(Z35,LEN(Z35)-2),"")) | P35: =IF(A35="",0,ROUND((IF(AND(ISNUMBER(C35),ISNUMBER(D35)),MOD(D35-C35,1),0)+IF(AND(ISNUMBER(E35),ISNUMBER(F35)),MOD(F35-E35,1),0)-IF(ISNUMBER(G35),G35,0)/1440)*1440,0)/1440) | Q35: =IF(A35="","",IFERROR(INDEX(FeiertagNamen,MATCH(A35,FeiertagDaten,0)),"")) | R35: =IF(OR(H35="Urlaub",H35="Krank",H35="Bezahlt frei"),S35,IF(H35="Halber Urlaubstag",ROUND(S35*720,0)/1440,0)) | S35: =IF(OR(A35="",Q35<>"",H35="Unbezahlt",AA35=0),0,ROUND(CHOOSE(WEEKDAY(A35,2),N(SollMo),N(SollDi),N(SollMi),N(SollDo),N(SollFr),N(SollSa),N(SollSo))*1440,0)/1440) | T35: =P35+R35-S35 | U35: =IF(OR(A35="",NOT(ISNUMBER(C35)),NOT(ISNUMBER(D35))),"",A35+IF(AND(ISNUMBER(E35),ISNUMBER(F35)),F35+IF(E35<C35,1,0)+IF(F35<E35,1,0),D35+IF(D35<C35,1,0))) | V35: =IF(OR(A35="",NOT(ISNUMBER(C35))),"",A35+C35) | W35: =IF(OR(V35="",X34=0),"",ROUND((V35-X34)*1440,0)) | X35: =MAX(X34,N(U35)) | Y35: =IF(ISNUMBER(G35),G35,0)+IF(AND(ISNUMBER(D35),ISNUMBER(E35)),MAX(0,ROUND((E35+IF(E35<C35,1,0)-D35-IF(D35<C35,1,0))*1440,0)),0) | Z35: =IF(A35="","",IF(OR(ISNUMBER(C35)<>ISNUMBER(D35),ISNUMBER(E35)<>ISNUMBER(F35)),"Beginn oder Ende fehlt; ","")&IF(P35<0,"Pause länger als Arbeitszeit; ","")&IF(AND(ROUND(P35*1440,0)>360,ROUND(P35*1440,0)<=540,Y35<30),"Pause unter 30 Min. (§ 4); ","")&IF(AND(ROUND(P35*1440,0)>540,Y35<45),"Pause unter 45 Min. (§ 4); ","")&IF(ROUND(P35*1440,0)>600,"über 10 Std. (§ 3); ","")&IF(W35="","",IF(W35<0,"beginnt vor Ende des Vortags; ",IF(W35<660,"Ruhezeit unter 11 Std. (§ 5); ","")))&IF(AND(ISNUMBER(I35),ROUND(N(I35)*1440,0)>ROUND(P35*1440,0)),"Fahrzeit über Arbeitszeit; ","")&IF(AND(OR(H35="Urlaub",H35="Krank",H35="Bezahlt frei"),ROUND(P35*1440,0)>0),"Abwesenheit und Arbeitszeit; ","")&IF(AND(H35<>"",H35<>"Unbezahlt",S35=0),"Abwesenheit an freiem Tag zählt nicht; ","")) | AA35: =IF(A35="",0,IF(OR(A35<=TODAY(),COUNTA(C35:J35)>0),1,0))
A37: Summe des Monats | I37: =SUM(I5:I35) | K37: =SUM(P5:P35)+SUM(R5:R35) | L37: =SUM(S5:S35) | M37: =IF(T37<0,"-","+")&TEXT(ABS(T37),"[h]:mm") | T37: =SUM(T5:T35)
E38: Std.:Min. | G38: dezimal
A39: Ist (inkl. Urlaub, Krank, bezahlt frei) | E39: =K37 | G39: =ROUND(K37*24,2) | J39: Urlaubstage | K39: =COUNTIFS(H5:H35,"Urlaub",S5:S35,">0")+0.5*COUNTIFS(H5:H35,"Halber Urlaubstag",S5:S35,">0")
A40: Soll | E40: =L37 | G40: =ROUND(L37*24,2) | J40: Krankheitstage (Arbeitstage) | K40: =COUNTIFS(H5:H35,"Krank",S5:S35,">0") | T40: =N(Uebertrag)/24
A41: Saldo des Monats | E41: =IF(T37<0,"-","+")&TEXT(ABS(T37),"[h]:mm") | G41: =ROUND(T37*24,2) | J41: Fahrzeit | K41: =I37 | T41: =T37+T40
A42: Übertrag aus dem Vormonat | E42: =IF(T40<0,"-","+")&TEXT(ABS(T40),"[h]:mm") | G42: =ROUND(T40*24,2)
A43: Saldo gesamt | E43: =IF(T41<0,"-","+")&TEXT(ABS(T41),"[h]:mm") | G43: =ROUND(T41*24,2)
A48: Datum, Unterschrift Mitarbeiter/in | J48: Datum, Unterschrift Arbeitgeber

Sheet Februar
A1: ="Arbeitszeitnachweis Februar "&Jahr
A2: ="Name: "&IF(MitarbeiterName="","…",MitarbeiterName)&IF(Personalnummer="",""," · Personalnr. "&Personalnummer)&IF(Firma="",""," · "&Firma)&IF(Bundesland="",""," · "&Bundesland)
A3: =IF(Bundesland="","Bitte in den Einstellungen das Bundesland wählen, damit die Feiertage stimmen. ","")&IF(SUM(SollMo,SollDi,SollMi,SollDo,SollFr,SollSa,SollSo)=0,"Bitte in den Einstellungen die Soll-Arbeitszeit eintragen.","")
A4: Datum | B4: Tag | C4: Beginn | D4: Ende | E4: Beginn 2 | F4: Ende 2 | G4: Pause (Min.) | H4: Abwesenheit | I4: davon Fahrzeit | J4: Einsatzort / Notiz | K4: Ist | L4: Soll | M4: Saldo | N4: Hinweis (§ ArbZG)
A5: =IF(MONTH(DATE(Jahr,2,1))=2,DATE(Jahr,2,1),"") | B5: =IF(A5="","",CHOOSE(WEEKDAY(A5,2),"Mo","Di","Mi","Do","Fr","Sa","So")) | K5: =IF(OR(A5="",P5+R5<=0),"",P5+R5) | L5: =IF(OR(A5="",S5=0),"",S5) | M5: =IF(OR(A5="",AND(P5+R5=0,S5=0)),"",IF(T5<0,"-","+")&TEXT(ABS(T5),"[h]:mm")) | N5: =IF(A5="","",IF(Q5<>"","Feiertag: "&Q5&IF(Z5<>"","; ",""),"")&IF(Z5<>"",LEFT(Z5,LEN(Z5)-2),"")) | P5: =IF(A5="",0,ROUND((IF(AND(ISNUMBER(C5),ISNUMBER(D5)),MOD(D5-C5,1),0)+IF(AND(ISNUMBER(E5),ISNUMBER(F5)),MOD(F5-E5,1),0)-IF(ISNUMBER(G5),G5,0)/1440)*1440,0)/1440) | Q5: =IF(A5="","",IFERROR(INDEX(FeiertagNamen,MATCH(A5,FeiertagDaten,0)),"")) | R5: =IF(OR(H5="Urlaub",H5="Krank",H5="Bezahlt frei"),S5,IF(H5="Halber Urlaubstag",ROUND(S5*720,0)/1440,0)) | S5: =IF(OR(A5="",Q5<>"",H5="Unbezahlt",AA5=0),0,ROUND(CHOOSE(WEEKDAY(A5,2),N(SollMo),N(SollDi),N(SollMi),N(SollDo),N(SollFr),N(SollSa),N(SollSo))*1440,0)/1440) | T5: =P5+R5-S5 | U5: =IF(OR(A5="",NOT(ISNUMBER(C5)),NOT(ISNUMBER(D5))),"",A5+IF(AND(ISNUMBER(E5),ISNUMBER(F5)),F5+IF(E5<C5,1,0)+IF(F5<E5,1,0),D5+IF(D5<C5,1,0))) | V5: =IF(OR(A5="",NOT(ISNUMBER(C5))),"",A5+C5) | W5: =IF(OR(V5="",'Januar'!$X$35=0),"",ROUND((V5-'Januar'!$X$35)*1440,0)) | X5: =MAX('Januar'!$X$35,N(U5)) | Y5: =IF(ISNUMBER(G5),G5,0)+IF(AND(ISNUMBER(D5),ISNUMBER(E5)),MAX(0,ROUND((E5+IF(E5<C5,1,0)-D5-IF(D5<C5,1,0))*1440,0)),0) | Z5: =IF(A5="","",IF(OR(ISNUMBER(C5)<>ISNUMBER(D5),ISNUMBER(E5)<>ISNUMBER(F5)),"Beginn oder Ende fehlt; ","")&IF(P5<0,"Pause länger als Arbeitszeit; ","")&IF(AND(ROUND(P5*1440,0)>360,ROUND(P5*1440,0)<=540,Y5<30),"Pause unter 30 Min. (§ 4); ","")&IF(AND(ROUND(P5*1440,0)>540,Y5<45),"Pause unter 45 Min. (§ 4); ","")&IF(ROUND(P5*1440,0)>600,"über 10 Std. (§ 3); ","")&IF(W5="","",IF(W5<0,"beginnt vor Ende des Vortags; ",IF(W5<660,"Ruhezeit unter 11 Std. (§ 5); ","")))&IF(AND(ISNUMBER(I5),ROUND(N(I5)*1440,0)>ROUND(P5*1440,0)),"Fahrzeit über Arbeitszeit; ","")&IF(AND(OR(H5="Urlaub",H5="Krank",H5="Bezahlt frei"),ROUND(P5*1440,0)>0),"Abwesenheit und Arbeitszeit; ","")&IF(AND(H5<>"",H5<>"Unbezahlt",S5=0),"Abwesenheit an freiem Tag zählt nicht; ","")) | AA5: =IF(A5="",0,IF(OR(A5<=TODAY(),COUNTA(C5:J5)>0),1,0))
A6: =IF(MONTH(DATE(Jahr,2,2))=2,DATE(Jahr,2,2),"") | B6: =IF(A6="","",CHOOSE(WEEKDAY(A6,2),"Mo","Di","Mi","Do","Fr","Sa","So")) | K6: =IF(OR(A6="",P6+R6<=0),"",P6+R6) | L6: =IF(OR(A6="",S6=0),"",S6) | M6: =IF(OR(A6="",AND(P6+R6=0,S6=0)),"",IF(T6<0,"-","+")&TEXT(ABS(T6),"[h]:mm")) | N6: =IF(A6="","",IF(Q6<>"","Feiertag: "&Q6&IF(Z6<>"","; ",""),"")&IF(Z6<>"",LEFT(Z6,LEN(Z6)-2),"")) | P6: =IF(A6="",0,ROUND((IF(AND(ISNUMBER(C6),ISNUMBER(D6)),MOD(D6-C6,1),0)+IF(AND(ISNUMBER(E6),ISNUMBER(F6)),MOD(F6-E6,1),0)-IF(ISNUMBER(G6),G6,0)/1440)*1440,0)/1440) | Q6: =IF(A6="","",IFERROR(INDEX(FeiertagNamen,MATCH(A6,FeiertagDaten,0)),"")) | R6: =IF(OR(H6="Urlaub",H6="Krank",H6="Bezahlt frei"),S6,IF(H6="Halber Urlaubstag",ROUND(S6*720,0)/1440,0)) | S6: =IF(OR(A6="",Q6<>"",H6="Unbezahlt",AA6=0),0,ROUND(CHOOSE(WEEKDAY(A6,2),N(SollMo),N(SollDi),N(SollMi),N(SollDo),N(SollFr),N(SollSa),N(SollSo))*1440,0)/1440) | T6: =P6+R6-S6 | U6: =IF(OR(A6="",NOT(ISNUMBER(C6)),NOT(ISNUMBER(D6))),"",A6+IF(AND(ISNUMBER(E6),ISNUMBER(F6)),F6+IF(E6<C6,1,0)+IF(F6<E6,1,0),D6+IF(D6<C6,1,0))) | V6: =IF(OR(A6="",NOT(ISNUMBER(C6))),"",A6+C6) | W6: =IF(OR(V6="",X5=0),"",ROUND((V6-X5)*1440,0)) | X6: =MAX(X5,N(U6)) | Y6: =IF(ISNUMBER(G6),G6,0)+IF(AND(ISNUMBER(D6),ISNUMBER(E6)),MAX(0,ROUND((E6+IF(E6<C6,1,0)-D6-IF(D6<C6,1,0))*1440,0)),0) | Z6: =IF(A6="","",IF(OR(ISNUMBER(C6)<>ISNUMBER(D6),ISNUMBER(E6)<>ISNUMBER(F6)),"Beginn oder Ende fehlt; ","")&IF(P6<0,"Pause länger als Arbeitszeit; ","")&IF(AND(ROUND(P6*1440,0)>360,ROUND(P6*1440,0)<=540,Y6<30),"Pause unter 30 Min. (§ 4); ","")&IF(AND(ROUND(P6*1440,0)>540,Y6<45),"Pause unter 45 Min. (§ 4); ","")&IF(ROUND(P6*1440,0)>600,"über 10 Std. (§ 3); ","")&IF(W6="","",IF(W6<0,"beginnt vor Ende des Vortags; ",IF(W6<660,"Ruhezeit unter 11 Std. (§ 5); ","")))&IF(AND(ISNUMBER(I6),ROUND(N(I6)*1440,0)>ROUND(P6*1440,0)),"Fahrzeit über Arbeitszeit; ","")&IF(AND(OR(H6="Urlaub",H6="Krank",H6="Bezahlt frei"),ROUND(P6*1440,0)>0),"Abwesenheit und Arbeitszeit; ","")&IF(AND(H6<>"",H6<>"Unbezahlt",S6=0),"Abwesenheit an freiem Tag zählt nicht; ","")) | AA6: =IF(A6="",0,IF(OR(A6<=TODAY(),COUNTA(C6:J6)>0),1,0))
A7: =IF(MONTH(DATE(Jahr,2,3))=2,DATE(Jahr,2,3),"") | B7: =IF(A7="","",CHOOSE(WEEKDAY(A7,2),"Mo","Di","Mi","Do","Fr","Sa","So")) | K7: =IF(OR(A7="",P7+R7<=0),"",P7+R7) | L7: =IF(OR(A7="",S7=0),"",S7) | M7: =IF(OR(A7="",AND(P7+R7=0,S7=0)),"",IF(T7<0,"-","+")&TEXT(ABS(T7),"[h]:mm")) | N7: =IF(A7="","",IF(Q7<>"","Feiertag: "&Q7&IF(Z7<>"","; ",""),"")&IF(Z7<>"",LEFT(Z7,LEN(Z7)-2),"")) | P7: =IF(A7="",0,ROUND((IF(AND(ISNUMBER(C7),ISNUMBER(D7)),MOD(D7-C7,1),0)+IF(AND(ISNUMBER(E7),ISNUMBER(F7)),MOD(F7-E7,1),0)-IF(ISNUMBER(G7),G7,0)/1440)*1440,0)/1440) | Q7: =IF(A7="","",IFERROR(INDEX(FeiertagNamen,MATCH(A7,FeiertagDaten,0)),"")) | R7: =IF(OR(H7="Urlaub",H7="Krank",H7="Bezahlt frei"),S7,IF(H7="Halber Urlaubstag",ROUND(S7*720,0)/1440,0)) | S7: =IF(OR(A7="",Q7<>"",H7="Unbezahlt",AA7=0),0,ROUND(CHOOSE(WEEKDAY(A7,2),N(SollMo),N(SollDi),N(SollMi),N(SollDo),N(SollFr),N(SollSa),N(SollSo))*1440,0)/1440) | T7: =P7+R7-S7 | U7: =IF(OR(A7="",NOT(ISNUMBER(C7)),NOT(ISNUMBER(D7))),"",A7+IF(AND(ISNUMBER(E7),ISNUMBER(F7)),F7+IF(E7<C7,1,0)+IF(F7<E7,1,0),D7+IF(D7<C7,1,0))) | V7: =IF(OR(A7="",NOT(ISNUMBER(C7))),"",A7+C7) | W7: =IF(OR(V7="",X6=0),"",ROUND((V7-X6)*1440,0)) | X7: =MAX(X6,N(U7)) | Y7: =IF(ISNUMBER(G7),G7,0)+IF(AND(ISNUMBER(D7),ISNUMBER(E7)),MAX(0,ROUND((E7+IF(E7<C7,1,0)-D7-IF(D7<C7,1,0))*1440,0)),0) | Z7: =IF(A7="","",IF(OR(ISNUMBER(C7)<>ISNUMBER(D7),ISNUMBER(E7)<>ISNUMBER(F7)),"Beginn oder Ende fehlt; ","")&IF(P7<0,"Pause länger als Arbeitszeit; ","")&IF(AND(ROUND(P7*1440,0)>360,ROUND(P7*1440,0)<=540,Y7<30),"Pause unter 30 Min. (§ 4); ","")&IF(AND(ROUND(P7*1440,0)>540,Y7<45),"Pause unter 45 Min. (§ 4); ","")&IF(ROUND(P7*1440,0)>600,"über 10 Std. (§ 3); ","")&IF(W7="","",IF(W7<0,"beginnt vor Ende des Vortags; ",IF(W7<660,"Ruhezeit unter 11 Std. (§ 5); ","")))&IF(AND(ISNUMBER(I7),ROUND(N(I7)*1440,0)>ROUND(P7*1440,0)),"Fahrzeit über Arbeitszeit; ","")&IF(AND(OR(H7="Urlaub",H7="Krank",H7="Bezahlt frei"),ROUND(P7*1440,0)>0),"Abwesenheit und Arbeitszeit; ","")&IF(AND(H7<>"",H7<>"Unbezahlt",S7=0),"Abwesenheit an freiem Tag zählt nicht; ","")) | AA7: =IF(A7="",0,IF(OR(A7<=TODAY(),COUNTA(C7:J7)>0),1,0))
A8: =IF(MONTH(DATE(Jahr,2,4))=2,DATE(Jahr,2,4),"") | B8: =IF(A8="","",CHOOSE(WEEKDAY(A8,2),"Mo","Di","Mi","Do","Fr","Sa","So")) | K8: =IF(OR(A8="",P8+R8<=0),"",P8+R8) | L8: =IF(OR(A8="",S8=0),"",S8) | M8: =IF(OR(A8="",AND(P8+R8=0,S8=0)),"",IF(T8<0,"-","+")&TEXT(ABS(T8),"[h]:mm")) | N8: =IF(A8="","",IF(Q8<>"","Feiertag: "&Q8&IF(Z8<>"","; ",""),"")&IF(Z8<>"",LEFT(Z8,LEN(Z8)-2),"")) | P8: =IF(A8="",0,ROUND((IF(AND(ISNUMBER(C8),ISNUMBER(D8)),MOD(D8-C8,1),0)+IF(AND(ISNUMBER(E8),ISNUMBER(F8)),MOD(F8-E8,1),0)-IF(ISNUMBER(G8),G8,0)/1440)*1440,0)/1440) | Q8: =IF(A8="","",IFERROR(INDEX(FeiertagNamen,MATCH(A8,FeiertagDaten,0)),"")) | R8: =IF(OR(H8="Urlaub",H8="Krank",H8="Bezahlt frei"),S8,IF(H8="Halber Urlaubstag",ROUND(S8*720,0)/1440,0)) | S8: =IF(OR(A8="",Q8<>"",H8="Unbezahlt",AA8=0),0,ROUND(CHOOSE(WEEKDAY(A8,2),N(SollMo),N(SollDi),N(SollMi),N(SollDo),N(SollFr),N(SollSa),N(SollSo))*1440,0)/1440) | T8: =P8+R8-S8 | U8: =IF(OR(A8="",NOT(ISNUMBER(C8)),NOT(ISNUMBER(D8))),"",A8+IF(AND(ISNUMBER(E8),ISNUMBER(F8)),F8+IF(E8<C8,1,0)+IF(F8<E8,1,0),D8+IF(D8<C8,1,0))) | V8: =IF(OR(A8="",NOT(ISNUMBER(C8))),"",A8+C8) | W8: =IF(OR(V8="",X7=0),"",ROUND((V8-X7)*1440,0)) | X8: =MAX(X7,N(U8)) | Y8: =IF(ISNUMBER(G8),G8,0)+IF(AND(ISNUMBER(D8),ISNUMBER(E8)),MAX(0,ROUND((E8+IF(E8<C8,1,0)-D8-IF(D8<C8,1,0))*1440,0)),0) | Z8: =IF(A8="","",IF(OR(ISNUMBER(C8)<>ISNUMBER(D8),ISNUMBER(E8)<>ISNUMBER(F8)),"Beginn oder Ende fehlt; ","")&IF(P8<0,"Pause länger als Arbeitszeit; ","")&IF(AND(ROUND(P8*1440,0)>360,ROUND(P8*1440,0)<=540,Y8<30),"Pause unter 30 Min. (§ 4); ","")&IF(AND(ROUND(P8*1440,0)>540,Y8<45),"Pause unter 45 Min. (§ 4); ","")&IF(ROUND(P8*1440,0)>600,"über 10 Std. (§ 3); ","")&IF(W8="","",IF(W8<0,"beginnt vor Ende des Vortags; ",IF(W8<660,"Ruhezeit unter 11 Std. (§ 5); ","")))&IF(AND(ISNUMBER(I8),ROUND(N(I8)*1440,0)>ROUND(P8*1440,0)),"Fahrzeit über Arbeitszeit; ","")&IF(AND(OR(H8="Urlaub",H8="Krank",H8="Bezahlt frei"),ROUND(P8*1440,0)>0),"Abwesenheit und Arbeitszeit; ","")&IF(AND(H8<>"",H8<>"Unbezahlt",S8=0),"Abwesenheit an freiem Tag zählt nicht; ","")) | AA8: =IF(A8="",0,IF(OR(A8<=TODAY(),COUNTA(C8:J8)>0),1,0))
A9: =IF(MONTH(DATE(Jahr,2,5))=2,DATE(Jahr,2,5),"") | B9: =IF(A9="","",CHOOSE(WEEKDAY(A9,2),"Mo","Di","Mi","Do","Fr","Sa","So")) | K9: =IF(OR(A9="",P9+R9<=0),"",P9+R9) | L9: =IF(OR(A9="",S9=0),"",S9) | M9: =IF(OR(A9="",AND(P9+R9=0,S9=0)),"",IF(T9<0,"-","+")&TEXT(ABS(T9),"[h]:mm")) | N9: =IF(A9="","",IF(Q9<>"","Feiertag: "&Q9&IF(Z9<>"","; ",""),"")&IF(Z9<>"",LEFT(Z9,LEN(Z9)-2),"")) | P9: =IF(A9="",0,ROUND((IF(AND(ISNUMBER(C9),ISNUMBER(D9)),MOD(D9-C9,1),0)+IF(AND(ISNUMBER(E9),ISNUMBER(F9)),MOD(F9-E9,1),0)-IF(ISNUMBER(G9),G9,0)/1440)*1440,0)/1440) | Q9: =IF(A9="","",IFERROR(INDEX(FeiertagNamen,MATCH(A9,FeiertagDaten,0)),"")) | R9: =IF(OR(H9="Urlaub",H9="Krank",H9="Bezahlt frei"),S9,IF(H9="Halber Urlaubstag",ROUND(S9*720,0)/1440,0)) | S9: =IF(OR(A9="",Q9<>"",H9="Unbezahlt",AA9=0),0,ROUND(CHOOSE(WEEKDAY(A9,2),N(SollMo),N(SollDi),N(SollMi),N(SollDo),N(SollFr),N(SollSa),N(SollSo))*1440,0)/1440) | T9: =P9+R9-S9 | U9: =IF(OR(A9="",NOT(ISNUMBER(C9)),NOT(ISNUMBER(D9))),"",A9+IF(AND(ISNUMBER(E9),ISNUMBER(F9)),F9+IF(E9<C9,1,0)+IF(F9<E9,1,0),D9+IF(D9<C9,1,0))) | V9: =IF(OR(A9="",NOT(ISNUMBER(C9))),"",A9+C9) | W9: =IF(OR(V9="",X8=0),"",ROUND((V9-X8)*1440,0)) | X9: =MAX(X8,N(U9)) | Y9: =IF(ISNUMBER(G9),G9,0)+IF(AND(ISNUMBER(D9),ISNUMBER(E9)),MAX(0,ROUND((E9+IF(E9<C9,1,0)-D9-IF(D9<C9,1,0))*1440,0)),0) | Z9: =IF(A9="","",IF(OR(ISNUMBER(C9)<>ISNUMBER(D9),ISNUMBER(E9)<>ISNUMBER(F9)),"Beginn oder Ende fehlt; ","")&IF(P9<0,"Pause länger als Arbeitszeit; ","")&IF(AND(ROUND(P9*1440,0)>360,ROUND(P9*1440,0)<=540,Y9<30),"Pause unter 30 Min. (§ 4); ","")&IF(AND(ROUND(P9*1440,0)>540,Y9<45),"Pause unter 45 Min. (§ 4); ","")&IF(ROUND(P9*1440,0)>600,"über 10 Std. (§ 3); ","")&IF(W9="","",IF(W9<0,"beginnt vor Ende des Vortags; ",IF(W9<660,"Ruhezeit unter 11 Std. (§ 5); ","")))&IF(AND(ISNUMBER(I9),ROUND(N(I9)*1440,0)>ROUND(P9*1440,0)),"Fahrzeit über Arbeitszeit; ","")&IF(AND(OR(H9="Urlaub",H9="Krank",H9="Bezahlt frei"),ROUND(P9*1440,0)>0),"Abwesenheit und Arbeitszeit; ","")&IF(AND(H9<>"",H9<>"Unbezahlt",S9=0),"Abwesenheit an freiem Tag zählt nicht; ","")) | AA9: =IF(A9="",0,IF(OR(A9<=TODAY(),COUNTA(C9:J9)>0),1,0))
A10: =IF(MONTH(DATE(Jahr,2,6))=2,DATE(Jahr,2,6),"") | B10: =IF(A10="","",CHOOSE(WEEKDAY(A10,2),"Mo","Di","Mi","Do","Fr","Sa","So")) | K10: =IF(OR(A10="",P10+R10<=0),"",P10+R10) | L10: =IF(OR(A10="",S10=0),"",S10) | M10: =IF(OR(A10="",AND(P10+R10=0,S10=0)),"",IF(T10<0,"-","+")&TEXT(ABS(T10),"[h]:mm")) | N10: =IF(A10="","",IF(Q10<>"","Feiertag: "&Q10&IF(Z10<>"","; ",""),"")&IF(Z10<>"",LEFT(Z10,LEN(Z10)-2),"")) | P10: =IF(A10="",0,ROUND((IF(AND(ISNUMBER(C10),ISNUMBER(D10)),MOD(D10-C10,1),0)+IF(AND(ISNUMBER(E10),ISNUMBER(F10)),MOD(F10-E10,1),0)-IF(ISNUMBER(G10),G10,0)/1440)*1440,0)/1440) | Q10: =IF(A10="","",IFERROR(INDEX(FeiertagNamen,MATCH(A10,FeiertagDaten,0)),"")) | R10: =IF(OR(H10="Urlaub",H10="Krank",H10="Bezahlt frei"),S10,IF(H10="Halber Urlaubstag",ROUND(S10*720,0)/1440,0)) | S10: =IF(OR(A10="",Q10<>"",H10="Unbezahlt",AA10=0),0,ROUND(CHOOSE(WEEKDAY(A10,2),N(SollMo),N(SollDi),N(SollMi),N(SollDo),N(SollFr),N(SollSa),N(SollSo))*1440,0)/1440) | T10: =P10+R10-S10 | U10: =IF(OR(A10="",NOT(ISNUMBER(C10)),NOT(ISNUMBER(D10))),"",A10+IF(AND(ISNUMBER(E10),ISNUMBER(F10)),F10+IF(E10<C10,1,0)+IF(F10<E10,1,0),D10+IF(D10<C10,1,0))) | V10: =IF(OR(A10="",NOT(ISNUMBER(C10))),"",A10+C10) | W10: =IF(OR(V10="",X9=0),"",ROUND((V10-X9)*1440,0)) | X10: =MAX(X9,N(U10)) | Y10: =IF(ISNUMBER(G10),G10,0)+IF(AND(ISNUMBER(D10),ISNUMBER(E10)),MAX(0,ROUND((E10+IF(E10<C10,1,0)-D10-IF(D10<C10,1,0))*1440,0)),0) | Z10: =IF(A10="","",IF(OR(ISNUMBER(C10)<>ISNUMBER(D10),ISNUMBER(E10)<>ISNUMBER(F10)),"Beginn oder Ende fehlt; ","")&IF(P10<0,"Pause länger als Arbeitszeit; ","")&IF(AND(ROUND(P10*1440,0)>360,ROUND(P10*1440,0)<=540,Y10<30),"Pause unter 30 Min. (§ 4); ","")&IF(AND(ROUND(P10*1440,0)>540,Y10<45),"Pause unter 45 Min. (§ 4); ","")&IF(ROUND(P10*1440,0)>600,"über 10 Std. (§ 3); ","")&IF(W10="","",IF(W10<0,"beginnt vor Ende des Vortags; ",IF(W10<660,"Ruhezeit unter 11 Std. (§ 5); ","")))&IF(AND(ISNUMBER(I10),ROUND(N(I10)*1440,0)>ROUND(P10*1440,0)),"Fahrzeit über Arbeitszeit; ","")&IF(AND(OR(H10="Urlaub",H10="Krank",H10="Bezahlt frei"),ROUND(P10*1440,0)>0),"Abwesenheit und Arbeitszeit; ","")&IF(AND(H10<>"",H10<>"Unbezahlt",S10=0),"Abwesenheit an freiem Tag zählt nicht; ","")) | AA10: =IF(A10="",0,IF(OR(A10<=TODAY(),COUNTA(C10:J10)>0),1,0))
A11: =IF(MONTH(DATE(Jahr,2,7))=2,DATE(Jahr,2,7),"") | B11: =IF(A11="","",CHOOSE(WEEKDAY(A11,2),"Mo","Di","Mi","Do","Fr","Sa","So")) | K11: =IF(OR(A11="",P11+R11<=0),"",P11+R11) | L11: =IF(OR(A11="",S11=0),"",S11) | M11: =IF(OR(A11="",AND(P11+R11=0,S11=0)),"",IF(T11<0,"-","+")&TEXT(ABS(T11),"[h]:mm")) | N11: =IF(A11="","",IF(Q11<>"","Feiertag: "&Q11&IF(Z11<>"","; ",""),"")&IF(Z11<>"",LEFT(Z11,LEN(Z11)-2),"")) | P11: =IF(A11="",0,ROUND((IF(AND(ISNUMBER(C11),ISNUMBER(D11)),MOD(D11-C11,1),0)+IF(AND(ISNUMBER(E11),ISNUMBER(F11)),MOD(F11-E11,1),0)-IF(ISNUMBER(G11),G11,0)/1440)*1440,0)/1440) | Q11: =IF(A11="","",IFERROR(INDEX(FeiertagNamen,MATCH(A11,FeiertagDaten,0)),"")) | R11: =IF(OR(H11="Urlaub",H11="Krank",H11="Bezahlt frei"),S11,IF(H11="Halber Urlaubstag",ROUND(S11*720,0)/1440,0)) | S11: =IF(OR(A11="",Q11<>"",H11="Unbezahlt",AA11=0),0,ROUND(CHOOSE(WEEKDAY(A11,2),N(SollMo),N(SollDi),N(SollMi),N(SollDo),N(SollFr),N(SollSa),N(SollSo))*1440,0)/1440) | T11: =P11+R11-S11 | U11: =IF(OR(A11="",NOT(ISNUMBER(C11)),NOT(ISNUMBER(D11))),"",A11+IF(AND(ISNUMBER(E11),ISNUMBER(F11)),F11+IF(E11<C11,1,0)+IF(F11<E11,1,0),D11+IF(D11<C11,1,0))) | V11: =IF(OR(A11="",NOT(ISNUMBER(C11))),"",A11+C11) | W11: =IF(OR(V11="",X10=0),"",ROUND((V11-X10)*1440,0)) | X11: =MAX(X10,N(U11)) | Y11: =IF(ISNUMBER(G11),G11,0)+IF(AND(ISNUMBER(D11),ISNUMBER(E11)),MAX(0,ROUND((E11+IF(E11<C11,1,0)-D11-IF(D11<C11,1,0))*1440,0)),0) | Z11: =IF(A11="","",IF(OR(ISNUMBER(C11)<>ISNUMBER(D11),ISNUMBER(E11)<>ISNUMBER(F11)),"Beginn oder Ende fehlt; ","")&IF(P11<0,"Pause länger als Arbeitszeit; ","")&IF(AND(ROUND(P11*1440,0)>360,ROUND(P11*1440,0)<=540,Y11<30),"Pause unter 30 Min. (§ 4); ","")&IF(AND(ROUND(P11*1440,0)>540,Y11<45),"Pause unter 45 Min. (§ 4); ","")&IF(ROUND(P11*1440,0)>600,"über 10 Std. (§ 3); ","")&IF(W11="","",IF(W11<0,"beginnt vor Ende des Vortags; ",IF(W11<660,"Ruhezeit unter 11 Std. (§ 5); ","")))&IF(AND(ISNUMBER(I11),ROUND(N(I11)*1440,0)>ROUND(P11*1440,0)),"Fahrzeit über Arbeitszeit; ","")&IF(AND(OR(H11="Urlaub",H11="Krank",H11="Bezahlt frei"),ROUND(P11*1440,0)>0),"Abwesenheit und Arbeitszeit; ","")&IF(AND(H11<>"",H11<>"Unbezahlt",S11=0),"Abwesenheit an freiem Tag zählt nicht; ","")) | AA11: =IF(A11="",0,IF(OR(A11<=TODAY(),COUNTA(C11:J11)>0),1,0))
A12: =IF(MONTH(DATE(Jahr,2,8))=2,DATE(Jahr,2,8),"") | B12: =IF(A12="","",CHOOSE(WEEKDAY(A12,2),"Mo","Di","Mi","Do","Fr","Sa","So")) | K12: =IF(OR(A12="",P12+R12<=0),"",P12+R12) | L12: =IF(OR(A12="",S12=0),"",S12) | M12: =IF(OR(A12="",AND(P12+R12=0,S12=0)),"",IF(T12<0,"-","+")&TEXT(ABS(T12),"[h]:mm")) | N12: =IF(A12="","",IF(Q12<>"","Feiertag: "&Q12&IF(Z12<>"","; ",""),"")&IF(Z12<>"",LEFT(Z12,LEN(Z12)-2),"")) | P12: =IF(A12="",0,ROUND((IF(AND(ISNUMBER(C12),ISNUMBER(D12)),MOD(D12-C12,1),0)+IF(AND(ISNUMBER(E12),ISNUMBER(F12)),MOD(F12-E12,1),0)-IF(ISNUMBER(G12),G12,0)/1440)*1440,0)/1440) | Q12: =IF(A12="","",IFERROR(INDEX(FeiertagNamen,MATCH(A12,FeiertagDaten,0)),"")) | R12: =IF(OR(H12="Urlaub",H12="Krank",H12="Bezahlt frei"),S12,IF(H12="Halber Urlaubstag",ROUND(S12*720,0)/1440,0)) | S12: =IF(OR(A12="",Q12<>"",H12="Unbezahlt",AA12=0),0,ROUND(CHOOSE(WEEKDAY(A12,2),N(SollMo),N(SollDi),N(SollMi),N(SollDo),N(SollFr),N(SollSa),N(SollSo))*1440,0)/1440) | T12: =P12+R12-S12 | U12: =IF(OR(A12="",NOT(ISNUMBER(C12)),NOT(ISNUMBER(D12))),"",A12+IF(AND(ISNUMBER(E12),ISNUMBER(F12)),F12+IF(E12<C12,1,0)+IF(F12<E12,1,0),D12+IF(D12<C12,1,0))) | V12: =IF(OR(A12="",NOT(ISNUMBER(C12))),"",A12+C12) | W12: =IF(OR(V12="",X11=0),"",ROUND((V12-X11)*1440,0)) | X12: =MAX(X11,N(U12)) | Y12: =IF(ISNUMBER(G12),G12,0)+IF(AND(ISNUMBER(D12),ISNUMBER(E12)),MAX(0,ROUND((E12+IF(E12<C12,1,0)-D12-IF(D12<C12,1,0))*1440,0)),0) | Z12: =IF(A12="","",IF(OR(ISNUMBER(C12)<>ISNUMBER(D12),ISNUMBER(E12)<>ISNUMBER(F12)),"Beginn oder Ende fehlt; ","")&IF(P12<0,"Pause länger als Arbeitszeit; ","")&IF(AND(ROUND(P12*1440,0)>360,ROUND(P12*1440,0)<=540,Y12<30),"Pause unter 30 Min. (§ 4); ","")&IF(AND(ROUND(P12*1440,0)>540,Y12<45),"Pause unter 45 Min. (§ 4); ","")&IF(ROUND(P12*1440,0)>600,"über 10 Std. (§ 3); ","")&IF(W12="","",IF(W12<0,"beginnt vor Ende des Vortags; ",IF(W12<660,"Ruhezeit unter 11 Std. (§ 5); ","")))&IF(AND(ISNUMBER(I12),ROUND(N(I12)*1440,0)>ROUND(P12*1440,0)),"Fahrzeit über Arbeitszeit; ","")&IF(AND(OR(H12="Urlaub",H12="Krank",H12="Bezahlt frei"),ROUND(P12*1440,0)>0),"Abwesenheit und Arbeitszeit; ","")&IF(AND(H12<>"",H12<>"Unbezahlt",S12=0),"Abwesenheit an freiem Tag zählt nicht; ","")) | AA12: =IF(A12="",0,IF(OR(A12<=TODAY(),COUNTA(C12:J12)>0),1,0))
A13: =IF(MONTH(DATE(Jahr,2,9))=2,DATE(Jahr,2,9),"") | B13: =IF(A13="","",CHOOSE(WEEKDAY(A13,2),"Mo","Di","Mi","Do","Fr","Sa","So")) | K13: =IF(OR(A13="",P13+R13<=0),"",P13+R13) | L13: =IF(OR(A13="",S13=0),"",S13) | M13: =IF(OR(A13="",AND(P13+R13=0,S13=0)),"",IF(T13<0,"-","+")&TEXT(ABS(T13),"[h]:mm")) | N13: =IF(A13="","",IF(Q13<>"","Feiertag: "&Q13&IF(Z13<>"","; ",""),"")&IF(Z13<>"",LEFT(Z13,LEN(Z13)-2),"")) | P13: =IF(A13="",0,ROUND((IF(AND(ISNUMBER(C13),ISNUMBER(D13)),MOD(D13-C13,1),0)+IF(AND(ISNUMBER(E13),ISNUMBER(F13)),MOD(F13-E13,1),0)-IF(ISNUMBER(G13),G13,0)/1440)*1440,0)/1440) | Q13: =IF(A13="","",IFERROR(INDEX(FeiertagNamen,MATCH(A13,FeiertagDaten,0)),"")) | R13: =IF(OR(H13="Urlaub",H13="Krank",H13="Bezahlt frei"),S13,IF(H13="Halber Urlaubstag",ROUND(S13*720,0)/1440,0)) | S13: =IF(OR(A13="",Q13<>"",H13="Unbezahlt",AA13=0),0,ROUND(CHOOSE(WEEKDAY(A13,2),N(SollMo),N(SollDi),N(SollMi),N(SollDo),N(SollFr),N(SollSa),N(SollSo))*1440,0)/1440) | T13: =P13+R13-S13 | U13: =IF(OR(A13="",NOT(ISNUMBER(C13)),NOT(ISNUMBER(D13))),"",A13+IF(AND(ISNUMBER(E13),ISNUMBER(F13)),F13+IF(E13<C13,1,0)+IF(F13<E13,1,0),D13+IF(D13<C13,1,0))) | V13: =IF(OR(A13="",NOT(ISNUMBER(C13))),"",A13+C13) | W13: =IF(OR(V13="",X12=0),"",ROUND((V13-X12)*1440,0)) | X13: =MAX(X12,N(U13)) | Y13: =IF(ISNUMBER(G13),G13,0)+IF(AND(ISNUMBER(D13),ISNUMBER(E13)),MAX(0,ROUND((E13+IF(E13<C13,1,0)-D13-IF(D13<C13,1,0))*1440,0)),0) | Z13: =IF(A13="","",IF(OR(ISNUMBER(C13)<>ISNUMBER(D13),ISNUMBER(E13)<>ISNUMBER(F13)),"Beginn oder Ende fehlt; ","")&IF(P13<0,"Pause länger als Arbeitszeit; ","")&IF(AND(ROUND(P13*1440,0)>360,ROUND(P13*1440,0)<=540,Y13<30),"Pause unter 30 Min. (§ 4); ","")&IF(AND(ROUND(P13*1440,0)>540,Y13<45),"Pause unter 45 Min. (§ 4); ","")&IF(ROUND(P13*1440,0)>600,"über 10 Std. (§ 3); ","")&IF(W13="","",IF(W13<0,"beginnt vor Ende des Vortags; ",IF(W13<660,"Ruhezeit unter 11 Std. (§ 5); ","")))&IF(AND(ISNUMBER(I13),ROUND(N(I13)*1440,0)>ROUND(P13*1440,0)),"Fahrzeit über Arbeitszeit; ","")&IF(AND(OR(H13="Urlaub",H13="Krank",H13="Bezahlt frei"),ROUND(P13*1440,0)>0),"Abwesenheit und Arbeitszeit; ","")&IF(AND(H13<>"",H13<>"Unbezahlt",S13=0),"Abwesenheit an freiem Tag zählt nicht; ","")) | AA13: =IF(A13="",0,IF(OR(A13<=TODAY(),COUNTA(C13:J13)>0),1,0))
A14: =IF(MONTH(DATE(Jahr,2,10))=2,DATE(Jahr,2,10),"") | B14: =IF(A14="","",CHOOSE(WEEKDAY(A14,2),"Mo","Di","Mi","Do","Fr","Sa","So")) | K14: =IF(OR(A14="",P14+R14<=0),"",P14+R14) | L14: =IF(OR(A14="",S14=0),"",S14) | M14: =IF(OR(A14="",AND(P14+R14=0,S14=0)),"",IF(T14<0,"-","+")&TEXT(ABS(T14),"[h]:mm")) | N14: =IF(A14="","",IF(Q14<>"","Feiertag: "&Q14&IF(Z14<>"","; ",""),"")&IF(Z14<>"",LEFT(Z14,LEN(Z14)-2),"")) | P14: =IF(A14="",0,ROUND((IF(AND(ISNUMBER(C14),ISNUMBER(D14)),MOD(D14-C14,1),0)+IF(AND(ISNUMBER(E14),ISNUMBER(F14)),MOD(F14-E14,1),0)-IF(ISNUMBER(G14),G14,0)/1440)*1440,0)/1440) | Q14: =IF(A14="","",IFERROR(INDEX(FeiertagNamen,MATCH(A14,FeiertagDaten,0)),"")) | R14: =IF(OR(H14="Urlaub",H14="Krank",H14="Bezahlt frei"),S14,IF(H14="Halber Urlaubstag",ROUND(S14*720,0)/1440,0)) | S14: =IF(OR(A14="",Q14<>"",H14="Unbezahlt",AA14=0),0,ROUND(CHOOSE(WEEKDAY(A14,2),N(SollMo),N(SollDi),N(SollMi),N(SollDo),N(SollFr),N(SollSa),N(SollSo))*1440,0)/1440) | T14: =P14+R14-S14 | U14: =IF(OR(A14="",NOT(ISNUMBER(C14)),NOT(ISNUMBER(D14))),"",A14+IF(AND(ISNUMBER(E14),ISNUMBER(F14)),F14+IF(E14<C14,1,0)+IF(F14<E14,1,0),D14+IF(D14<C14,1,0))) | V14: =IF(OR(A14="",NOT(ISNUMBER(C14))),"",A14+C14) | W14: =IF(OR(V14="",X13=0),"",ROUND((V14-X13)*1440,0)) | X14: =MAX(X13,N(U14)) | Y14: =IF(ISNUMBER(G14),G14,0)+IF(AND(ISNUMBER(D14),ISNUMBER(E14)),MAX(0,ROUND((E14+IF(E14<C14,1,0)-D14-IF(D14<C14,1,0))*1440,0)),0) | Z14: =IF(A14="","",IF(OR(ISNUMBER(C14)<>ISNUMBER(D14),ISNUMBER(E14)<>ISNUMBER(F14)),"Beginn oder Ende fehlt; ","")&IF(P14<0,"Pause länger als Arbeitszeit; ","")&IF(AND(ROUND(P14*1440,0)>360,ROUND(P14*1440,0)<=540,Y14<30),"Pause unter 30 Min. (§ 4); ","")&IF(AND(ROUND(P14*1440,0)>540,Y14<45),"Pause unter 45 Min. (§ 4); ","")&IF(ROUND(P14*1440,0)>600,"über 10 Std. (§ 3); ","")&IF(W14="","",IF(W14<0,"beginnt vor Ende des Vortags; ",IF(W14<660,"Ruhezeit unter 11 Std. (§ 5); ","")))&IF(AND(ISNUMBER(I14),ROUND(N(I14)*1440,0)>ROUND(P14*1440,0)),"Fahrzeit über Arbeitszeit; ","")&IF(AND(OR(H14="Urlaub",H14="Krank",H14="Bezahlt frei"),ROUND(P14*1440,0)>0),"Abwesenheit und Arbeitszeit; ","")&IF(AND(H14<>"",H14<>"Unbezahlt",S14=0),"Abwesenheit an freiem Tag zählt nicht; ","")) | AA14: =IF(A14="",0,IF(OR(A14<=TODAY(),COUNTA(C14:J14)>0),1,0))
A15: =IF(MONTH(DATE(Jahr,2,11))=2,DATE(Jahr,2,11),"") | B15: =IF(A15="","",CHOOSE(WEEKDAY(A15,2),"Mo","Di","Mi","Do","Fr","Sa","So")) | K15: =IF(OR(A15="",P15+R15<=0),"",P15+R15) | L15: =IF(OR(A15="",S15=0),"",S15) | M15: =IF(OR(A15="",AND(P15+R15=0,S15=0)),"",IF(T15<0,"-","+")&TEXT(ABS(T15),"[h]:mm")) | N15: =IF(A15="","",IF(Q15<>"","Feiertag: "&Q15&IF(Z15<>"","; ",""),"")&IF(Z15<>"",LEFT(Z15,LEN(Z15)-2),"")) | P15: =IF(A15="",0,ROUND((IF(AND(ISNUMBER(C15),ISNUMBER(D15)),MOD(D15-C15,1),0)+IF(AND(ISNUMBER(E15),ISNUMBER(F15)),MOD(F15-E15,1),0)-IF(ISNUMBER(G15),G15,0)/1440)*1440,0)/1440) | Q15: =IF(A15="","",IFERROR(INDEX(FeiertagNamen,MATCH(A15,FeiertagDaten,0)),"")) | R15: =IF(OR(H15="Urlaub",H15="Krank",H15="Bezahlt frei"),S15,IF(H15="Halber Urlaubstag",ROUND(S15*720,0)/1440,0)) | S15: =IF(OR(A15="",Q15<>"",H15="Unbezahlt",AA15=0),0,ROUND(CHOOSE(WEEKDAY(A15,2),N(SollMo),N(SollDi),N(SollMi),N(SollDo),N(SollFr),N(SollSa),N(SollSo))*1440,0)/1440) | T15: =P15+R15-S15 | U15: =IF(OR(A15="",NOT(ISNUMBER(C15)),NOT(ISNUMBER(D15))),"",A15+IF(AND(ISNUMBER(E15),ISNUMBER(F15)),F15+IF(E15<C15,1,0)+IF(F15<E15,1,0),D15+IF(D15<C15,1,0))) | V15: =IF(OR(A15="",NOT(ISNUMBER(C15))),"",A15+C15) | W15: =IF(OR(V15="",X14=0),"",ROUND((V15-X14)*1440,0)) | X15: =MAX(X14,N(U15)) | Y15: =IF(ISNUMBER(G15),G15,0)+IF(AND(ISNUMBER(D15),ISNUMBER(E15)),MAX(0,ROUND((E15+IF(E15<C15,1,0)-D15-IF(D15<C15,1,0))*1440,0)),0) | Z15: =IF(A15="","",IF(OR(ISNUMBER(C15)<>ISNUMBER(D15),ISNUMBER(E15)<>ISNUMBER(F15)),"Beginn oder Ende fehlt; ","")&IF(P15<0,"Pause länger als Arbeitszeit; ","")&IF(AND(ROUND(P15*1440,0)>360,ROUND(P15*1440,0)<=540,Y15<30),"Pause unter 30 Min. (§ 4); ","")&IF(AND(ROUND(P15*1440,0)>540,Y15<45),"Pause unter 45 Min. (§ 4); ","")&IF(ROUND(P15*1440,0)>600,"über 10 Std. (§ 3); ","")&IF(W15="","",IF(W15<0,"beginnt vor Ende des Vortags; ",IF(W15<660,"Ruhezeit unter 11 Std. (§ 5); ","")))&IF(AND(ISNUMBER(I15),ROUND(N(I15)*1440,0)>ROUND(P15*1440,0)),"Fahrzeit über Arbeitszeit; ","")&IF(AND(OR(H15="Urlaub",H15="Krank",H15="Bezahlt frei"),ROUND(P15*1440,0)>0),"Abwesenheit und Arbeitszeit; ","")&IF(AND(H15<>"",H15<>"Unbezahlt",S15=0),"Abwesenheit an freiem Tag zählt nicht; ","")) | AA15: =IF(A15="",0,IF(OR(A15<=TODAY(),COUNTA(C15:J15)>0),1,0))
A16: =IF(MONTH(DATE(Jahr,2,12))=2,DATE(Jahr,2,12),"") | B16: =IF(A16="","",CHOOSE(WEEKDAY(A16,2),"Mo","Di","Mi","Do","Fr","Sa","So")) | K16: =IF(OR(A16="",P16+R16<=0),"",P16+R16) | L16: =IF(OR(A16="",S16=0),"",S16) | M16: =IF(OR(A16="",AND(P16+R16=0,S16=0)),"",IF(T16<0,"-","+")&TEXT(ABS(T16),"[h]:mm")) | N16: =IF(A16="","",IF(Q16<>"","Feiertag: "&Q16&IF(Z16<>"","; ",""),"")&IF(Z16<>"",LEFT(Z16,LEN(Z16)-2),"")) | P16: =IF(A16="",0,ROUND((IF(AND(ISNUMBER(C16),ISNUMBER(D16)),MOD(D16-C16,1),0)+IF(AND(ISNUMBER(E16),ISNUMBER(F16)),MOD(F16-E16,1),0)-IF(ISNUMBER(G16),G16,0)/1440)*1440,0)/1440) | Q16: =IF(A16="","",IFERROR(INDEX(FeiertagNamen,MATCH(A16,FeiertagDaten,0)),"")) | R16: =IF(OR(H16="Urlaub",H16="Krank",H16="Bezahlt frei"),S16,IF(H16="Halber Urlaubstag",ROUND(S16*720,0)/1440,0)) | S16: =IF(OR(A16="",Q16<>"",H16="Unbezahlt",AA16=0),0,ROUND(CHOOSE(WEEKDAY(A16,2),N(SollMo),N(SollDi),N(SollMi),N(SollDo),N(SollFr),N(SollSa),N(SollSo))*1440,0)/1440) | T16: =P16+R16-S16 | U16: =IF(OR(A16="",NOT(ISNUMBER(C16)),NOT(ISNUMBER(D16))),"",A16+IF(AND(ISNUMBER(E16),ISNUMBER(F16)),F16+IF(E16<C16,1,0)+IF(F16<E16,1,0),D16+IF(D16<C16,1,0))) | V16: =IF(OR(A16="",NOT(ISNUMBER(C16))),"",A16+C16) | W16: =IF(OR(V16="",X15=0),"",ROUND((V16-X15)*1440,0)) | X16: =MAX(X15,N(U16)) | Y16: =IF(ISNUMBER(G16),G16,0)+IF(AND(ISNUMBER(D16),ISNUMBER(E16)),MAX(0,ROUND((E16+IF(E16<C16,1,0)-D16-IF(D16<C16,1,0))*1440,0)),0) | Z16: =IF(A16="","",IF(OR(ISNUMBER(C16)<>ISNUMBER(D16),ISNUMBER(E16)<>ISNUMBER(F16)),"Beginn oder Ende fehlt; ","")&IF(P16<0,"Pause länger als Arbeitszeit; ","")&IF(AND(ROUND(P16*1440,0)>360,ROUND(P16*1440,0)<=540,Y16<30),"Pause unter 30 Min. (§ 4); ","")&IF(AND(ROUND(P16*1440,0)>540,Y16<45),"Pause unter 45 Min. (§ 4); ","")&IF(ROUND(P16*1440,0)>600,"über 10 Std. (§ 3); ","")&IF(W16="","",IF(W16<0,"beginnt vor Ende des Vortags; ",IF(W16<660,"Ruhezeit unter 11 Std. (§ 5); ","")))&IF(AND(ISNUMBER(I16),ROUND(N(I16)*1440,0)>ROUND(P16*1440,0)),"Fahrzeit über Arbeitszeit; ","")&IF(AND(OR(H16="Urlaub",H16="Krank",H16="Bezahlt frei"),ROUND(P16*1440,0)>0),"Abwesenheit und Arbeitszeit; ","")&IF(AND(H16<>"",H16<>"Unbezahlt",S16=0),"Abwesenheit an freiem Tag zählt nicht; ","")) | AA16: =IF(A16="",0,IF(OR(A16<=TODAY(),COUNTA(C16:J16)>0),1,0))
A17: =IF(MONTH(DATE(Jahr,2,13))=2,DATE(Jahr,2,13),"") | B17: =IF(A17="","",CHOOSE(WEEKDAY(A17,2),"Mo","Di","Mi","Do","Fr","Sa","So")) | K17: =IF(OR(A17="",P17+R17<=0),"",P17+R17) | L17: =IF(OR(A17="",S17=0),"",S17) | M17: =IF(OR(A17="",AND(P17+R17=0,S17=0)),"",IF(T17<0,"-","+")&TEXT(ABS(T17),"[h]:mm")) | N17: =IF(A17="","",IF(Q17<>"","Feiertag: "&Q17&IF(Z17<>"","; ",""),"")&IF(Z17<>"",LEFT(Z17,LEN(Z17)-2),"")) | P17: =IF(A17="",0,ROUND((IF(AND(ISNUMBER(C17),ISNUMBER(D17)),MOD(D17-C17,1),0)+IF(AND(ISNUMBER(E17),ISNUMBER(F17)),MOD(F17-E17,1),0)-IF(ISNUMBER(G17),G17,0)/1440)*1440,0)/1440) | Q17: =IF(A17="","",IFERROR(INDEX(FeiertagNamen,MATCH(A17,FeiertagDaten,0)),"")) | R17: =IF(OR(H17="Urlaub",H17="Krank",H17="Bezahlt frei"),S17,IF(H17="Halber Urlaubstag",ROUND(S17*720,0)/1440,0)) | S17: =IF(OR(A17="",Q17<>"",H17="Unbezahlt",AA17=0),0,ROUND(CHOOSE(WEEKDAY(A17,2),N(SollMo),N(SollDi),N(SollMi),N(SollDo),N(SollFr),N(SollSa),N(SollSo))*1440,0)/1440) | T17: =P17+R17-S17 | U17: =IF(OR(A17="",NOT(ISNUMBER(C17)),NOT(ISNUMBER(D17))),"",A17+IF(AND(ISNUMBER(E17),ISNUMBER(F17)),F17+IF(E17<C17,1,0)+IF(F17<E17,1,0),D17+IF(D17<C17,1,0))) | V17: =IF(OR(A17="",NOT(ISNUMBER(C17))),"",A17+C17) | W17: =IF(OR(V17="",X16=0),"",ROUND((V17-X16)*1440,0)) | X17: =MAX(X16,N(U17)) | Y17: =IF(ISNUMBER(G17),G17,0)+IF(AND(ISNUMBER(D17),ISNUMBER(E17)),MAX(0,ROUND((E17+IF(E17<C17,1,0)-D17-IF(D17<C17,1,0))*1440,0)),0) | Z17: =IF(A17="","",IF(OR(ISNUMBER(C17)<>ISNUMBER(D17),ISNUMBER(E17)<>ISNUMBER(F17)),"Beginn oder Ende fehlt; ","")&IF(P17<0,"Pause länger als Arbeitszeit; ","")&IF(AND(ROUND(P17*1440,0)>360,ROUND(P17*1440,0)<=540,Y17<30),"Pause unter 30 Min. (§ 4); ","")&IF(AND(ROUND(P17*1440,0)>540,Y17<45),"Pause unter 45 Min. (§ 4); ","")&IF(ROUND(P17*1440,0)>600,"über 10 Std. (§ 3); ","")&IF(W17="","",IF(W17<0,"beginnt vor Ende des Vortags; ",IF(W17<660,"Ruhezeit unter 11 Std. (§ 5); ","")))&IF(AND(ISNUMBER(I17),ROUND(N(I17)*1440,0)>ROUND(P17*1440,0)),"Fahrzeit über Arbeitszeit; ","")&IF(AND(OR(H17="Urlaub",H17="Krank",H17="Bezahlt frei"),ROUND(P17*1440,0)>0),"Abwesenheit und Arbeitszeit; ","")&IF(AND(H17<>"",H17<>"Unbezahlt",S17=0),"Abwesenheit an freiem Tag zählt nicht; ","")) | AA17: =IF(A17="",0,IF(OR(A17<=TODAY(),COUNTA(C17:J17)>0),1,0))
A18: =IF(MONTH(DATE(Jahr,2,14))=2,DATE(Jahr,2,14),"") | B18: =IF(A18="","",CHOOSE(WEEKDAY(A18,2),"Mo","Di","Mi","Do","Fr","Sa","So")) | K18: =IF(OR(A18="",P18+R18<=0),"",P18+R18) | L18: =IF(OR(A18="",S18=0),"",S18) | M18: =IF(OR(A18="",AND(P18+R18=0,S18=0)),"",IF(T18<0,"-","+")&TEXT(ABS(T18),"[h]:mm")) | N18: =IF(A18="","",IF(Q18<>"","Feiertag: "&Q18&IF(Z18<>"","; ",""),"")&IF(Z18<>"",LEFT(Z18,LEN(Z18)-2),"")) | P18: =IF(A18="",0,ROUND((IF(AND(ISNUMBER(C18),ISNUMBER(D18)),MOD(D18-C18,1),0)+IF(AND(ISNUMBER(E18),ISNUMBER(F18)),MOD(F18-E18,1),0)-IF(ISNUMBER(G18),G18,0)/1440)*1440,0)/1440) | Q18: =IF(A18="","",IFERROR(INDEX(FeiertagNamen,MATCH(A18,FeiertagDaten,0)),"")) | R18: =IF(OR(H18="Urlaub",H18="Krank",H18="Bezahlt frei"),S18,IF(H18="Halber Urlaubstag",ROUND(S18*720,0)/1440,0)) | S18: =IF(OR(A18="",Q18<>"",H18="Unbezahlt",AA18=0),0,ROUND(CHOOSE(WEEKDAY(A18,2),N(SollMo),N(SollDi),N(SollMi),N(SollDo),N(SollFr),N(SollSa),N(SollSo))*1440,0)/1440) | T18: =P18+R18-S18 | U18: =IF(OR(A18="",NOT(ISNUMBER(C18)),NOT(ISNUMBER(D18))),"",A18+IF(AND(ISNUMBER(E18),ISNUMBER(F18)),F18+IF(E18<C18,1,0)+IF(F18<E18,1,0),D18+IF(D18<C18,1,0))) | V18: =IF(OR(A18="",NOT(ISNUMBER(C18))),"",A18+C18) | W18: =IF(OR(V18="",X17=0),"",ROUND((V18-X17)*1440,0)) | X18: =MAX(X17,N(U18)) | Y18: =IF(ISNUMBER(G18),G18,0)+IF(AND(ISNUMBER(D18),ISNUMBER(E18)),MAX(0,ROUND((E18+IF(E18<C18,1,0)-D18-IF(D18<C18,1,0))*1440,0)),0) | Z18: =IF(A18="","",IF(OR(ISNUMBER(C18)<>ISNUMBER(D18),ISNUMBER(E18)<>ISNUMBER(F18)),"Beginn oder Ende fehlt; ","")&IF(P18<0,"Pause länger als Arbeitszeit; ","")&IF(AND(ROUND(P18*1440,0)>360,ROUND(P18*1440,0)<=540,Y18<30),"Pause unter 30 Min. (§ 4); ","")&IF(AND(ROUND(P18*1440,0)>540,Y18<45),"Pause unter 45 Min. (§ 4); ","")&IF(ROUND(P18*1440,0)>600,"über 10 Std. (§ 3); ","")&IF(W18="","",IF(W18<0,"beginnt vor Ende des Vortags; ",IF(W18<660,"Ruhezeit unter 11 Std. (§ 5); ","")))&IF(AND(ISNUMBER(I18),ROUND(N(I18)*1440,0)>ROUND(P18*1440,0)),"Fahrzeit über Arbeitszeit; ","")&IF(AND(OR(H18="Urlaub",H18="Krank",H18="Bezahlt frei"),ROUND(P18*1440,0)>0),"Abwesenheit und Arbeitszeit; ","")&IF(AND(H18<>"",H18<>"Unbezahlt",S18=0),"Abwesenheit an freiem Tag zählt nicht; ","")) | AA18: =IF(A18="",0,IF(OR(A18<=TODAY(),COUNTA(C18:J18)>0),1,0))
A19: =IF(MONTH(DATE(Jahr,2,15))=2,DATE(Jahr,2,15),"") | B19: =IF(A19="","",CHOOSE(WEEKDAY(A19,2),"Mo","Di","Mi","Do","Fr","Sa","So")) | K19: =IF(OR(A19="",P19+R19<=0),"",P19+R19) | L19: =IF(OR(A19="",S19=0),"",S19) | M19: =IF(OR(A19="",AND(P19+R19=0,S19=0)),"",IF(T19<0,"-","+")&TEXT(ABS(T19),"[h]:mm")) | N19: =IF(A19="","",IF(Q19<>"","Feiertag: "&Q19&IF(Z19<>"","; ",""),"")&IF(Z19<>"",LEFT(Z19,LEN(Z19)-2),"")) | P19: =IF(A19="",0,ROUND((IF(AND(ISNUMBER(C19),ISNUMBER(D19)),MOD(D19-C19,1),0)+IF(AND(ISNUMBER(E19),ISNUMBER(F19)),MOD(F19-E19,1),0)-IF(ISNUMBER(G19),G19,0)/1440)*1440,0)/1440) | Q19: =IF(A19="","",IFERROR(INDEX(FeiertagNamen,MATCH(A19,FeiertagDaten,0)),"")) | R19: =IF(OR(H19="Urlaub",H19="Krank",H19="Bezahlt frei"),S19,IF(H19="Halber Urlaubstag",ROUND(S19*720,0)/1440,0)) | S19: =IF(OR(A19="",Q19<>"",H19="Unbezahlt",AA19=0),0,ROUND(CHOOSE(WEEKDAY(A19,2),N(SollMo),N(SollDi),N(SollMi),N(SollDo),N(SollFr),N(SollSa),N(SollSo))*1440,0)/1440) | T19: =P19+R19-S19 | U19: =IF(OR(A19="",NOT(ISNUMBER(C19)),NOT(ISNUMBER(D19))),"",A19+IF(AND(ISNUMBER(E19),ISNUMBER(F19)),F19+IF(E19<C19,1,0)+IF(F19<E19,1,0),D19+IF(D19<C19,1,0))) | V19: =IF(OR(A19="",NOT(ISNUMBER(C19))),"",A19+C19) | W19: =IF(OR(V19="",X18=0),"",ROUND((V19-X18)*1440,0)) | X19: =MAX(X18,N(U19)) | Y19: =IF(ISNUMBER(G19),G19,0)+IF(AND(ISNUMBER(D19),ISNUMBER(E19)),MAX(0,ROUND((E19+IF(E19<C19,1,0)-D19-IF(D19<C19,1,0))*1440,0)),0) | Z19: =IF(A19="","",IF(OR(ISNUMBER(C19)<>ISNUMBER(D19),ISNUMBER(E19)<>ISNUMBER(F19)),"Beginn oder Ende fehlt; ","")&IF(P19<0,"Pause länger als Arbeitszeit; ","")&IF(AND(ROUND(P19*1440,0)>360,ROUND(P19*1440,0)<=540,Y19<30),"Pause unter 30 Min. (§ 4); ","")&IF(AND(ROUND(P19*1440,0)>540,Y19<45),"Pause unter 45 Min. (§ 4); ","")&IF(ROUND(P19*1440,0)>600,"über 10 Std. (§ 3); ","")&IF(W19="","",IF(W19<0,"beginnt vor Ende des Vortags; ",IF(W19<660,"Ruhezeit unter 11 Std. (§ 5); ","")))&IF(AND(ISNUMBER(I19),ROUND(N(I19)*1440,0)>ROUND(P19*1440,0)),"Fahrzeit über Arbeitszeit; ","")&IF(AND(OR(H19="Urlaub",H19="Krank",H19="Bezahlt frei"),ROUND(P19*1440,0)>0),"Abwesenheit und Arbeitszeit; ","")&IF(AND(H19<>"",H19<>"Unbezahlt",S19=0),"Abwesenheit an freiem Tag zählt nicht; ","")) | AA19: =IF(A19="",0,IF(OR(A19<=TODAY(),COUNTA(C19:J19)>0),1,0))
A20: =IF(MONTH(DATE(Jahr,2,16))=2,DATE(Jahr,2,16),"") | B20: =IF(A20="","",CHOOSE(WEEKDAY(A20,2),"Mo","Di","Mi","Do","Fr","Sa","So")) | K20: =IF(OR(A20="",P20+R20<=0),"",P20+R20) | L20: =IF(OR(A20="",S20=0),"",S20) | M20: =IF(OR(A20="",AND(P20+R20=0,S20=0)),"",IF(T20<0,"-","+")&TEXT(ABS(T20),"[h]:mm")) | N20: =IF(A20="","",IF(Q20<>"","Feiertag: "&Q20&IF(Z20<>"","; ",""),"")&IF(Z20<>"",LEFT(Z20,LEN(Z20)-2),"")) | P20: =IF(A20="",0,ROUND((IF(AND(ISNUMBER(C20),ISNUMBER(D20)),MOD(D20-C20,1),0)+IF(AND(ISNUMBER(E20),ISNUMBER(F20)),MOD(F20-E20,1),0)-IF(ISNUMBER(G20),G20,0)/1440)*1440,0)/1440) | Q20: =IF(A20="","",IFERROR(INDEX(FeiertagNamen,MATCH(A20,FeiertagDaten,0)),"")) | R20: =IF(OR(H20="Urlaub",H20="Krank",H20="Bezahlt frei"),S20,IF(H20="Halber Urlaubstag",ROUND(S20*720,0)/1440,0)) | S20: =IF(OR(A20="",Q20<>"",H20="Unbezahlt",AA20=0),0,ROUND(CHOOSE(WEEKDAY(A20,2),N(SollMo),N(SollDi),N(SollMi),N(SollDo),N(SollFr),N(SollSa),N(SollSo))*1440,0)/1440) | T20: =P20+R20-S20 | U20: =IF(OR(A20="",NOT(ISNUMBER(C20)),NOT(ISNUMBER(D20))),"",A20+IF(AND(ISNUMBER(E20),ISNUMBER(F20)),F20+IF(E20<C20,1,0)+IF(F20<E20,1,0),D20+IF(D20<C20,1,0))) | V20: =IF(OR(A20="",NOT(ISNUMBER(C20))),"",A20+C20) | W20: =IF(OR(V20="",X19=0),"",ROUND((V20-X19)*1440,0)) | X20: =MAX(X19,N(U20)) | Y20: =IF(ISNUMBER(G20),G20,0)+IF(AND(ISNUMBER(D20),ISNUMBER(E20)),MAX(0,ROUND((E20+IF(E20<C20,1,0)-D20-IF(D20<C20,1,0))*1440,0)),0) | Z20: =IF(A20="","",IF(OR(ISNUMBER(C20)<>ISNUMBER(D20),ISNUMBER(E20)<>ISNUMBER(F20)),"Beginn oder Ende fehlt; ","")&IF(P20<0,"Pause länger als Arbeitszeit; ","")&IF(AND(ROUND(P20*1440,0)>360,ROUND(P20*1440,0)<=540,Y20<30),"Pause unter 30 Min. (§ 4); ","")&IF(AND(ROUND(P20*1440,0)>540,Y20<45),"Pause unter 45 Min. (§ 4); ","")&IF(ROUND(P20*1440,0)>600,"über 10 Std. (§ 3); ","")&IF(W20="","",IF(W20<0,"beginnt vor Ende des Vortags; ",IF(W20<660,"Ruhezeit unter 11 Std. (§ 5); ","")))&IF(AND(ISNUMBER(I20),ROUND(N(I20)*1440,0)>ROUND(P20*1440,0)),"Fahrzeit über Arbeitszeit; ","")&IF(AND(OR(H20="Urlaub",H20="Krank",H20="Bezahlt frei"),ROUND(P20*1440,0)>0),"Abwesenheit und Arbeitszeit; ","")&IF(AND(H20<>"",H20<>"Unbezahlt",S20=0),"Abwesenheit an freiem Tag zählt nicht; ","")) | AA20: =IF(A20="",0,IF(OR(A20<=TODAY(),COUNTA(C20:J20)>0),1,0))
A21: =IF(MONTH(DATE(Jahr,2,17))=2,DATE(Jahr,2,17),"") | B21: =IF(A21="","",CHOOSE(WEEKDAY(A21,2),"Mo","Di","Mi","Do","Fr","Sa","So")) | K21: =IF(OR(A21="",P21+R21<=0),"",P21+R21) | L21: =IF(OR(A21="",S21=0),"",S21) | M21: =IF(OR(A21="",AND(P21+R21=0,S21=0)),"",IF(T21<0,"-","+")&TEXT(ABS(T21),"[h]:mm")) | N21: =IF(A21="","",IF(Q21<>"","Feiertag: "&Q21&IF(Z21<>"","; ",""),"")&IF(Z21<>"",LEFT(Z21,LEN(Z21)-2),"")) | P21: =IF(A21="",0,ROUND((IF(AND(ISNUMBER(C21),ISNUMBER(D21)),MOD(D21-C21,1),0)+IF(AND(ISNUMBER(E21),ISNUMBER(F21)),MOD(F21-E21,1),0)-IF(ISNUMBER(G21),G21,0)/1440)*1440,0)/1440) | Q21: =IF(A21="","",IFERROR(INDEX(FeiertagNamen,MATCH(A21,FeiertagDaten,0)),"")) | R21: =IF(OR(H21="Urlaub",H21="Krank",H21="Bezahlt frei"),S21,IF(H21="Halber Urlaubstag",ROUND(S21*720,0)/1440,0)) | S21: =IF(OR(A21="",Q21<>"",H21="Unbezahlt",AA21=0),0,ROUND(CHOOSE(WEEKDAY(A21,2),N(SollMo),N(SollDi),N(SollMi),N(SollDo),N(SollFr),N(SollSa),N(SollSo))*1440,0)/1440) | T21: =P21+R21-S21 | U21: =IF(OR(A21="",NOT(ISNUMBER(C21)),NOT(ISNUMBER(D21))),"",A21+IF(AND(ISNUMBER(E21),ISNUMBER(F21)),F21+IF(E21<C21,1,0)+IF(F21<E21,1,0),D21+IF(D21<C21,1,0))) | V21: =IF(OR(A21="",NOT(ISNUMBER(C21))),"",A21+C21) | W21: =IF(OR(V21="",X20=0),"",ROUND((V21-X20)*1440,0)) | X21: =MAX(X20,N(U21)) | Y21: =IF(ISNUMBER(G21),G21,0)+IF(AND(ISNUMBER(D21),ISNUMBER(E21)),MAX(0,ROUND((E21+IF(E21<C21,1,0)-D21-IF(D21<C21,1,0))*1440,0)),0) | Z21: =IF(A21="","",IF(OR(ISNUMBER(C21)<>ISNUMBER(D21),ISNUMBER(E21)<>ISNUMBER(F21)),"Beginn oder Ende fehlt; ","")&IF(P21<0,"Pause länger als Arbeitszeit; ","")&IF(AND(ROUND(P21*1440,0)>360,ROUND(P21*1440,0)<=540,Y21<30),"Pause unter 30 Min. (§ 4); ","")&IF(AND(ROUND(P21*1440,0)>540,Y21<45),"Pause unter 45 Min. (§ 4); ","")&IF(ROUND(P21*1440,0)>600,"über 10 Std. (§ 3); ","")&IF(W21="","",IF(W21<0,"beginnt vor Ende des Vortags; ",IF(W21<660,"Ruhezeit unter 11 Std. (§ 5); ","")))&IF(AND(ISNUMBER(I21),ROUND(N(I21)*1440,0)>ROUND(P21*1440,0)),"Fahrzeit über Arbeitszeit; ","")&IF(AND(OR(H21="Urlaub",H21="Krank",H21="Bezahlt frei"),ROUND(P21*1440,0)>0),"Abwesenheit und Arbeitszeit; ","")&IF(AND(H21<>"",H21<>"Unbezahlt",S21=0),"Abwesenheit an freiem Tag zählt nicht; ","")) | AA21: =IF(A21="",0,IF(OR(A21<=TODAY(),COUNTA(C21:J21)>0),1,0))
A22: =IF(MONTH(DATE(Jahr,2,18))=2,DATE(Jahr,2,18),"") | B22: =IF(A22="","",CHOOSE(WEEKDAY(A22,2),"Mo","Di","Mi","Do","Fr","Sa","So")) | K22: =IF(OR(A22="",P22+R22<=0),"",P22+R22) | L22: =IF(OR(A22="",S22=0),"",S22) | M22: =IF(OR(A22="",AND(P22+R22=0,S22=0)),"",IF(T22<0,"-","+")&TEXT(ABS(T22),"[h]:mm")) | N22: =IF(A22="","",IF(Q22<>"","Feiertag: "&Q22&IF(Z22<>"","; ",""),"")&IF(Z22<>"",LEFT(Z22,LEN(Z22)-2),"")) | P22: =IF(A22="",0,ROUND((IF(AND(ISNUMBER(C22),ISNUMBER(D22)),MOD(D22-C22,1),0)+IF(AND(ISNUMBER(E22),ISNUMBER(F22)),MOD(F22-E22,1),0)-IF(ISNUMBER(G22),G22,0)/1440)*1440,0)/1440) | Q22: =IF(A22="","",IFERROR(INDEX(FeiertagNamen,MATCH(A22,FeiertagDaten,0)),"")) | R22: =IF(OR(H22="Urlaub",H22="Krank",H22="Bezahlt frei"),S22,IF(H22="Halber Urlaubstag",ROUND(S22*720,0)/1440,0)) | S22: =IF(OR(A22="",Q22<>"",H22="Unbezahlt",AA22=0),0,ROUND(CHOOSE(WEEKDAY(A22,2),N(SollMo),N(SollDi),N(SollMi),N(SollDo),N(SollFr),N(SollSa),N(SollSo))*1440,0)/1440) | T22: =P22+R22-S22 | U22: =IF(OR(A22="",NOT(ISNUMBER(C22)),NOT(ISNUMBER(D22))),"",A22+IF(AND(ISNUMBER(E22),ISNUMBER(F22)),F22+IF(E22<C22,1,0)+IF(F22<E22,1,0),D22+IF(D22<C22,1,0))) | V22: =IF(OR(A22="",NOT(ISNUMBER(C22))),"",A22+C22) | W22: =IF(OR(V22="",X21=0),"",ROUND((V22-X21)*1440,0)) | X22: =MAX(X21,N(U22)) | Y22: =IF(ISNUMBER(G22),G22,0)+IF(AND(ISNUMBER(D22),ISNUMBER(E22)),MAX(0,ROUND((E22+IF(E22<C22,1,0)-D22-IF(D22<C22,1,0))*1440,0)),0) | Z22: =IF(A22="","",IF(OR(ISNUMBER(C22)<>ISNUMBER(D22),ISNUMBER(E22)<>ISNUMBER(F22)),"Beginn oder Ende fehlt; ","")&IF(P22<0,"Pause länger als Arbeitszeit; ","")&IF(AND(ROUND(P22*1440,0)>360,ROUND(P22*1440,0)<=540,Y22<30),"Pause unter 30 Min. (§ 4); ","")&IF(AND(ROUND(P22*1440,0)>540,Y22<45),"Pause unter 45 Min. (§ 4); ","")&IF(ROUND(P22*1440,0)>600,"über 10 Std. (§ 3); ","")&IF(W22="","",IF(W22<0,"beginnt vor Ende des Vortags; ",IF(W22<660,"Ruhezeit unter 11 Std. (§ 5); ","")))&IF(AND(ISNUMBER(I22),ROUND(N(I22)*1440,0)>ROUND(P22*1440,0)),"Fahrzeit über Arbeitszeit; ","")&IF(AND(OR(H22="Urlaub",H22="Krank",H22="Bezahlt frei"),ROUND(P22*1440,0)>0),"Abwesenheit und Arbeitszeit; ","")&IF(AND(H22<>"",H22<>"Unbezahlt",S22=0),"Abwesenheit an freiem Tag zählt nicht; ","")) | AA22: =IF(A22="",0,IF(OR(A22<=TODAY(),COUNTA(C22:J22)>0),1,0))
A23: =IF(MONTH(DATE(Jahr,2,19))=2,DATE(Jahr,2,19),"") | B23: =IF(A23="","",CHOOSE(WEEKDAY(A23,2),"Mo","Di","Mi","Do","Fr","Sa","So")) | K23: =IF(OR(A23="",P23+R23<=0),"",P23+R23) | L23: =IF(OR(A23="",S23=0),"",S23) | M23: =IF(OR(A23="",AND(P23+R23=0,S23=0)),"",IF(T23<0,"-","+")&TEXT(ABS(T23),"[h]:mm")) | N23: =IF(A23="","",IF(Q23<>"","Feiertag: "&Q23&IF(Z23<>"","; ",""),"")&IF(Z23<>"",LEFT(Z23,LEN(Z23)-2),"")) | P23: =IF(A23="",0,ROUND((IF(AND(ISNUMBER(C23),ISNUMBER(D23)),MOD(D23-C23,1),0)+IF(AND(ISNUMBER(E23),ISNUMBER(F23)),MOD(F23-E23,1),0)-IF(ISNUMBER(G23),G23,0)/1440)*1440,0)/1440) | Q23: =IF(A23="","",IFERROR(INDEX(FeiertagNamen,MATCH(A23,FeiertagDaten,0)),"")) | R23: =IF(OR(H23="Urlaub",H23="Krank",H23="Bezahlt frei"),S23,IF(H23="Halber Urlaubstag",ROUND(S23*720,0)/1440,0)) | S23: =IF(OR(A23="",Q23<>"",H23="Unbezahlt",AA23=0),0,ROUND(CHOOSE(WEEKDAY(A23,2),N(SollMo),N(SollDi),N(SollMi),N(SollDo),N(SollFr),N(SollSa),N(SollSo))*1440,0)/1440) | T23: =P23+R23-S23 | U23: =IF(OR(A23="",NOT(ISNUMBER(C23)),NOT(ISNUMBER(D23))),"",A23+IF(AND(ISNUMBER(E23),ISNUMBER(F23)),F23+IF(E23<C23,1,0)+IF(F23<E23,1,0),D23+IF(D23<C23,1,0))) | V23: =IF(OR(A23="",NOT(ISNUMBER(C23))),"",A23+C23) | W23: =IF(OR(V23="",X22=0),"",ROUND((V23-X22)*1440,0)) | X23: =MAX(X22,N(U23)) | Y23: =IF(ISNUMBER(G23),G23,0)+IF(AND(ISNUMBER(D23),ISNUMBER(E23)),MAX(0,ROUND((E23+IF(E23<C23,1,0)-D23-IF(D23<C23,1,0))*1440,0)),0) | Z23: =IF(A23="","",IF(OR(ISNUMBER(C23)<>ISNUMBER(D23),ISNUMBER(E23)<>ISNUMBER(F23)),"Beginn oder Ende fehlt; ","")&IF(P23<0,"Pause länger als Arbeitszeit; ","")&IF(AND(ROUND(P23*1440,0)>360,ROUND(P23*1440,0)<=540,Y23<30),"Pause unter 30 Min. (§ 4); ","")&IF(AND(ROUND(P23*1440,0)>540,Y23<45),"Pause unter 45 Min. (§ 4); ","")&IF(ROUND(P23*1440,0)>600,"über 10 Std. (§ 3); ","")&IF(W23="","",IF(W23<0,"beginnt vor Ende des Vortags; ",IF(W23<660,"Ruhezeit unter 11 Std. (§ 5); ","")))&IF(AND(ISNUMBER(I23),ROUND(N(I23)*1440,0)>ROUND(P23*1440,0)),"Fahrzeit über Arbeitszeit; ","")&IF(AND(OR(H23="Urlaub",H23="Krank",H23="Bezahlt frei"),ROUND(P23*1440,0)>0),"Abwesenheit und Arbeitszeit; ","")&IF(AND(H23<>"",H23<>"Unbezahlt",S23=0),"Abwesenheit an freiem Tag zählt nicht; ","")) | AA23: =IF(A23="",0,IF(OR(A23<=TODAY(),COUNTA(C23:J23)>0),1,0))
A24: =IF(MONTH(DATE(Jahr,2,20))=2,DATE(Jahr,2,20),"") | B24: =IF(A24="","",CHOOSE(WEEKDAY(A24,2),"Mo","Di","Mi","Do","Fr","Sa","So")) | K24: =IF(OR(A24="",P24+R24<=0),"",P24+R24) | L24: =IF(OR(A24="",S24=0),"",S24) | M24: =IF(OR(A24="",AND(P24+R24=0,S24=0)),"",IF(T24<0,"-","+")&TEXT(ABS(T24),"[h]:mm")) | N24: =IF(A24="","",IF(Q24<>"","Feiertag: "&Q24&IF(Z24<>"","; ",""),"")&IF(Z24<>"",LEFT(Z24,LEN(Z24)-2),"")) | P24: =IF(A24="",0,ROUND((IF(AND(ISNUMBER(C24),ISNUMBER(D24)),MOD(D24-C24,1),0)+IF(AND(ISNUMBER(E24),ISNUMBER(F24)),MOD(F24-E24,1),0)-IF(ISNUMBER(G24),G24,0)/1440)*1440,0)/1440) | Q24: =IF(A24="","",IFERROR(INDEX(FeiertagNamen,MATCH(A24,FeiertagDaten,0)),"")) | R24: =IF(OR(H24="Urlaub",H24="Krank",H24="Bezahlt frei"),S24,IF(H24="Halber Urlaubstag",ROUND(S24*720,0)/1440,0)) | S24: =IF(OR(A24="",Q24<>"",H24="Unbezahlt",AA24=0),0,ROUND(CHOOSE(WEEKDAY(A24,2),N(SollMo),N(SollDi),N(SollMi),N(SollDo),N(SollFr),N(SollSa),N(SollSo))*1440,0)/1440) | T24: =P24+R24-S24 | U24: =IF(OR(A24="",NOT(ISNUMBER(C24)),NOT(ISNUMBER(D24))),"",A24+IF(AND(ISNUMBER(E24),ISNUMBER(F24)),F24+IF(E24<C24,1,0)+IF(F24<E24,1,0),D24+IF(D24<C24,1,0))) | V24: =IF(OR(A24="",NOT(ISNUMBER(C24))),"",A24+C24) | W24: =IF(OR(V24="",X23=0),"",ROUND((V24-X23)*1440,0)) | X24: =MAX(X23,N(U24)) | Y24: =IF(ISNUMBER(G24),G24,0)+IF(AND(ISNUMBER(D24),ISNUMBER(E24)),MAX(0,ROUND((E24+IF(E24<C24,1,0)-D24-IF(D24<C24,1,0))*1440,0)),0) | Z24: =IF(A24="","",IF(OR(ISNUMBER(C24)<>ISNUMBER(D24),ISNUMBER(E24)<>ISNUMBER(F24)),"Beginn oder Ende fehlt; ","")&IF(P24<0,"Pause länger als Arbeitszeit; ","")&IF(AND(ROUND(P24*1440,0)>360,ROUND(P24*1440,0)<=540,Y24<30),"Pause unter 30 Min. (§ 4); ","")&IF(AND(ROUND(P24*1440,0)>540,Y24<45),"Pause unter 45 Min. (§ 4); ","")&IF(ROUND(P24*1440,0)>600,"über 10 Std. (§ 3); ","")&IF(W24="","",IF(W24<0,"beginnt vor Ende des Vortags; ",IF(W24<660,"Ruhezeit unter 11 Std. (§ 5); ","")))&IF(AND(ISNUMBER(I24),ROUND(N(I24)*1440,0)>ROUND(P24*1440,0)),"Fahrzeit über Arbeitszeit; ","")&IF(AND(OR(H24="Urlaub",H24="Krank",H24="Bezahlt frei"),ROUND(P24*1440,0)>0),"Abwesenheit und Arbeitszeit; ","")&IF(AND(H24<>"",H24<>"Unbezahlt",S24=0),"Abwesenheit an freiem Tag zählt nicht; ","")) | AA24: =IF(A24="",0,IF(OR(A24<=TODAY(),COUNTA(C24:J24)>0),1,0))
A25: =IF(MONTH(DATE(Jahr,2,21))=2,DATE(Jahr,2,21),"") | B25: =IF(A25="","",CHOOSE(WEEKDAY(A25,2),"Mo","Di","Mi","Do","Fr","Sa","So")) | K25: =IF(OR(A25="",P25+R25<=0),"",P25+R25) | L25: =IF(OR(A25="",S25=0),"",S25) | M25: =IF(OR(A25="",AND(P25+R25=0,S25=0)),"",IF(T25<0,"-","+")&TEXT(ABS(T25),"[h]:mm")) | N25: =IF(A25="","",IF(Q25<>"","Feiertag: "&Q25&IF(Z25<>"","; ",""),"")&IF(Z25<>"",LEFT(Z25,LEN(Z25)-2),"")) | P25: =IF(A25="",0,ROUND((IF(AND(ISNUMBER(C25),ISNUMBER(D25)),MOD(D25-C25,1),0)+IF(AND(ISNUMBER(E25),ISNUMBER(F25)),MOD(F25-E25,1),0)-IF(ISNUMBER(G25),G25,0)/1440)*1440,0)/1440) | Q25: =IF(A25="","",IFERROR(INDEX(FeiertagNamen,MATCH(A25,FeiertagDaten,0)),"")) | R25: =IF(OR(H25="Urlaub",H25="Krank",H25="Bezahlt frei"),S25,IF(H25="Halber Urlaubstag",ROUND(S25*720,0)/1440,0)) | S25: =IF(OR(A25="",Q25<>"",H25="Unbezahlt",AA25=0),0,ROUND(CHOOSE(WEEKDAY(A25,2),N(SollMo),N(SollDi),N(SollMi),N(SollDo),N(SollFr),N(SollSa),N(SollSo))*1440,0)/1440) | T25: =P25+R25-S25 | U25: =IF(OR(A25="",NOT(ISNUMBER(C25)),NOT(ISNUMBER(D25))),"",A25+IF(AND(ISNUMBER(E25),ISNUMBER(F25)),F25+IF(E25<C25,1,0)+IF(F25<E25,1,0),D25+IF(D25<C25,1,0))) | V25: =IF(OR(A25="",NOT(ISNUMBER(C25))),"",A25+C25) | W25: =IF(OR(V25="",X24=0),"",ROUND((V25-X24)*1440,0)) | X25: =MAX(X24,N(U25)) | Y25: =IF(ISNUMBER(G25),G25,0)+IF(AND(ISNUMBER(D25),ISNUMBER(E25)),MAX(0,ROUND((E25+IF(E25<C25,1,0)-D25-IF(D25<C25,1,0))*1440,0)),0) | Z25: =IF(A25="","",IF(OR(ISNUMBER(C25)<>ISNUMBER(D25),ISNUMBER(E25)<>ISNUMBER(F25)),"Beginn oder Ende fehlt; ","")&IF(P25<0,"Pause länger als Arbeitszeit; ","")&IF(AND(ROUND(P25*1440,0)>360,ROUND(P25*1440,0)<=540,Y25<30),"Pause unter 30 Min. (§ 4); ","")&IF(AND(ROUND(P25*1440,0)>540,Y25<45),"Pause unter 45 Min. (§ 4); ","")&IF(ROUND(P25*1440,0)>600,"über 10 Std. (§ 3); ","")&IF(W25="","",IF(W25<0,"beginnt vor Ende des Vortags; ",IF(W25<660,"Ruhezeit unter 11 Std. (§ 5); ","")))&IF(AND(ISNUMBER(I25),ROUND(N(I25)*1440,0)>ROUND(P25*1440,0)),"Fahrzeit über Arbeitszeit; ","")&IF(AND(OR(H25="Urlaub",H25="Krank",H25="Bezahlt frei"),ROUND(P25*1440,0)>0),"Abwesenheit und Arbeitszeit; ","")&IF(AND(H25<>"",H25<>"Unbezahlt",S25=0),"Abwesenheit an freiem Tag zählt nicht; ","")) | AA25: =IF(A25="",0,IF(OR(A25<=TODAY(),COUNTA(C25:J25)>0),1,0))
A26: =IF(MONTH(DATE(Jahr,2,22))=2,DATE(Jahr,2,22),"") | B26: =IF(A26="","",CHOOSE(WEEKDAY(A26,2),"Mo","Di","Mi","Do","Fr","Sa","So")) | K26: =IF(OR(A26="",P26+R26<=0),"",P26+R26) | L26: =IF(OR(A26="",S26=0),"",S26) | M26: =IF(OR(A26="",AND(P26+R26=0,S26=0)),"",IF(T26<0,"-","+")&TEXT(ABS(T26),"[h]:mm")) | N26: =IF(A26="","",IF(Q26<>"","Feiertag: "&Q26&IF(Z26<>"","; ",""),"")&IF(Z26<>"",LEFT(Z26,LEN(Z26)-2),"")) | P26: =IF(A26="",0,ROUND((IF(AND(ISNUMBER(C26),ISNUMBER(D26)),MOD(D26-C26,1),0)+IF(AND(ISNUMBER(E26),ISNUMBER(F26)),MOD(F26-E26,1),0)-IF(ISNUMBER(G26),G26,0)/1440)*1440,0)/1440) | Q26: =IF(A26="","",IFERROR(INDEX(FeiertagNamen,MATCH(A26,FeiertagDaten,0)),"")) | R26: =IF(OR(H26="Urlaub",H26="Krank",H26="Bezahlt frei"),S26,IF(H26="Halber Urlaubstag",ROUND(S26*720,0)/1440,0)) | S26: =IF(OR(A26="",Q26<>"",H26="Unbezahlt",AA26=0),0,ROUND(CHOOSE(WEEKDAY(A26,2),N(SollMo),N(SollDi),N(SollMi),N(SollDo),N(SollFr),N(SollSa),N(SollSo))*1440,0)/1440) | T26: =P26+R26-S26 | U26: =IF(OR(A26="",NOT(ISNUMBER(C26)),NOT(ISNUMBER(D26))),"",A26+IF(AND(ISNUMBER(E26),ISNUMBER(F26)),F26+IF(E26<C26,1,0)+IF(F26<E26,1,0),D26+IF(D26<C26,1,0))) | V26: =IF(OR(A26="",NOT(ISNUMBER(C26))),"",A26+C26) | W26: =IF(OR(V26="",X25=0),"",ROUND((V26-X25)*1440,0)) | X26: =MAX(X25,N(U26)) | Y26: =IF(ISNUMBER(G26),G26,0)+IF(AND(ISNUMBER(D26),ISNUMBER(E26)),MAX(0,ROUND((E26+IF(E26<C26,1,0)-D26-IF(D26<C26,1,0))*1440,0)),0) | Z26: =IF(A26="","",IF(OR(ISNUMBER(C26)<>ISNUMBER(D26),ISNUMBER(E26)<>ISNUMBER(F26)),"Beginn oder Ende fehlt; ","")&IF(P26<0,"Pause länger als Arbeitszeit; ","")&IF(AND(ROUND(P26*1440,0)>360,ROUND(P26*1440,0)<=540,Y26<30),"Pause unter 30 Min. (§ 4); ","")&IF(AND(ROUND(P26*1440,0)>540,Y26<45),"Pause unter 45 Min. (§ 4); ","")&IF(ROUND(P26*1440,0)>600,"über 10 Std. (§ 3); ","")&IF(W26="","",IF(W26<0,"beginnt vor Ende des Vortags; ",IF(W26<660,"Ruhezeit unter 11 Std. (§ 5); ","")))&IF(AND(ISNUMBER(I26),ROUND(N(I26)*1440,0)>ROUND(P26*1440,0)),"Fahrzeit über Arbeitszeit; ","")&IF(AND(OR(H26="Urlaub",H26="Krank",H26="Bezahlt frei"),ROUND(P26*1440,0)>0),"Abwesenheit und Arbeitszeit; ","")&IF(AND(H26<>"",H26<>"Unbezahlt",S26=0),"Abwesenheit an freiem Tag zählt nicht; ","")) | AA26: =IF(A26="",0,IF(OR(A26<=TODAY(),COUNTA(C26:J26)>0),1,0))
A27: =IF(MONTH(DATE(Jahr,2,23))=2,DATE(Jahr,2,23),"") | B27: =IF(A27="","",CHOOSE(WEEKDAY(A27,2),"Mo","Di","Mi","Do","Fr","Sa","So")) | K27: =IF(OR(A27="",P27+R27<=0),"",P27+R27) | L27: =IF(OR(A27="",S27=0),"",S27) | M27: =IF(OR(A27="",AND(P27+R27=0,S27=0)),"",IF(T27<0,"-","+")&TEXT(ABS(T27),"[h]:mm")) | N27: =IF(A27="","",IF(Q27<>"","Feiertag: "&Q27&IF(Z27<>"","; ",""),"")&IF(Z27<>"",LEFT(Z27,LEN(Z27)-2),"")) | P27: =IF(A27="",0,ROUND((IF(AND(ISNUMBER(C27),ISNUMBER(D27)),MOD(D27-C27,1),0)+IF(AND(ISNUMBER(E27),ISNUMBER(F27)),MOD(F27-E27,1),0)-IF(ISNUMBER(G27),G27,0)/1440)*1440,0)/1440) | Q27: =IF(A27="","",IFERROR(INDEX(FeiertagNamen,MATCH(A27,FeiertagDaten,0)),"")) | R27: =IF(OR(H27="Urlaub",H27="Krank",H27="Bezahlt frei"),S27,IF(H27="Halber Urlaubstag",ROUND(S27*720,0)/1440,0)) | S27: =IF(OR(A27="",Q27<>"",H27="Unbezahlt",AA27=0),0,ROUND(CHOOSE(WEEKDAY(A27,2),N(SollMo),N(SollDi),N(SollMi),N(SollDo),N(SollFr),N(SollSa),N(SollSo))*1440,0)/1440) | T27: =P27+R27-S27 | U27: =IF(OR(A27="",NOT(ISNUMBER(C27)),NOT(ISNUMBER(D27))),"",A27+IF(AND(ISNUMBER(E27),ISNUMBER(F27)),F27+IF(E27<C27,1,0)+IF(F27<E27,1,0),D27+IF(D27<C27,1,0))) | V27: =IF(OR(A27="",NOT(ISNUMBER(C27))),"",A27+C27) | W27: =IF(OR(V27="",X26=0),"",ROUND((V27-X26)*1440,0)) | X27: =MAX(X26,N(U27)) | Y27: =IF(ISNUMBER(G27),G27,0)+IF(AND(ISNUMBER(D27),ISNUMBER(E27)),MAX(0,ROUND((E27+IF(E27<C27,1,0)-D27-IF(D27<C27,1,0))*1440,0)),0) | Z27: =IF(A27="","",IF(OR(ISNUMBER(C27)<>ISNUMBER(D27),ISNUMBER(E27)<>ISNUMBER(F27)),"Beginn oder Ende fehlt; ","")&IF(P27<0,"Pause länger als Arbeitszeit; ","")&IF(AND(ROUND(P27*1440,0)>360,ROUND(P27*1440,0)<=540,Y27<30),"Pause unter 30 Min. (§ 4); ","")&IF(AND(ROUND(P27*1440,0)>540,Y27<45),"Pause unter 45 Min. (§ 4); ","")&IF(ROUND(P27*1440,0)>600,"über 10 Std. (§ 3); ","")&IF(W27="","",IF(W27<0,"beginnt vor Ende des Vortags; ",IF(W27<660,"Ruhezeit unter 11 Std. (§ 5); ","")))&IF(AND(ISNUMBER(I27),ROUND(N(I27)*1440,0)>ROUND(P27*1440,0)),"Fahrzeit über Arbeitszeit; ","")&IF(AND(OR(H27="Urlaub",H27="Krank",H27="Bezahlt frei"),ROUND(P27*1440,0)>0),"Abwesenheit und Arbeitszeit; ","")&IF(AND(H27<>"",H27<>"Unbezahlt",S27=0),"Abwesenheit an freiem Tag zählt nicht; ","")) | AA27: =IF(A27="",0,IF(OR(A27<=TODAY(),COUNTA(C27:J27)>0),1,0))
A28: =IF(MONTH(DATE(Jahr,2,24))=2,DATE(Jahr,2,24),"") | B28: =IF(A28="","",CHOOSE(WEEKDAY(A28,2),"Mo","Di","Mi","Do","Fr","Sa","So")) | K28: =IF(OR(A28="",P28+R28<=0),"",P28+R28) | L28: =IF(OR(A28="",S28=0),"",S28) | M28: =IF(OR(A28="",AND(P28+R28=0,S28=0)),"",IF(T28<0,"-","+")&TEXT(ABS(T28),"[h]:mm")) | N28: =IF(A28="","",IF(Q28<>"","Feiertag: "&Q28&IF(Z28<>"","; ",""),"")&IF(Z28<>"",LEFT(Z28,LEN(Z28)-2),"")) | P28: =IF(A28="",0,ROUND((IF(AND(ISNUMBER(C28),ISNUMBER(D28)),MOD(D28-C28,1),0)+IF(AND(ISNUMBER(E28),ISNUMBER(F28)),MOD(F28-E28,1),0)-IF(ISNUMBER(G28),G28,0)/1440)*1440,0)/1440) | Q28: =IF(A28="","",IFERROR(INDEX(FeiertagNamen,MATCH(A28,FeiertagDaten,0)),"")) | R28: =IF(OR(H28="Urlaub",H28="Krank",H28="Bezahlt frei"),S28,IF(H28="Halber Urlaubstag",ROUND(S28*720,0)/1440,0)) | S28: =IF(OR(A28="",Q28<>"",H28="Unbezahlt",AA28=0),0,ROUND(CHOOSE(WEEKDAY(A28,2),N(SollMo),N(SollDi),N(SollMi),N(SollDo),N(SollFr),N(SollSa),N(SollSo))*1440,0)/1440) | T28: =P28+R28-S28 | U28: =IF(OR(A28="",NOT(ISNUMBER(C28)),NOT(ISNUMBER(D28))),"",A28+IF(AND(ISNUMBER(E28),ISNUMBER(F28)),F28+IF(E28<C28,1,0)+IF(F28<E28,1,0),D28+IF(D28<C28,1,0))) | V28: =IF(OR(A28="",NOT(ISNUMBER(C28))),"",A28+C28) | W28: =IF(OR(V28="",X27=0),"",ROUND((V28-X27)*1440,0)) | X28: =MAX(X27,N(U28)) | Y28: =IF(ISNUMBER(G28),G28,0)+IF(AND(ISNUMBER(D28),ISNUMBER(E28)),MAX(0,ROUND((E28+IF(E28<C28,1,0)-D28-IF(D28<C28,1,0))*1440,0)),0) | Z28: =IF(A28="","",IF(OR(ISNUMBER(C28)<>ISNUMBER(D28),ISNUMBER(E28)<>ISNUMBER(F28)),"Beginn oder Ende fehlt; ","")&IF(P28<0,"Pause länger als Arbeitszeit; ","")&IF(AND(ROUND(P28*1440,0)>360,ROUND(P28*1440,0)<=540,Y28<30),"Pause unter 30 Min. (§ 4); ","")&IF(AND(ROUND(P28*1440,0)>540,Y28<45),"Pause unter 45 Min. (§ 4); ","")&IF(ROUND(P28*1440,0)>600,"über 10 Std. (§ 3); ","")&IF(W28="","",IF(W28<0,"beginnt vor Ende des Vortags; ",IF(W28<660,"Ruhezeit unter 11 Std. (§ 5); ","")))&IF(AND(ISNUMBER(I28),ROUND(N(I28)*1440,0)>ROUND(P28*1440,0)),"Fahrzeit über Arbeitszeit; ","")&IF(AND(OR(H28="Urlaub",H28="Krank",H28="Bezahlt frei"),ROUND(P28*1440,0)>0),"Abwesenheit und Arbeitszeit; ","")&IF(AND(H28<>"",H28<>"Unbezahlt",S28=0),"Abwesenheit an freiem Tag zählt nicht; ","")) | AA28: =IF(A28="",0,IF(OR(A28<=TODAY(),COUNTA(C28:J28)>0),1,0))
A29: =IF(MONTH(DATE(Jahr,2,25))=2,DATE(Jahr,2,25),"") | B29: =IF(A29="","",CHOOSE(WEEKDAY(A29,2),"Mo","Di","Mi","Do","Fr","Sa","So")) | K29: =IF(OR(A29="",P29+R29<=0),"",P29+R29) | L29: =IF(OR(A29="",S29=0),"",S29) | M29: =IF(OR(A29="",AND(P29+R29=0,S29=0)),"",IF(T29<0,"-","+")&TEXT(ABS(T29),"[h]:mm")) | N29: =IF(A29="","",IF(Q29<>"","Feiertag: "&Q29&IF(Z29<>"","; ",""),"")&IF(Z29<>"",LEFT(Z29,LEN(Z29)-2),"")) | P29: =IF(A29="",0,ROUND((IF(AND(ISNUMBER(C29),ISNUMBER(D29)),MOD(D29-C29,1),0)+IF(AND(ISNUMBER(E29),ISNUMBER(F29)),MOD(F29-E29,1),0)-IF(ISNUMBER(G29),G29,0)/1440)*1440,0)/1440) | Q29: =IF(A29="","",IFERROR(INDEX(FeiertagNamen,MATCH(A29,FeiertagDaten,0)),"")) | R29: =IF(OR(H29="Urlaub",H29="Krank",H29="Bezahlt frei"),S29,IF(H29="Halber Urlaubstag",ROUND(S29*720,0)/1440,0)) | S29: =IF(OR(A29="",Q29<>"",H29="Unbezahlt",AA29=0),0,ROUND(CHOOSE(WEEKDAY(A29,2),N(SollMo),N(SollDi),N(SollMi),N(SollDo),N(SollFr),N(SollSa),N(SollSo))*1440,0)/1440) | T29: =P29+R29-S29 | U29: =IF(OR(A29="",NOT(ISNUMBER(C29)),NOT(ISNUMBER(D29))),"",A29+IF(AND(ISNUMBER(E29),ISNUMBER(F29)),F29+IF(E29<C29,1,0)+IF(F29<E29,1,0),D29+IF(D29<C29,1,0))) | V29: =IF(OR(A29="",NOT(ISNUMBER(C29))),"",A29+C29) | W29: =IF(OR(V29="",X28=0),"",ROUND((V29-X28)*1440,0)) | X29: =MAX(X28,N(U29)) | Y29: =IF(ISNUMBER(G29),G29,0)+IF(AND(ISNUMBER(D29),ISNUMBER(E29)),MAX(0,ROUND((E29+IF(E29<C29,1,0)-D29-IF(D29<C29,1,0))*1440,0)),0) | Z29: =IF(A29="","",IF(OR(ISNUMBER(C29)<>ISNUMBER(D29),ISNUMBER(E29)<>ISNUMBER(F29)),"Beginn oder Ende fehlt; ","")&IF(P29<0,"Pause länger als Arbeitszeit; ","")&IF(AND(ROUND(P29*1440,0)>360,ROUND(P29*1440,0)<=540,Y29<30),"Pause unter 30 Min. (§ 4); ","")&IF(AND(ROUND(P29*1440,0)>540,Y29<45),"Pause unter 45 Min. (§ 4); ","")&IF(ROUND(P29*1440,0)>600,"über 10 Std. (§ 3); ","")&IF(W29="","",IF(W29<0,"beginnt vor Ende des Vortags; ",IF(W29<660,"Ruhezeit unter 11 Std. (§ 5); ","")))&IF(AND(ISNUMBER(I29),ROUND(N(I29)*1440,0)>ROUND(P29*1440,0)),"Fahrzeit über Arbeitszeit; ","")&IF(AND(OR(H29="Urlaub",H29="Krank",H29="Bezahlt frei"),ROUND(P29*1440,0)>0),"Abwesenheit und Arbeitszeit; ","")&IF(AND(H29<>"",H29<>"Unbezahlt",S29=0),"Abwesenheit an freiem Tag zählt nicht; ","")) | AA29: =IF(A29="",0,IF(OR(A29<=TODAY(),COUNTA(C29:J29)>0),1,0))
A30: =IF(MONTH(DATE(Jahr,2,26))=2,DATE(Jahr,2,26),"") | B30: =IF(A30="","",CHOOSE(WEEKDAY(A30,2),"Mo","Di","Mi","Do","Fr","Sa","So")) | K30: =IF(OR(A30="",P30+R30<=0),"",P30+R30) | L30: =IF(OR(A30="",S30=0),"",S30) | M30: =IF(OR(A30="",AND(P30+R30=0,S30=0)),"",IF(T30<0,"-","+")&TEXT(ABS(T30),"[h]:mm")) | N30: =IF(A30="","",IF(Q30<>"","Feiertag: "&Q30&IF(Z30<>"","; ",""),"")&IF(Z30<>"",LEFT(Z30,LEN(Z30)-2),"")) | P30: =IF(A30="",0,ROUND((IF(AND(ISNUMBER(C30),ISNUMBER(D30)),MOD(D30-C30,1),0)+IF(AND(ISNUMBER(E30),ISNUMBER(F30)),MOD(F30-E30,1),0)-IF(ISNUMBER(G30),G30,0)/1440)*1440,0)/1440) | Q30: =IF(A30="","",IFERROR(INDEX(FeiertagNamen,MATCH(A30,FeiertagDaten,0)),"")) | R30: =IF(OR(H30="Urlaub",H30="Krank",H30="Bezahlt frei"),S30,IF(H30="Halber Urlaubstag",ROUND(S30*720,0)/1440,0)) | S30: =IF(OR(A30="",Q30<>"",H30="Unbezahlt",AA30=0),0,ROUND(CHOOSE(WEEKDAY(A30,2),N(SollMo),N(SollDi),N(SollMi),N(SollDo),N(SollFr),N(SollSa),N(SollSo))*1440,0)/1440) | T30: =P30+R30-S30 | U30: =IF(OR(A30="",NOT(ISNUMBER(C30)),NOT(ISNUMBER(D30))),"",A30+IF(AND(ISNUMBER(E30),ISNUMBER(F30)),F30+IF(E30<C30,1,0)+IF(F30<E30,1,0),D30+IF(D30<C30,1,0))) | V30: =IF(OR(A30="",NOT(ISNUMBER(C30))),"",A30+C30) | W30: =IF(OR(V30="",X29=0),"",ROUND((V30-X29)*1440,0)) | X30: =MAX(X29,N(U30)) | Y30: =IF(ISNUMBER(G30),G30,0)+IF(AND(ISNUMBER(D30),ISNUMBER(E30)),MAX(0,ROUND((E30+IF(E30<C30,1,0)-D30-IF(D30<C30,1,0))*1440,0)),0) | Z30: =IF(A30="","",IF(OR(ISNUMBER(C30)<>ISNUMBER(D30),ISNUMBER(E30)<>ISNUMBER(F30)),"Beginn oder Ende fehlt; ","")&IF(P30<0,"Pause länger als Arbeitszeit; ","")&IF(AND(ROUND(P30*1440,0)>360,ROUND(P30*1440,0)<=540,Y30<30),"Pause unter 30 Min. (§ 4); ","")&IF(AND(ROUND(P30*1440,0)>540,Y30<45),"Pause unter 45 Min. (§ 4); ","")&IF(ROUND(P30*1440,0)>600,"über 10 Std. (§ 3); ","")&IF(W30="","",IF(W30<0,"beginnt vor Ende des Vortags; ",IF(W30<660,"Ruhezeit unter 11 Std. (§ 5); ","")))&IF(AND(ISNUMBER(I30),ROUND(N(I30)*1440,0)>ROUND(P30*1440,0)),"Fahrzeit über Arbeitszeit; ","")&IF(AND(OR(H30="Urlaub",H30="Krank",H30="Bezahlt frei"),ROUND(P30*1440,0)>0),"Abwesenheit und Arbeitszeit; ","")&IF(AND(H30<>"",H30<>"Unbezahlt",S30=0),"Abwesenheit an freiem Tag zählt nicht; ","")) | AA30: =IF(A30="",0,IF(OR(A30<=TODAY(),COUNTA(C30:J30)>0),1,0))
A31: =IF(MONTH(DATE(Jahr,2,27))=2,DATE(Jahr,2,27),"") | B31: =IF(A31="","",CHOOSE(WEEKDAY(A31,2),"Mo","Di","Mi","Do","Fr","Sa","So")) | K31: =IF(OR(A31="",P31+R31<=0),"",P31+R31) | L31: =IF(OR(A31="",S31=0),"",S31) | M31: =IF(OR(A31="",AND(P31+R31=0,S31=0)),"",IF(T31<0,"-","+")&TEXT(ABS(T31),"[h]:mm")) | N31: =IF(A31="","",IF(Q31<>"","Feiertag: "&Q31&IF(Z31<>"","; ",""),"")&IF(Z31<>"",LEFT(Z31,LEN(Z31)-2),"")) | P31: =IF(A31="",0,ROUND((IF(AND(ISNUMBER(C31),ISNUMBER(D31)),MOD(D31-C31,1),0)+IF(AND(ISNUMBER(E31),ISNUMBER(F31)),MOD(F31-E31,1),0)-IF(ISNUMBER(G31),G31,0)/1440)*1440,0)/1440) | Q31: =IF(A31="","",IFERROR(INDEX(FeiertagNamen,MATCH(A31,FeiertagDaten,0)),"")) | R31: =IF(OR(H31="Urlaub",H31="Krank",H31="Bezahlt frei"),S31,IF(H31="Halber Urlaubstag",ROUND(S31*720,0)/1440,0)) | S31: =IF(OR(A31="",Q31<>"",H31="Unbezahlt",AA31=0),0,ROUND(CHOOSE(WEEKDAY(A31,2),N(SollMo),N(SollDi),N(SollMi),N(SollDo),N(SollFr),N(SollSa),N(SollSo))*1440,0)/1440) | T31: =P31+R31-S31 | U31: =IF(OR(A31="",NOT(ISNUMBER(C31)),NOT(ISNUMBER(D31))),"",A31+IF(AND(ISNUMBER(E31),ISNUMBER(F31)),F31+IF(E31<C31,1,0)+IF(F31<E31,1,0),D31+IF(D31<C31,1,0))) | V31: =IF(OR(A31="",NOT(ISNUMBER(C31))),"",A31+C31) | W31: =IF(OR(V31="",X30=0),"",ROUND((V31-X30)*1440,0)) | X31: =MAX(X30,N(U31)) | Y31: =IF(ISNUMBER(G31),G31,0)+IF(AND(ISNUMBER(D31),ISNUMBER(E31)),MAX(0,ROUND((E31+IF(E31<C31,1,0)-D31-IF(D31<C31,1,0))*1440,0)),0) | Z31: =IF(A31="","",IF(OR(ISNUMBER(C31)<>ISNUMBER(D31),ISNUMBER(E31)<>ISNUMBER(F31)),"Beginn oder Ende fehlt; ","")&IF(P31<0,"Pause länger als Arbeitszeit; ","")&IF(AND(ROUND(P31*1440,0)>360,ROUND(P31*1440,0)<=540,Y31<30),"Pause unter 30 Min. (§ 4); ","")&IF(AND(ROUND(P31*1440,0)>540,Y31<45),"Pause unter 45 Min. (§ 4); ","")&IF(ROUND(P31*1440,0)>600,"über 10 Std. (§ 3); ","")&IF(W31="","",IF(W31<0,"beginnt vor Ende des Vortags; ",IF(W31<660,"Ruhezeit unter 11 Std. (§ 5); ","")))&IF(AND(ISNUMBER(I31),ROUND(N(I31)*1440,0)>ROUND(P31*1440,0)),"Fahrzeit über Arbeitszeit; ","")&IF(AND(OR(H31="Urlaub",H31="Krank",H31="Bezahlt frei"),ROUND(P31*1440,0)>0),"Abwesenheit und Arbeitszeit; ","")&IF(AND(H31<>"",H31<>"Unbezahlt",S31=0),"Abwesenheit an freiem Tag zählt nicht; ","")) | AA31: =IF(A31="",0,IF(OR(A31<=TODAY(),COUNTA(C31:J31)>0),1,0))
A32: =IF(MONTH(DATE(Jahr,2,28))=2,DATE(Jahr,2,28),"") | B32: =IF(A32="","",CHOOSE(WEEKDAY(A32,2),"Mo","Di","Mi","Do","Fr","Sa","So")) | K32: =IF(OR(A32="",P32+R32<=0),"",P32+R32) | L32: =IF(OR(A32="",S32=0),"",S32) | M32: =IF(OR(A32="",AND(P32+R32=0,S32=0)),"",IF(T32<0,"-","+")&TEXT(ABS(T32),"[h]:mm")) | N32: =IF(A32="","",IF(Q32<>"","Feiertag: "&Q32&IF(Z32<>"","; ",""),"")&IF(Z32<>"",LEFT(Z32,LEN(Z32)-2),"")) | P32: =IF(A32="",0,ROUND((IF(AND(ISNUMBER(C32),ISNUMBER(D32)),MOD(D32-C32,1),0)+IF(AND(ISNUMBER(E32),ISNUMBER(F32)),MOD(F32-E32,1),0)-IF(ISNUMBER(G32),G32,0)/1440)*1440,0)/1440) | Q32: =IF(A32="","",IFERROR(INDEX(FeiertagNamen,MATCH(A32,FeiertagDaten,0)),"")) | R32: =IF(OR(H32="Urlaub",H32="Krank",H32="Bezahlt frei"),S32,IF(H32="Halber Urlaubstag",ROUND(S32*720,0)/1440,0)) | S32: =IF(OR(A32="",Q32<>"",H32="Unbezahlt",AA32=0),0,ROUND(CHOOSE(WEEKDAY(A32,2),N(SollMo),N(SollDi),N(SollMi),N(SollDo),N(SollFr),N(SollSa),N(SollSo))*1440,0)/1440) | T32: =P32+R32-S32 | U32: =IF(OR(A32="",NOT(ISNUMBER(C32)),NOT(ISNUMBER(D32))),"",A32+IF(AND(ISNUMBER(E32),ISNUMBER(F32)),F32+IF(E32<C32,1,0)+IF(F32<E32,1,0),D32+IF(D32<C32,1,0))) | V32: =IF(OR(A32="",NOT(ISNUMBER(C32))),"",A32+C32) | W32: =IF(OR(V32="",X31=0),"",ROUND((V32-X31)*1440,0)) | X32: =MAX(X31,N(U32)) | Y32: =IF(ISNUMBER(G32),G32,0)+IF(AND(ISNUMBER(D32),ISNUMBER(E32)),MAX(0,ROUND((E32+IF(E32<C32,1,0)-D32-IF(D32<C32,1,0))*1440,0)),0) | Z32: =IF(A32="","",IF(OR(ISNUMBER(C32)<>ISNUMBER(D32),ISNUMBER(E32)<>ISNUMBER(F32)),"Beginn oder Ende fehlt; ","")&IF(P32<0,"Pause länger als Arbeitszeit; ","")&IF(AND(ROUND(P32*1440,0)>360,ROUND(P32*1440,0)<=540,Y32<30),"Pause unter 30 Min. (§ 4); ","")&IF(AND(ROUND(P32*1440,0)>540,Y32<45),"Pause unter 45 Min. (§ 4); ","")&IF(ROUND(P32*1440,0)>600,"über 10 Std. (§ 3); ","")&IF(W32="","",IF(W32<0,"beginnt vor Ende des Vortags; ",IF(W32<660,"Ruhezeit unter 11 Std. (§ 5); ","")))&IF(AND(ISNUMBER(I32),ROUND(N(I32)*1440,0)>ROUND(P32*1440,0)),"Fahrzeit über Arbeitszeit; ","")&IF(AND(OR(H32="Urlaub",H32="Krank",H32="Bezahlt frei"),ROUND(P32*1440,0)>0),"Abwesenheit und Arbeitszeit; ","")&IF(AND(H32<>"",H32<>"Unbezahlt",S32=0),"Abwesenheit an freiem Tag zählt nicht; ","")) | AA32: =IF(A32="",0,IF(OR(A32<=TODAY(),COUNTA(C32:J32)>0),1,0))
A33: =IF(MONTH(DATE(Jahr,2,29))=2,DATE(Jahr,2,29),"") | B33: =IF(A33="","",CHOOSE(WEEKDAY(A33,2),"Mo","Di","Mi","Do","Fr","Sa","So")) | K33: =IF(OR(A33="",P33+R33<=0),"",P33+R33) | L33: =IF(OR(A33="",S33=0),"",S33) | M33: =IF(OR(A33="",AND(P33+R33=0,S33=0)),"",IF(T33<0,"-","+")&TEXT(ABS(T33),"[h]:mm")) | N33: =IF(A33="","",IF(Q33<>"","Feiertag: "&Q33&IF(Z33<>"","; ",""),"")&IF(Z33<>"",LEFT(Z33,LEN(Z33)-2),"")) | P33: =IF(A33="",0,ROUND((IF(AND(ISNUMBER(C33),ISNUMBER(D33)),MOD(D33-C33,1),0)+IF(AND(ISNUMBER(E33),ISNUMBER(F33)),MOD(F33-E33,1),0)-IF(ISNUMBER(G33),G33,0)/1440)*1440,0)/1440) | Q33: =IF(A33="","",IFERROR(INDEX(FeiertagNamen,MATCH(A33,FeiertagDaten,0)),"")) | R33: =IF(OR(H33="Urlaub",H33="Krank",H33="Bezahlt frei"),S33,IF(H33="Halber Urlaubstag",ROUND(S33*720,0)/1440,0)) | S33: =IF(OR(A33="",Q33<>"",H33="Unbezahlt",AA33=0),0,ROUND(CHOOSE(WEEKDAY(A33,2),N(SollMo),N(SollDi),N(SollMi),N(SollDo),N(SollFr),N(SollSa),N(SollSo))*1440,0)/1440) | T33: =P33+R33-S33 | U33: =IF(OR(A33="",NOT(ISNUMBER(C33)),NOT(ISNUMBER(D33))),"",A33+IF(AND(ISNUMBER(E33),ISNUMBER(F33)),F33+IF(E33<C33,1,0)+IF(F33<E33,1,0),D33+IF(D33<C33,1,0))) | V33: =IF(OR(A33="",NOT(ISNUMBER(C33))),"",A33+C33) | W33: =IF(OR(V33="",X32=0),"",ROUND((V33-X32)*1440,0)) | X33: =MAX(X32,N(U33)) | Y33: =IF(ISNUMBER(G33),G33,0)+IF(AND(ISNUMBER(D33),ISNUMBER(E33)),MAX(0,ROUND((E33+IF(E33<C33,1,0)-D33-IF(D33<C33,1,0))*1440,0)),0) | Z33: =IF(A33="","",IF(OR(ISNUMBER(C33)<>ISNUMBER(D33),ISNUMBER(E33)<>ISNUMBER(F33)),"Beginn oder Ende fehlt; ","")&IF(P33<0,"Pause länger als Arbeitszeit; ","")&IF(AND(ROUND(P33*1440,0)>360,ROUND(P33*1440,0)<=540,Y33<30),"Pause unter 30 Min. (§ 4); ","")&IF(AND(ROUND(P33*1440,0)>540,Y33<45),"Pause unter 45 Min. (§ 4); ","")&IF(ROUND(P33*1440,0)>600,"über 10 Std. (§ 3); ","")&IF(W33="","",IF(W33<0,"beginnt vor Ende des Vortags; ",IF(W33<660,"Ruhezeit unter 11 Std. (§ 5); ","")))&IF(AND(ISNUMBER(I33),ROUND(N(I33)*1440,0)>ROUND(P33*1440,0)),"Fahrzeit über Arbeitszeit; ","")&IF(AND(OR(H33="Urlaub",H33="Krank",H33="Bezahlt frei"),ROUND(P33*1440,0)>0),"Abwesenheit und Arbeitszeit; ","")&IF(AND(H33<>"",H33<>"Unbezahlt",S33=0),"Abwesenheit an freiem Tag zählt nicht; ","")) | AA33: =IF(A33="",0,IF(OR(A33<=TODAY(),COUNTA(C33:J33)>0),1,0))
A34: =IF(MONTH(DATE(Jahr,2,30))=2,DATE(Jahr,2,30),"") | B34: =IF(A34="","",CHOOSE(WEEKDAY(A34,2),"Mo","Di","Mi","Do","Fr","Sa","So")) | K34: =IF(OR(A34="",P34+R34<=0),"",P34+R34) | L34: =IF(OR(A34="",S34=0),"",S34) | M34: =IF(OR(A34="",AND(P34+R34=0,S34=0)),"",IF(T34<0,"-","+")&TEXT(ABS(T34),"[h]:mm")) | N34: =IF(A34="","",IF(Q34<>"","Feiertag: "&Q34&IF(Z34<>"","; ",""),"")&IF(Z34<>"",LEFT(Z34,LEN(Z34)-2),"")) | P34: =IF(A34="",0,ROUND((IF(AND(ISNUMBER(C34),ISNUMBER(D34)),MOD(D34-C34,1),0)+IF(AND(ISNUMBER(E34),ISNUMBER(F34)),MOD(F34-E34,1),0)-IF(ISNUMBER(G34),G34,0)/1440)*1440,0)/1440) | Q34: =IF(A34="","",IFERROR(INDEX(FeiertagNamen,MATCH(A34,FeiertagDaten,0)),"")) | R34: =IF(OR(H34="Urlaub",H34="Krank",H34="Bezahlt frei"),S34,IF(H34="Halber Urlaubstag",ROUND(S34*720,0)/1440,0)) | S34: =IF(OR(A34="",Q34<>"",H34="Unbezahlt",AA34=0),0,ROUND(CHOOSE(WEEKDAY(A34,2),N(SollMo),N(SollDi),N(SollMi),N(SollDo),N(SollFr),N(SollSa),N(SollSo))*1440,0)/1440) | T34: =P34+R34-S34 | U34: =IF(OR(A34="",NOT(ISNUMBER(C34)),NOT(ISNUMBER(D34))),"",A34+IF(AND(ISNUMBER(E34),ISNUMBER(F34)),F34+IF(E34<C34,1,0)+IF(F34<E34,1,0),D34+IF(D34<C34,1,0))) | V34: =IF(OR(A34="",NOT(ISNUMBER(C34))),"",A34+C34) | W34: =IF(OR(V34="",X33=0),"",ROUND((V34-X33)*1440,0)) | X34: =MAX(X33,N(U34)) | Y34: =IF(ISNUMBER(G34),G34,0)+IF(AND(ISNUMBER(D34),ISNUMBER(E34)),MAX(0,ROUND((E34+IF(E34<C34,1,0)-D34-IF(D34<C34,1,0))*1440,0)),0) | Z34: =IF(A34="","",IF(OR(ISNUMBER(C34)<>ISNUMBER(D34),ISNUMBER(E34)<>ISNUMBER(F34)),"Beginn oder Ende fehlt; ","")&IF(P34<0,"Pause länger als Arbeitszeit; ","")&IF(AND(ROUND(P34*1440,0)>360,ROUND(P34*1440,0)<=540,Y34<30),"Pause unter 30 Min. (§ 4); ","")&IF(AND(ROUND(P34*1440,0)>540,Y34<45),"Pause unter 45 Min. (§ 4); ","")&IF(ROUND(P34*1440,0)>600,"über 10 Std. (§ 3); ","")&IF(W34="","",IF(W34<0,"beginnt vor Ende des Vortags; ",IF(W34<660,"Ruhezeit unter 11 Std. (§ 5); ","")))&IF(AND(ISNUMBER(I34),ROUND(N(I34)*1440,0)>ROUND(P34*1440,0)),"Fahrzeit über Arbeitszeit; ","")&IF(AND(OR(H34="Urlaub",H34="Krank",H34="Bezahlt frei"),ROUND(P34*1440,0)>0),"Abwesenheit und Arbeitszeit; ","")&IF(AND(H34<>"",H34<>"Unbezahlt",S34=0),"Abwesenheit an freiem Tag zählt nicht; ","")) | AA34: =IF(A34="",0,IF(OR(A34<=TODAY(),COUNTA(C34:J34)>0),1,0))
A35: =IF(MONTH(DATE(Jahr,2,31))=2,DATE(Jahr,2,31),"") | B35: =IF(A35="","",CHOOSE(WEEKDAY(A35,2),"Mo","Di","Mi","Do","Fr","Sa","So")) | K35: =IF(OR(A35="",P35+R35<=0),"",P35+R35) | L35: =IF(OR(A35="",S35=0),"",S35) | M35: =IF(OR(A35="",AND(P35+R35=0,S35=0)),"",IF(T35<0,"-","+")&TEXT(ABS(T35),"[h]:mm")) | N35: =IF(A35="","",IF(Q35<>"","Feiertag: "&Q35&IF(Z35<>"","; ",""),"")&IF(Z35<>"",LEFT(Z35,LEN(Z35)-2),"")) | P35: =IF(A35="",0,ROUND((IF(AND(ISNUMBER(C35),ISNUMBER(D35)),MOD(D35-C35,1),0)+IF(AND(ISNUMBER(E35),ISNUMBER(F35)),MOD(F35-E35,1),0)-IF(ISNUMBER(G35),G35,0)/1440)*1440,0)/1440) | Q35: =IF(A35="","",IFERROR(INDEX(FeiertagNamen,MATCH(A35,FeiertagDaten,0)),"")) | R35: =IF(OR(H35="Urlaub",H35="Krank",H35="Bezahlt frei"),S35,IF(H35="Halber Urlaubstag",ROUND(S35*720,0)/1440,0)) | S35: =IF(OR(A35="",Q35<>"",H35="Unbezahlt",AA35=0),0,ROUND(CHOOSE(WEEKDAY(A35,2),N(SollMo),N(SollDi),N(SollMi),N(SollDo),N(SollFr),N(SollSa),N(SollSo))*1440,0)/1440) | T35: =P35+R35-S35 | U35: =IF(OR(A35="",NOT(ISNUMBER(C35)),NOT(ISNUMBER(D35))),"",A35+IF(AND(ISNUMBER(E35),ISNUMBER(F35)),F35+IF(E35<C35,1,0)+IF(F35<E35,1,0),D35+IF(D35<C35,1,0))) | V35: =IF(OR(A35="",NOT(ISNUMBER(C35))),"",A35+C35) | W35: =IF(OR(V35="",X34=0),"",ROUND((V35-X34)*1440,0)) | X35: =MAX(X34,N(U35)) | Y35: =IF(ISNUMBER(G35),G35,0)+IF(AND(ISNUMBER(D35),ISNUMBER(E35)),MAX(0,ROUND((E35+IF(E35<C35,1,0)-D35-IF(D35<C35,1,0))*1440,0)),0) | Z35: =IF(A35="","",IF(OR(ISNUMBER(C35)<>ISNUMBER(D35),ISNUMBER(E35)<>ISNUMBER(F35)),"Beginn oder Ende fehlt; ","")&IF(P35<0,"Pause länger als Arbeitszeit; ","")&IF(AND(ROUND(P35*1440,0)>360,ROUND(P35*1440,0)<=540,Y35<30),"Pause unter 30 Min. (§ 4); ","")&IF(AND(ROUND(P35*1440,0)>540,Y35<45),"Pause unter 45 Min. (§ 4); ","")&IF(ROUND(P35*1440,0)>600,"über 10 Std. (§ 3); ","")&IF(W35="","",IF(W35<0,"beginnt vor Ende des Vortags; ",IF(W35<660,"Ruhezeit unter 11 Std. (§ 5); ","")))&IF(AND(ISNUMBER(I35),ROUND(N(I35)*1440,0)>ROUND(P35*1440,0)),"Fahrzeit über Arbeitszeit; ","")&IF(AND(OR(H35="Urlaub",H35="Krank",H35="Bezahlt frei"),ROUND(P35*1440,0)>0),"Abwesenheit und Arbeitszeit; ","")&IF(AND(H35<>"",H35<>"Unbezahlt",S35=0),"Abwesenheit an freiem Tag zählt nicht; ","")) | AA35: =IF(A35="",0,IF(OR(A35<=TODAY(),COUNTA(C35:J35)>0),1,0))
A37: Summe des Monats | I37: =SUM(I5:I35) | K37: =SUM(P5:P35)+SUM(R5:R35) | L37: =SUM(S5:S35) | M37: =IF(T37<0,"-","+")&TEXT(ABS(T37),"[h]:mm") | T37: =SUM(T5:T35)
E38: Std.:Min. | G38: dezimal
A39: Ist (inkl. Urlaub, Krank, bezahlt frei) | E39: =K37 | G39: =ROUND(K37*24,2) | J39: Urlaubstage | K39: =COUNTIFS(H5:H35,"Urlaub",S5:S35,">0")+0.5*COUNTIFS(H5:H35,"Halber Urlaubstag",S5:S35,">0")
A40: Soll | E40: =L37 | G40: =ROUND(L37*24,2) | J40: Krankheitstage (Arbeitstage) | K40: =COUNTIFS(H5:H35,"Krank",S5:S35,">0") | T40: ='Januar'!$T$41
A41: Saldo des Monats | E41: =IF(T37<0,"-","+")&TEXT(ABS(T37),"[h]:mm") | G41: =ROUND(T37*24,2) | J41: Fahrzeit | K41: =I37 | T41: =T37+T40
A42: Übertrag aus dem Vormonat | E42: =IF(T40<0,"-","+")&TEXT(ABS(T40),"[h]:mm") | G42: =ROUND(T40*24,2)
A43: Saldo gesamt | E43: =IF(T41<0,"-","+")&TEXT(ABS(T41),"[h]:mm") | G43: =ROUND(T41*24,2)
A48: Datum, Unterschrift Mitarbeiter/in | J48: Datum, Unterschrift Arbeitgeber

Sheet März
A1: ="Arbeitszeitnachweis März "&Jahr
A2: ="Name: "&IF(MitarbeiterName="","…",MitarbeiterName)&IF(Personalnummer="",""," · Personalnr. "&Personalnummer)&IF(Firma="",""," · "&Firma)&IF(Bundesland="",""," · "&Bundesland)
A3: =IF(Bundesland="","Bitte in den Einstellungen das Bundesland wählen, damit die Feiertage stimmen. ","")&IF(SUM(SollMo,SollDi,SollMi,SollDo,SollFr,SollSa,SollSo)=0,"Bitte in den Einstellungen die Soll-Arbeitszeit eintragen.","")
A4: Datum | B4: Tag | C4: Beginn | D4: Ende | E4: Beginn 2 | F4: Ende 2 | G4: Pause (Min.) | H4: Abwesenheit | I4: davon Fahrzeit | J4: Einsatzort / Notiz | K4: Ist | L4: Soll | M4: Saldo | N4: Hinweis (§ ArbZG)
A5: =IF(MONTH(DATE(Jahr,3,1))=3,DATE(Jahr,3,1),"") | B5: =IF(A5="","",CHOOSE(WEEKDAY(A5,2),"Mo","Di","Mi","Do","Fr","Sa","So")) | K5: =IF(OR(A5="",P5+R5<=0),"",P5+R5) | L5: =IF(OR(A5="",S5=0),"",S5) | M5: =IF(OR(A5="",AND(P5+R5=0,S5=0)),"",IF(T5<0,"-","+")&TEXT(ABS(T5),"[h]:mm")) | N5: =IF(A5="","",IF(Q5<>"","Feiertag: "&Q5&IF(Z5<>"","; ",""),"")&IF(Z5<>"",LEFT(Z5,LEN(Z5)-2),"")) | P5: =IF(A5="",0,ROUND((IF(AND(ISNUMBER(C5),ISNUMBER(D5)),MOD(D5-C5,1),0)+IF(AND(ISNUMBER(E5),ISNUMBER(F5)),MOD(F5-E5,1),0)-IF(ISNUMBER(G5),G5,0)/1440)*1440,0)/1440) | Q5: =IF(A5="","",IFERROR(INDEX(FeiertagNamen,MATCH(A5,FeiertagDaten,0)),"")) | R5: =IF(OR(H5="Urlaub",H5="Krank",H5="Bezahlt frei"),S5,IF(H5="Halber Urlaubstag",ROUND(S5*720,0)/1440,0)) | S5: =IF(OR(A5="",Q5<>"",H5="Unbezahlt",AA5=0),0,ROUND(CHOOSE(WEEKDAY(A5,2),N(SollMo),N(SollDi),N(SollMi),N(SollDo),N(SollFr),N(SollSa),N(SollSo))*1440,0)/1440) | T5: =P5+R5-S5 | U5: =IF(OR(A5="",NOT(ISNUMBER(C5)),NOT(ISNUMBER(D5))),"",A5+IF(AND(ISNUMBER(E5),ISNUMBER(F5)),F5+IF(E5<C5,1,0)+IF(F5<E5,1,0),D5+IF(D5<C5,1,0))) | V5: =IF(OR(A5="",NOT(ISNUMBER(C5))),"",A5+C5) | W5: =IF(OR(V5="",'Februar'!$X$35=0),"",ROUND((V5-'Februar'!$X$35)*1440,0)) | X5: =MAX('Februar'!$X$35,N(U5)) | Y5: =IF(ISNUMBER(G5),G5,0)+IF(AND(ISNUMBER(D5),ISNUMBER(E5)),MAX(0,ROUND((E5+IF(E5<C5,1,0)-D5-IF(D5<C5,1,0))*1440,0)),0) | Z5: =IF(A5="","",IF(OR(ISNUMBER(C5)<>ISNUMBER(D5),ISNUMBER(E5)<>ISNUMBER(F5)),"Beginn oder Ende fehlt; ","")&IF(P5<0,"Pause länger als Arbeitszeit; ","")&IF(AND(ROUND(P5*1440,0)>360,ROUND(P5*1440,0)<=540,Y5<30),"Pause unter 30 Min. (§ 4); ","")&IF(AND(ROUND(P5*1440,0)>540,Y5<45),"Pause unter 45 Min. (§ 4); ","")&IF(ROUND(P5*1440,0)>600,"über 10 Std. (§ 3); ","")&IF(W5="","",IF(W5<0,"beginnt vor Ende des Vortags; ",IF(W5<660,"Ruhezeit unter 11 Std. (§ 5); ","")))&IF(AND(ISNUMBER(I5),ROUND(N(I5)*1440,0)>ROUND(P5*1440,0)),"Fahrzeit über Arbeitszeit; ","")&IF(AND(OR(H5="Urlaub",H5="Krank",H5="Bezahlt frei"),ROUND(P5*1440,0)>0),"Abwesenheit und Arbeitszeit; ","")&IF(AND(H5<>"",H5<>"Unbezahlt",S5=0),"Abwesenheit an freiem Tag zählt nicht; ","")) | AA5: =IF(A5="",0,IF(OR(A5<=TODAY(),COUNTA(C5:J5)>0),1,0))
A6: =IF(MONTH(DATE(Jahr,3,2))=3,DATE(Jahr,3,2),"") | B6: =IF(A6="","",CHOOSE(WEEKDAY(A6,2),"Mo","Di","Mi","Do","Fr","Sa","So")) | K6: =IF(OR(A6="",P6+R6<=0),"",P6+R6) | L6: =IF(OR(A6="",S6=0),"",S6) | M6: =IF(OR(A6="",AND(P6+R6=0,S6=0)),"",IF(T6<0,"-","+")&TEXT(ABS(T6),"[h]:mm")) | N6: =IF(A6="","",IF(Q6<>"","Feiertag: "&Q6&IF(Z6<>"","; ",""),"")&IF(Z6<>"",LEFT(Z6,LEN(Z6)-2),"")) | P6: =IF(A6="",0,ROUND((IF(AND(ISNUMBER(C6),ISNUMBER(D6)),MOD(D6-C6,1),0)+IF(AND(ISNUMBER(E6),ISNUMBER(F6)),MOD(F6-E6,1),0)-IF(ISNUMBER(G6),G6,0)/1440)*1440,0)/1440) | Q6: =IF(A6="","",IFERROR(INDEX(FeiertagNamen,MATCH(A6,FeiertagDaten,0)),"")) | R6: =IF(OR(H6="Urlaub",H6="Krank",H6="Bezahlt frei"),S6,IF(H6="Halber Urlaubstag",ROUND(S6*720,0)/1440,0)) | S6: =IF(OR(A6="",Q6<>"",H6="Unbezahlt",AA6=0),0,ROUND(CHOOSE(WEEKDAY(A6,2),N(SollMo),N(SollDi),N(SollMi),N(SollDo),N(SollFr),N(SollSa),N(SollSo))*1440,0)/1440) | T6: =P6+R6-S6 | U6: =IF(OR(A6="",NOT(ISNUMBER(C6)),NOT(ISNUMBER(D6))),"",A6+IF(AND(ISNUMBER(E6),ISNUMBER(F6)),F6+IF(E6<C6,1,0)+IF(F6<E6,1,0),D6+IF(D6<C6,1,0))) | V6: =IF(OR(A6="",NOT(ISNUMBER(C6))),"",A6+C6) | W6: =IF(OR(V6="",X5=0),"",ROUND((V6-X5)*1440,0)) | X6: =MAX(X5,N(U6)) | Y6: =IF(ISNUMBER(G6),G6,0)+IF(AND(ISNUMBER(D6),ISNUMBER(E6)),MAX(0,ROUND((E6+IF(E6<C6,1,0)-D6-IF(D6<C6,1,0))*1440,0)),0) | Z6: =IF(A6="","",IF(OR(ISNUMBER(C6)<>ISNUMBER(D6),ISNUMBER(E6)<>ISNUMBER(F6)),"Beginn oder Ende fehlt; ","")&IF(P6<0,"Pause länger als Arbeitszeit; ","")&IF(AND(ROUND(P6*1440,0)>360,ROUND(P6*1440,0)<=540,Y6<30),"Pause unter 30 Min. (§ 4); ","")&IF(AND(ROUND(P6*1440,0)>540,Y6<45),"Pause unter 45 Min. (§ 4); ","")&IF(ROUND(P6*1440,0)>600,"über 10 Std. (§ 3); ","")&IF(W6="","",IF(W6<0,"beginnt vor Ende des Vortags; ",IF(W6<660,"Ruhezeit unter 11 Std. (§ 5); ","")))&IF(AND(ISNUMBER(I6),ROUND(N(I6)*1440,0)>ROUND(P6*1440,0)),"Fahrzeit über Arbeitszeit; ","")&IF(AND(OR(H6="Urlaub",H6="Krank",H6="Bezahlt frei"),ROUND(P6*1440,0)>0),"Abwesenheit und Arbeitszeit; ","")&IF(AND(H6<>"",H6<>"Unbezahlt",S6=0),"Abwesenheit an freiem Tag zählt nicht; ","")) | AA6: =IF(A6="",0,IF(OR(A6<=TODAY(),COUNTA(C6:J6)>0),1,0))
A7: =IF(MONTH(DATE(Jahr,3,3))=3,DATE(Jahr,3,3),"") | B7: =IF(A7="","",CHOOSE(WEEKDAY(A7,2),"Mo","Di","Mi","Do","Fr","Sa","So")) | K7: =IF(OR(A7="",P7+R7<=0),"",P7+R7) | L7: =IF(OR(A7="",S7=0),"",S7) | M7: =IF(OR(A7="",AND(P7+R7=0,S7=0)),"",IF(T7<0,"-","+")&TEXT(ABS(T7),"[h]:mm")) | N7: =IF(A7="","",IF(Q7<>"","Feiertag: "&Q7&IF(Z7<>"","; ",""),"")&IF(Z7<>"",LEFT(Z7,LEN(Z7)-2),"")) | P7: =IF(A7="",0,ROUND((IF(AND(ISNUMBER(C7),ISNUMBER(D7)),MOD(D7-C7,1),0)+IF(AND(ISNUMBER(E7),ISNUMBER(F7)),MOD(F7-E7,1),0)-IF(ISNUMBER(G7),G7,0)/1440)*1440,0)/1440) | Q7: =IF(A7="","",IFERROR(INDEX(FeiertagNamen,MATCH(A7,FeiertagDaten,0)),"")) | R7: =IF(OR(H7="Urlaub",H7="Krank",H7="Bezahlt frei"),S7,IF(H7="Halber Urlaubstag",ROUND(S7*720,0)/1440,0)) | S7: =IF(OR(A7="",Q7<>"",H7="Unbezahlt",AA7=0),0,ROUND(CHOOSE(WEEKDAY(A7,2),N(SollMo),N(SollDi),N(SollMi),N(SollDo),N(SollFr),N(SollSa),N(SollSo))*1440,0)/1440) | T7: =P7+R7-S7 | U7: =IF(OR(A7="",NOT(ISNUMBER(C7)),NOT(ISNUMBER(D7))),"",A7+IF(AND(ISNUMBER(E7),ISNUMBER(F7)),F7+IF(E7<C7,1,0)+IF(F7<E7,1,0),D7+IF(D7<C7,1,0))) | V7: =IF(OR(A7="",NOT(ISNUMBER(C7))),"",A7+C7) | W7: =IF(OR(V7="",X6=0),"",ROUND((V7-X6)*1440,0)) | X7: =MAX(X6,N(U7)) | Y7: =IF(ISNUMBER(G7),G7,0)+IF(AND(ISNUMBER(D7),ISNUMBER(E7)),MAX(0,ROUND((E7+IF(E7<C7,1,0)-D7-IF(D7<C7,1,0))*1440,0)),0) | Z7: =IF(A7="","",IF(OR(ISNUMBER(C7)<>ISNUMBER(D7),ISNUMBER(E7)<>ISNUMBER(F7)),"Beginn oder Ende fehlt; ","")&IF(P7<0,"Pause länger als Arbeitszeit; ","")&IF(AND(ROUND(P7*1440,0)>360,ROUND(P7*1440,0)<=540,Y7<30),"Pause unter 30 Min. (§ 4); ","")&IF(AND(ROUND(P7*1440,0)>540,Y7<45),"Pause unter 45 Min. (§ 4); ","")&IF(ROUND(P7*1440,0)>600,"über 10 Std. (§ 3); ","")&IF(W7="","",IF(W7<0,"beginnt vor Ende des Vortags; ",IF(W7<660,"Ruhezeit unter 11 Std. (§ 5); ","")))&IF(AND(ISNUMBER(I7),ROUND(N(I7)*1440,0)>ROUND(P7*1440,0)),"Fahrzeit über Arbeitszeit; ","")&IF(AND(OR(H7="Urlaub",H7="Krank",H7="Bezahlt frei"),ROUND(P7*1440,0)>0),"Abwesenheit und Arbeitszeit; ","")&IF(AND(H7<>"",H7<>"Unbezahlt",S7=0),"Abwesenheit an freiem Tag zählt nicht; ","")) | AA7: =IF(A7="",0,IF(OR(A7<=TODAY(),COUNTA(C7:J7)>0),1,0))
A8: =IF(MONTH(DATE(Jahr,3,4))=3,DATE(Jahr,3,4),"") | B8: =IF(A8="","",CHOOSE(WEEKDAY(A8,2),"Mo","Di","Mi","Do","Fr","Sa","So")) | K8: =IF(OR(A8="",P8+R8<=0),"",P8+R8) | L8: =IF(OR(A8="",S8=0),"",S8) | M8: =IF(OR(A8="",AND(P8+R8=0,S8=0)),"",IF(T8<0,"-","+")&TEXT(ABS(T8),"[h]:mm")) | N8: =IF(A8="","",IF(Q8<>"","Feiertag: "&Q8&IF(Z8<>"","; ",""),"")&IF(Z8<>"",LEFT(Z8,LEN(Z8)-2),"")) | P8: =IF(A8="",0,ROUND((IF(AND(ISNUMBER(C8),ISNUMBER(D8)),MOD(D8-C8,1),0)+IF(AND(ISNUMBER(E8),ISNUMBER(F8)),MOD(F8-E8,1),0)-IF(ISNUMBER(G8),G8,0)/1440)*1440,0)/1440) | Q8: =IF(A8="","",IFERROR(INDEX(FeiertagNamen,MATCH(A8,FeiertagDaten,0)),"")) | R8: =IF(OR(H8="Urlaub",H8="Krank",H8="Bezahlt frei"),S8,IF(H8="Halber Urlaubstag",ROUND(S8*720,0)/1440,0)) | S8: =IF(OR(A8="",Q8<>"",H8="Unbezahlt",AA8=0),0,ROUND(CHOOSE(WEEKDAY(A8,2),N(SollMo),N(SollDi),N(SollMi),N(SollDo),N(SollFr),N(SollSa),N(SollSo))*1440,0)/1440) | T8: =P8+R8-S8 | U8: =IF(OR(A8="",NOT(ISNUMBER(C8)),NOT(ISNUMBER(D8))),"",A8+IF(AND(ISNUMBER(E8),ISNUMBER(F8)),F8+IF(E8<C8,1,0)+IF(F8<E8,1,0),D8+IF(D8<C8,1,0))) | V8: =IF(OR(A8="",NOT(ISNUMBER(C8))),"",A8+C8) | W8: =IF(OR(V8="",X7=0),"",ROUND((V8-X7)*1440,0)) | X8: =MAX(X7,N(U8)) | Y8: =IF(ISNUMBER(G8),G8,0)+IF(AND(ISNUMBER(D8),ISNUMBER(E8)),MAX(0,ROUND((E8+IF(E8<C8,1,0)-D8-IF(D8<C8,1,0))*1440,0)),0) | Z8: =IF(A8="","",IF(OR(ISNUMBER(C8)<>ISNUMBER(D8),ISNUMBER(E8)<>ISNUMBER(F8)),"Beginn oder Ende fehlt; ","")&IF(P8<0,"Pause länger als Arbeitszeit; ","")&IF(AND(ROUND(P8*1440,0)>360,ROUND(P8*1440,0)<=540,Y8<30),"Pause unter 30 Min. (§ 4); ","")&IF(AND(ROUND(P8*1440,0)>540,Y8<45),"Pause unter 45 Min. (§ 4); ","")&IF(ROUND(P8*1440,0)>600,"über 10 Std. (§ 3); ","")&IF(W8="","",IF(W8<0,"beginnt vor Ende des Vortags; ",IF(W8<660,"Ruhezeit unter 11 Std. (§ 5); ","")))&IF(AND(ISNUMBER(I8),ROUND(N(I8)*1440,0)>ROUND(P8*1440,0)),"Fahrzeit über Arbeitszeit; ","")&IF(AND(OR(H8="Urlaub",H8="Krank",H8="Bezahlt frei"),ROUND(P8*1440,0)>0),"Abwesenheit und Arbeitszeit; ","")&IF(AND(H8<>"",H8<>"Unbezahlt",S8=0),"Abwesenheit an freiem Tag zählt nicht; ","")) | AA8: =IF(A8="",0,IF(OR(A8<=TODAY(),COUNTA(C8:J8)>0),1,0))
A9: =IF(MONTH(DATE(Jahr,3,5))=3,DATE(Jahr,3,5),"") | B9: =IF(A9="","",CHOOSE(WEEKDAY(A9,2),"Mo","Di","Mi","Do","Fr","Sa","So")) | K9: =IF(OR(A9="",P9+R9<=0),"",P9+R9) | L9: =IF(OR(A9="",S9=0),"",S9) | M9: =IF(OR(A9="",AND(P9+R9=0,S9=0)),"",IF(T9<0,"-","+")&TEXT(ABS(T9),"[h]:mm")) | N9: =IF(A9="","",IF(Q9<>"","Feiertag: "&Q9&IF(Z9<>"","; ",""),"")&IF(Z9<>"",LEFT(Z9,LEN(Z9)-2),"")) | P9: =IF(A9="",0,ROUND((IF(AND(ISNUMBER(C9),ISNUMBER(D9)),MOD(D9-C9,1),0)+IF(AND(ISNUMBER(E9),ISNUMBER(F9)),MOD(F9-E9,1),0)-IF(ISNUMBER(G9),G9,0)/1440)*1440,0)/1440) | Q9: =IF(A9="","",IFERROR(INDEX(FeiertagNamen,MATCH(A9,FeiertagDaten,0)),"")) | R9: =IF(OR(H9="Urlaub",H9="Krank",H9="Bezahlt frei"),S9,IF(H9="Halber Urlaubstag",ROUND(S9*720,0)/1440,0)) | S9: =IF(OR(A9="",Q9<>"",H9="Unbezahlt",AA9=0),0,ROUND(CHOOSE(WEEKDAY(A9,2),N(SollMo),N(SollDi),N(SollMi),N(SollDo),N(SollFr),N(SollSa),N(SollSo))*1440,0)/1440) | T9: =P9+R9-S9 | U9: =IF(OR(A9="",NOT(ISNUMBER(C9)),NOT(ISNUMBER(D9))),"",A9+IF(AND(ISNUMBER(E9),ISNUMBER(F9)),F9+IF(E9<C9,1,0)+IF(F9<E9,1,0),D9+IF(D9<C9,1,0))) | V9: =IF(OR(A9="",NOT(ISNUMBER(C9))),"",A9+C9) | W9: =IF(OR(V9="",X8=0),"",ROUND((V9-X8)*1440,0)) | X9: =MAX(X8,N(U9)) | Y9: =IF(ISNUMBER(G9),G9,0)+IF(AND(ISNUMBER(D9),ISNUMBER(E9)),MAX(0,ROUND((E9+IF(E9<C9,1,0)-D9-IF(D9<C9,1,0))*1440,0)),0) | Z9: =IF(A9="","",IF(OR(ISNUMBER(C9)<>ISNUMBER(D9),ISNUMBER(E9)<>ISNUMBER(F9)),"Beginn oder Ende fehlt; ","")&IF(P9<0,"Pause länger als Arbeitszeit; ","")&IF(AND(ROUND(P9*1440,0)>360,ROUND(P9*1440,0)<=540,Y9<30),"Pause unter 30 Min. (§ 4); ","")&IF(AND(ROUND(P9*1440,0)>540,Y9<45),"Pause unter 45 Min. (§ 4); ","")&IF(ROUND(P9*1440,0)>600,"über 10 Std. (§ 3); ","")&IF(W9="","",IF(W9<0,"beginnt vor Ende des Vortags; ",IF(W9<660,"Ruhezeit unter 11 Std. (§ 5); ","")))&IF(AND(ISNUMBER(I9),ROUND(N(I9)*1440,0)>ROUND(P9*1440,0)),"Fahrzeit über Arbeitszeit; ","")&IF(AND(OR(H9="Urlaub",H9="Krank",H9="Bezahlt frei"),ROUND(P9*1440,0)>0),"Abwesenheit und Arbeitszeit; ","")&IF(AND(H9<>"",H9<>"Unbezahlt",S9=0),"Abwesenheit an freiem Tag zählt nicht; ","")) | AA9: =IF(A9="",0,IF(OR(A9<=TODAY(),COUNTA(C9:J9)>0),1,0))
A10: =IF(MONTH(DATE(Jahr,3,6))=3,DATE(Jahr,3,6),"") | B10: =IF(A10="","",CHOOSE(WEEKDAY(A10,2),"Mo","Di","Mi","Do","Fr","Sa","So")) | K10: =IF(OR(A10="",P10+R10<=0),"",P10+R10) | L10: =IF(OR(A10="",S10=0),"",S10) | M10: =IF(OR(A10="",AND(P10+R10=0,S10=0)),"",IF(T10<0,"-","+")&TEXT(ABS(T10),"[h]:mm")) | N10: =IF(A10="","",IF(Q10<>"","Feiertag: "&Q10&IF(Z10<>"","; ",""),"")&IF(Z10<>"",LEFT(Z10,LEN(Z10)-2),"")) | P10: =IF(A10="",0,ROUND((IF(AND(ISNUMBER(C10),ISNUMBER(D10)),MOD(D10-C10,1),0)+IF(AND(ISNUMBER(E10),ISNUMBER(F10)),MOD(F10-E10,1),0)-IF(ISNUMBER(G10),G10,0)/1440)*1440,0)/1440) | Q10: =IF(A10="","",IFERROR(INDEX(FeiertagNamen,MATCH(A10,FeiertagDaten,0)),"")) | R10: =IF(OR(H10="Urlaub",H10="Krank",H10="Bezahlt frei"),S10,IF(H10="Halber Urlaubstag",ROUND(S10*720,0)/1440,0)) | S10: =IF(OR(A10="",Q10<>"",H10="Unbezahlt",AA10=0),0,ROUND(CHOOSE(WEEKDAY(A10,2),N(SollMo),N(SollDi),N(SollMi),N(SollDo),N(SollFr),N(SollSa),N(SollSo))*1440,0)/1440) | T10: =P10+R10-S10 | U10: =IF(OR(A10="",NOT(ISNUMBER(C10)),NOT(ISNUMBER(D10))),"",A10+IF(AND(ISNUMBER(E10),ISNUMBER(F10)),F10+IF(E10<C10,1,0)+IF(F10<E10,1,0),D10+IF(D10<C10,1,0))) | V10: =IF(OR(A10="",NOT(ISNUMBER(C10))),"",A10+C10) | W10: =IF(OR(V10="",X9=0),"",ROUND((V10-X9)*1440,0)) | X10: =MAX(X9,N(U10)) | Y10: =IF(ISNUMBER(G10),G10,0)+IF(AND(ISNUMBER(D10),ISNUMBER(E10)),MAX(0,ROUND((E10+IF(E10<C10,1,0)-D10-IF(D10<C10,1,0))*1440,0)),0) | Z10: =IF(A10="","",IF(OR(ISNUMBER(C10)<>ISNUMBER(D10),ISNUMBER(E10)<>ISNUMBER(F10)),"Beginn oder Ende fehlt; ","")&IF(P10<0,"Pause länger als Arbeitszeit; ","")&IF(AND(ROUND(P10*1440,0)>360,ROUND(P10*1440,0)<=540,Y10<30),"Pause unter 30 Min. (§ 4); ","")&IF(AND(ROUND(P10*1440,0)>540,Y10<45),"Pause unter 45 Min. (§ 4); ","")&IF(ROUND(P10*1440,0)>600,"über 10 Std. (§ 3); ","")&IF(W10="","",IF(W10<0,"beginnt vor Ende des Vortags; ",IF(W10<660,"Ruhezeit unter 11 Std. (§ 5); ","")))&IF(AND(ISNUMBER(I10),ROUND(N(I10)*1440,0)>ROUND(P10*1440,0)),"Fahrzeit über Arbeitszeit; ","")&IF(AND(OR(H10="Urlaub",H10="Krank",H10="Bezahlt frei"),ROUND(P10*1440,0)>0),"Abwesenheit und Arbeitszeit; ","")&IF(AND(H10<>"",H10<>"Unbezahlt",S10=0),"Abwesenheit an freiem Tag zählt nicht; ","")) | AA10: =IF(A10="",0,IF(OR(A10<=TODAY(),COUNTA(C10:J10)>0),1,0))
A11: =IF(MONTH(DATE(Jahr,3,7))=3,DATE(Jahr,3,7),"") | B11: =IF(A11="","",CHOOSE(WEEKDAY(A11,2),"Mo","Di","Mi","Do","Fr","Sa","So")) | K11: =IF(OR(A11="",P11+R11<=0),"",P11+R11) | L11: =IF(OR(A11="",S11=0),"",S11) | M11: =IF(OR(A11="",AND(P11+R11=0,S11=0)),"",IF(T11<0,"-","+")&TEXT(ABS(T11),"[h]:mm")) | N11: =IF(A11="","",IF(Q11<>"","Feiertag: "&Q11&IF(Z11<>"","; ",""),"")&IF(Z11<>"",LEFT(Z11,LEN(Z11)-2),"")) | P11: =IF(A11="",0,ROUND((IF(AND(ISNUMBER(C11),ISNUMBER(D11)),MOD(D11-C11,1),0)+IF(AND(ISNUMBER(E11),ISNUMBER(F11)),MOD(F11-E11,1),0)-IF(ISNUMBER(G11),G11,0)/1440)*1440,0)/1440) | Q11: =IF(A11="","",IFERROR(INDEX(FeiertagNamen,MATCH(A11,FeiertagDaten,0)),"")) | R11: =IF(OR(H11="Urlaub",H11="Krank",H11="Bezahlt frei"),S11,IF(H11="Halber Urlaubstag",ROUND(S11*720,0)/1440,0)) | S11: =IF(OR(A11="",Q11<>"",H11="Unbezahlt",AA11=0),0,ROUND(CHOOSE(WEEKDAY(A11,2),N(SollMo),N(SollDi),N(SollMi),N(SollDo),N(SollFr),N(SollSa),N(SollSo))*1440,0)/1440) | T11: =P11+R11-S11 | U11: =IF(OR(A11="",NOT(ISNUMBER(C11)),NOT(ISNUMBER(D11))),"",A11+IF(AND(ISNUMBER(E11),ISNUMBER(F11)),F11+IF(E11<C11,1,0)+IF(F11<E11,1,0),D11+IF(D11<C11,1,0))) | V11: =IF(OR(A11="",NOT(ISNUMBER(C11))),"",A11+C11) | W11: =IF(OR(V11="",X10=0),"",ROUND((V11-X10)*1440,0)) | X11: =MAX(X10,N(U11)) | Y11: =IF(ISNUMBER(G11),G11,0)+IF(AND(ISNUMBER(D11),ISNUMBER(E11)),MAX(0,ROUND((E11+IF(E11<C11,1,0)-D11-IF(D11<C11,1,0))*1440,0)),0) | Z11: =IF(A11="","",IF(OR(ISNUMBER(C11)<>ISNUMBER(D11),ISNUMBER(E11)<>ISNUMBER(F11)),"Beginn oder Ende fehlt; ","")&IF(P11<0,"Pause länger als Arbeitszeit; ","")&IF(AND(ROUND(P11*1440,0)>360,ROUND(P11*1440,0)<=540,Y11<30),"Pause unter 30 Min. (§ 4); ","")&IF(AND(ROUND(P11*1440,0)>540,Y11<45),"Pause unter 45 Min. (§ 4); ","")&IF(ROUND(P11*1440,0)>600,"über 10 Std. (§ 3); ","")&IF(W11="","",IF(W11<0,"beginnt vor Ende des Vortags; ",IF(W11<660,"Ruhezeit unter 11 Std. (§ 5); ","")))&IF(AND(ISNUMBER(I11),ROUND(N(I11)*1440,0)>ROUND(P11*1440,0)),"Fahrzeit über Arbeitszeit; ","")&IF(AND(OR(H11="Urlaub",H11="Krank",H11="Bezahlt frei"),ROUND(P11*1440,0)>0),"Abwesenheit und Arbeitszeit; ","")&IF(AND(H11<>"",H11<>"Unbezahlt",S11=0),"Abwesenheit an freiem Tag zählt nicht; ","")) | AA11: =IF(A11="",0,IF(OR(A11<=TODAY(),COUNTA(C11:J11)>0),1,0))
A12: =IF(MONTH(DATE(Jahr,3,8))=3,DATE(Jahr,3,8),"") | B12: =IF(A12="","",CHOOSE(WEEKDAY(A12,2),"Mo","Di","Mi","Do","Fr","Sa","So")) | K12: =IF(OR(A12="",P12+R12<=0),"",P12+R12) | L12: =IF(OR(A12="",S12=0),"",S12) | M12: =IF(OR(A12="",AND(P12+R12=0,S12=0)),"",IF(T12<0,"-","+")&TEXT(ABS(T12),"[h]:mm")) | N12: =IF(A12="","",IF(Q12<>"","Feiertag: "&Q12&IF(Z12<>"","; ",""),"")&IF(Z12<>"",LEFT(Z12,LEN(Z12)-2),"")) | P12: =IF(A12="",0,ROUND((IF(AND(ISNUMBER(C12),ISNUMBER(D12)),MOD(D12-C12,1),0)+IF(AND(ISNUMBER(E12),ISNUMBER(F12)),MOD(F12-E12,1),0)-IF(ISNUMBER(G12),G12,0)/1440)*1440,0)/1440) | Q12: =IF(A12="","",IFERROR(INDEX(FeiertagNamen,MATCH(A12,FeiertagDaten,0)),"")) | R12: =IF(OR(H12="Urlaub",H12="Krank",H12="Bezahlt frei"),S12,IF(H12="Halber Urlaubstag",ROUND(S12*720,0)/1440,0)) | S12: =IF(OR(A12="",Q12<>"",H12="Unbezahlt",AA12=0),0,ROUND(CHOOSE(WEEKDAY(A12,2),N(SollMo),N(SollDi),N(SollMi),N(SollDo),N(SollFr),N(SollSa),N(SollSo))*1440,0)/1440) | T12: =P12+R12-S12 | U12: =IF(OR(A12="",NOT(ISNUMBER(C12)),NOT(ISNUMBER(D12))),"",A12+IF(AND(ISNUMBER(E12),ISNUMBER(F12)),F12+IF(E12<C12,1,0)+IF(F12<E12,1,0),D12+IF(D12<C12,1,0))) | V12: =IF(OR(A12="",NOT(ISNUMBER(C12))),"",A12+C12) | W12: =IF(OR(V12="",X11=0),"",ROUND((V12-X11)*1440,0)) | X12: =MAX(X11,N(U12)) | Y12: =IF(ISNUMBER(G12),G12,0)+IF(AND(ISNUMBER(D12),ISNUMBER(E12)),MAX(0,ROUND((E12+IF(E12<C12,1,0)-D12-IF(D12<C12,1,0))*1440,0)),0) | Z12: =IF(A12="","",IF(OR(ISNUMBER(C12)<>ISNUMBER(D12),ISNUMBER(E12)<>ISNUMBER(F12)),"Beginn oder Ende fehlt; ","")&IF(P12<0,"Pause länger als Arbeitszeit; ","")&IF(AND(ROUND(P12*1440,0)>360,ROUND(P12*1440,0)<=540,Y12<30),"Pause unter 30 Min. (§ 4); ","")&IF(AND(ROUND(P12*1440,0)>540,Y12<45),"Pause unter 45 Min. (§ 4); ","")&IF(ROUND(P12*1440,0)>600,"über 10 Std. (§ 3); ","")&IF(W12="","",IF(W12<0,"beginnt vor Ende des Vortags; ",IF(W12<660,"Ruhezeit unter 11 Std. (§ 5); ","")))&IF(AND(ISNUMBER(I12),ROUND(N(I12)*1440,0)>ROUND(P12*1440,0)),"Fahrzeit über Arbeitszeit; ","")&IF(AND(OR(H12="Urlaub",H12="Krank",H12="Bezahlt frei"),ROUND(P12*1440,0)>0),"Abwesenheit und Arbeitszeit; ","")&IF(AND(H12<>"",H12<>"Unbezahlt",S12=0),"Abwesenheit an freiem Tag zählt nicht; ","")) | AA12: =IF(A12="",0,IF(OR(A12<=TODAY(),COUNTA(C12:J12)>0),1,0))
A13: =IF(MONTH(DATE(Jahr,3,9))=3,DATE(Jahr,3,9),"") | B13: =IF(A13="","",CHOOSE(WEEKDAY(A13,2),"Mo","Di","Mi","Do","Fr","Sa","So")) | K13: =IF(OR(A13="",P13+R13<=0),"",P13+R13) | L13: =IF(OR(A13="",S13=0),"",S13) | M13: =IF(OR(A13="",AND(P13+R13=0,S13=0)),"",IF(T13<0,"-","+")&TEXT(ABS(T13),"[h]:mm")) | N13: =IF(A13="","",IF(Q13<>"","Feiertag: "&Q13&IF(Z13<>"","; ",""),"")&IF(Z13<>"",LEFT(Z13,LEN(Z13)-2),"")) | P13: =IF(A13="",0,ROUND((IF(AND(ISNUMBER(C13),ISNUMBER(D13)),MOD(D13-C13,1),0)+IF(AND(ISNUMBER(E13),ISNUMBER(F13)),MOD(F13-E13,1),0)-IF(ISNUMBER(G13),G13,0)/1440)*1440,0)/1440) | Q13: =IF(A13="","",IFERROR(INDEX(FeiertagNamen,MATCH(A13,FeiertagDaten,0)),"")) | R13: =IF(OR(H13="Urlaub",H13="Krank",H13="Bezahlt frei"),S13,IF(H13="Halber Urlaubstag",ROUND(S13*720,0)/1440,0)) | S13: =IF(OR(A13="",Q13<>"",H13="Unbezahlt",AA13=0),0,ROUND(CHOOSE(WEEKDAY(A13,2),N(SollMo),N(SollDi),N(SollMi),N(SollDo),N(SollFr),N(SollSa),N(SollSo))*1440,0)/1440) | T13: =P13+R13-S13 | U13: =IF(OR(A13="",NOT(ISNUMBER(C13)),NOT(ISNUMBER(D13))),"",A13+IF(AND(ISNUMBER(E13),ISNUMBER(F13)),F13+IF(E13<C13,1,0)+IF(F13<E13,1,0),D13+IF(D13<C13,1,0))) | V13: =IF(OR(A13="",NOT(ISNUMBER(C13))),"",A13+C13) | W13: =IF(OR(V13="",X12=0),"",ROUND((V13-X12)*1440,0)) | X13: =MAX(X12,N(U13)) | Y13: =IF(ISNUMBER(G13),G13,0)+IF(AND(ISNUMBER(D13),ISNUMBER(E13)),MAX(0,ROUND((E13+IF(E13<C13,1,0)-D13-IF(D13<C13,1,0))*1440,0)),0) | Z13: =IF(A13="","",IF(OR(ISNUMBER(C13)<>ISNUMBER(D13),ISNUMBER(E13)<>ISNUMBER(F13)),"Beginn oder Ende fehlt; ","")&IF(P13<0,"Pause länger als Arbeitszeit; ","")&IF(AND(ROUND(P13*1440,0)>360,ROUND(P13*1440,0)<=540,Y13<30),"Pause unter 30 Min. (§ 4); ","")&IF(AND(ROUND(P13*1440,0)>540,Y13<45),"Pause unter 45 Min. (§ 4); ","")&IF(ROUND(P13*1440,0)>600,"über 10 Std. (§ 3); ","")&IF(W13="","",IF(W13<0,"beginnt vor Ende des Vortags; ",IF(W13<660,"Ruhezeit unter 11 Std. (§ 5); ","")))&IF(AND(ISNUMBER(I13),ROUND(N(I13)*1440,0)>ROUND(P13*1440,0)),"Fahrzeit über Arbeitszeit; ","")&IF(AND(OR(H13="Urlaub",H13="Krank",H13="Bezahlt frei"),ROUND(P13*1440,0)>0),"Abwesenheit und Arbeitszeit; ","")&IF(AND(H13<>"",H13<>"Unbezahlt",S13=0),"Abwesenheit an freiem Tag zählt nicht; ","")) | AA13: =IF(A13="",0,IF(OR(A13<=TODAY(),COUNTA(C13:J13)>0),1,0))
A14: =IF(MONTH(DATE(Jahr,3,10))=3,DATE(Jahr,3,10),"") | B14: =IF(A14="","",CHOOSE(WEEKDAY(A14,2),"Mo","Di","Mi","Do","Fr","Sa","So")) | K14: =IF(OR(A14="",P14+R14<=0),"",P14+R14) | L14: =IF(OR(A14="",S14=0),"",S14) | M14: =IF(OR(A14="",AND(P14+R14=0,S14=0)),"",IF(T14<0,"-","+")&TEXT(ABS(T14),"[h]:mm")) | N14: =IF(A14="","",IF(Q14<>"","Feiertag: "&Q14&IF(Z14<>"","; ",""),"")&IF(Z14<>"",LEFT(Z14,LEN(Z14)-2),"")) | P14: =IF(A14="",0,ROUND((IF(AND(ISNUMBER(C14),ISNUMBER(D14)),MOD(D14-C14,1),0)+IF(AND(ISNUMBER(E14),ISNUMBER(F14)),MOD(F14-E14,1),0)-IF(ISNUMBER(G14),G14,0)/1440)*1440,0)/1440) | Q14: =IF(A14="","",IFERROR(INDEX(FeiertagNamen,MATCH(A14,FeiertagDaten,0)),"")) | R14: =IF(OR(H14="Urlaub",H14="Krank",H14="Bezahlt frei"),S14,IF(H14="Halber Urlaubstag",ROUND(S14*720,0)/1440,0)) | S14: =IF(OR(A14="",Q14<>"",H14="Unbezahlt",AA14=0),0,ROUND(CHOOSE(WEEKDAY(A14,2),N(SollMo),N(SollDi),N(SollMi),N(SollDo),N(SollFr),N(SollSa),N(SollSo))*1440,0)/1440) | T14: =P14+R14-S14 | U14: =IF(OR(A14="",NOT(ISNUMBER(C14)),NOT(ISNUMBER(D14))),"",A14+IF(AND(ISNUMBER(E14),ISNUMBER(F14)),F14+IF(E14<C14,1,0)+IF(F14<E14,1,0),D14+IF(D14<C14,1,0))) | V14: =IF(OR(A14="",NOT(ISNUMBER(C14))),"",A14+C14) | W14: =IF(OR(V14="",X13=0),"",ROUND((V14-X13)*1440,0)) | X14: =MAX(X13,N(U14)) | Y14: =IF(ISNUMBER(G14),G14,0)+IF(AND(ISNUMBER(D14),ISNUMBER(E14)),MAX(0,ROUND((E14+IF(E14<C14,1,0)-D14-IF(D14<C14,1,0))*1440,0)),0) | Z14: =IF(A14="","",IF(OR(ISNUMBER(C14)<>ISNUMBER(D14),ISNUMBER(E14)<>ISNUMBER(F14)),"Beginn oder Ende fehlt; ","")&IF(P14<0,"Pause länger als Arbeitszeit; ","")&IF(AND(ROUND(P14*1440,0)>360,ROUND(P14*1440,0)<=540,Y14<30),"Pause unter 30 Min. (§ 4); ","")&IF(AND(ROUND(P14*1440,0)>540,Y14<45),"Pause unter 45 Min. (§ 4); ","")&IF(ROUND(P14*1440,0)>600,"über 10 Std. (§ 3); ","")&IF(W14="","",IF(W14<0,"beginnt vor Ende des Vortags; ",IF(W14<660,"Ruhezeit unter 11 Std. (§ 5); ","")))&IF(AND(ISNUMBER(I14),ROUND(N(I14)*1440,0)>ROUND(P14*1440,0)),"Fahrzeit über Arbeitszeit; ","")&IF(AND(OR(H14="Urlaub",H14="Krank",H14="Bezahlt frei"),ROUND(P14*1440,0)>0),"Abwesenheit und Arbeitszeit; ","")&IF(AND(H14<>"",H14<>"Unbezahlt",S14=0),"Abwesenheit an freiem Tag zählt nicht; ","")) | AA14: =IF(A14="",0,IF(OR(A14<=TODAY(),COUNTA(C14:J14)>0),1,0))
A15: =IF(MONTH(DATE(Jahr,3,11))=3,DATE(Jahr,3,11),"") | B15: =IF(A15="","",CHOOSE(WEEKDAY(A15,2),"Mo","Di","Mi","Do","Fr","Sa","So")) | K15: =IF(OR(A15="",P15+R15<=0),"",P15+R15) | L15: =IF(OR(A15="",S15=0),"",S15) | M15: =IF(OR(A15="",AND(P15+R15=0,S15=0)),"",IF(T15<0,"-","+")&TEXT(ABS(T15),"[h]:mm")) | N15: =IF(A15="","",IF(Q15<>"","Feiertag: "&Q15&IF(Z15<>"","; ",""),"")&IF(Z15<>"",LEFT(Z15,LEN(Z15)-2),"")) | P15: =IF(A15="",0,ROUND((IF(AND(ISNUMBER(C15),ISNUMBER(D15)),MOD(D15-C15,1),0)+IF(AND(ISNUMBER(E15),ISNUMBER(F15)),MOD(F15-E15,1),0)-IF(ISNUMBER(G15),G15,0)/1440)*1440,0)/1440) | Q15: =IF(A15="","",IFERROR(INDEX(FeiertagNamen,MATCH(A15,FeiertagDaten,0)),"")) | R15: =IF(OR(H15="Urlaub",H15="Krank",H15="Bezahlt frei"),S15,IF(H15="Halber Urlaubstag",ROUND(S15*720,0)/1440,0)) | S15: =IF(OR(A15="",Q15<>"",H15="Unbezahlt",AA15=0),0,ROUND(CHOOSE(WEEKDAY(A15,2),N(SollMo),N(SollDi),N(SollMi),N(SollDo),N(SollFr),N(SollSa),N(SollSo))*1440,0)/1440) | T15: =P15+R15-S15 | U15: =IF(OR(A15="",NOT(ISNUMBER(C15)),NOT(ISNUMBER(D15))),"",A15+IF(AND(ISNUMBER(E15),ISNUMBER(F15)),F15+IF(E15<C15,1,0)+IF(F15<E15,1,0),D15+IF(D15<C15,1,0))) | V15: =IF(OR(A15="",NOT(ISNUMBER(C15))),"",A15+C15) | W15: =IF(OR(V15="",X14=0),"",ROUND((V15-X14)*1440,0)) | X15: =MAX(X14,N(U15)) | Y15: =IF(ISNUMBER(G15),G15,0)+IF(AND(ISNUMBER(D15),ISNUMBER(E15)),MAX(0,ROUND((E15+IF(E15<C15,1,0)-D15-IF(D15<C15,1,0))*1440,0)),0) | Z15: =IF(A15="","",IF(OR(ISNUMBER(C15)<>ISNUMBER(D15),ISNUMBER(E15)<>ISNUMBER(F15)),"Beginn oder Ende fehlt; ","")&IF(P15<0,"Pause länger als Arbeitszeit; ","")&IF(AND(ROUND(P15*1440,0)>360,ROUND(P15*1440,0)<=540,Y15<30),"Pause unter 30 Min. (§ 4); ","")&IF(AND(ROUND(P15*1440,0)>540,Y15<45),"Pause unter 45 Min. (§ 4); ","")&IF(ROUND(P15*1440,0)>600,"über 10 Std. (§ 3); ","")&IF(W15="","",IF(W15<0,"beginnt vor Ende des Vortags; ",IF(W15<660,"Ruhezeit unter 11 Std. (§ 5); ","")))&IF(AND(ISNUMBER(I15),ROUND(N(I15)*1440,0)>ROUND(P15*1440,0)),"Fahrzeit über Arbeitszeit; ","")&IF(AND(OR(H15="Urlaub",H15="Krank",H15="Bezahlt frei"),ROUND(P15*1440,0)>0),"Abwesenheit und Arbeitszeit; ","")&IF(AND(H15<>"",H15<>"Unbezahlt",S15=0),"Abwesenheit an freiem Tag zählt nicht; ","")) | AA15: =IF(A15="",0,IF(OR(A15<=TODAY(),COUNTA(C15:J15)>0),1,0))
A16: =IF(MONTH(DATE(Jahr,3,12))=3,DATE(Jahr,3,12),"") | B16: =IF(A16="","",CHOOSE(WEEKDAY(A16,2),"Mo","Di","Mi","Do","Fr","Sa","So")) | K16: =IF(OR(A16="",P16+R16<=0),"",P16+R16) | L16: =IF(OR(A16="",S16=0),"",S16) | M16: =IF(OR(A16="",AND(P16+R16=0,S16=0)),"",IF(T16<0,"-","+")&TEXT(ABS(T16),"[h]:mm")) | N16: =IF(A16="","",IF(Q16<>"","Feiertag: "&Q16&IF(Z16<>"","; ",""),"")&IF(Z16<>"",LEFT(Z16,LEN(Z16)-2),"")) | P16: =IF(A16="",0,ROUND((IF(AND(ISNUMBER(C16),ISNUMBER(D16)),MOD(D16-C16,1),0)+IF(AND(ISNUMBER(E16),ISNUMBER(F16)),MOD(F16-E16,1),0)-IF(ISNUMBER(G16),G16,0)/1440)*1440,0)/1440) | Q16: =IF(A16="","",IFERROR(INDEX(FeiertagNamen,MATCH(A16,FeiertagDaten,0)),"")) | R16: =IF(OR(H16="Urlaub",H16="Krank",H16="Bezahlt frei"),S16,IF(H16="Halber Urlaubstag",ROUND(S16*720,0)/1440,0)) | S16: =IF(OR(A16="",Q16<>"",H16="Unbezahlt",AA16=0),0,ROUND(CHOOSE(WEEKDAY(A16,2),N(SollMo),N(SollDi),N(SollMi),N(SollDo),N(SollFr),N(SollSa),N(SollSo))*1440,0)/1440) | T16: =P16+R16-S16 | U16: =IF(OR(A16="",NOT(ISNUMBER(C16)),NOT(ISNUMBER(D16))),"",A16+IF(AND(ISNUMBER(E16),ISNUMBER(F16)),F16+IF(E16<C16,1,0)+IF(F16<E16,1,0),D16+IF(D16<C16,1,0))) | V16: =IF(OR(A16="",NOT(ISNUMBER(C16))),"",A16+C16) | W16: =IF(OR(V16="",X15=0),"",ROUND((V16-X15)*1440,0)) | X16: =MAX(X15,N(U16)) | Y16: =IF(ISNUMBER(G16),G16,0)+IF(AND(ISNUMBER(D16),ISNUMBER(E16)),MAX(0,ROUND((E16+IF(E16<C16,1,0)-D16-IF(D16<C16,1,0))*1440,0)),0) | Z16: =IF(A16="","",IF(OR(ISNUMBER(C16)<>ISNUMBER(D16),ISNUMBER(E16)<>ISNUMBER(F16)),"Beginn oder Ende fehlt; ","")&IF(P16<0,"Pause länger als Arbeitszeit; ","")&IF(AND(ROUND(P16*1440,0)>360,ROUND(P16*1440,0)<=540,Y16<30),"Pause unter 30 Min. (§ 4); ","")&IF(AND(ROUND(P16*1440,0)>540,Y16<45),"Pause unter 45 Min. (§ 4); ","")&IF(ROUND(P16*1440,0)>600,"über 10 Std. (§ 3); ","")&IF(W16="","",IF(W16<0,"beginnt vor Ende des Vortags; ",IF(W16<660,"Ruhezeit unter 11 Std. (§ 5); ","")))&IF(AND(ISNUMBER(I16),ROUND(N(I16)*1440,0)>ROUND(P16*1440,0)),"Fahrzeit über Arbeitszeit; ","")&IF(AND(OR(H16="Urlaub",H16="Krank",H16="Bezahlt frei"),ROUND(P16*1440,0)>0),"Abwesenheit und Arbeitszeit; ","")&IF(AND(H16<>"",H16<>"Unbezahlt",S16=0),"Abwesenheit an freiem Tag zählt nicht; ","")) | AA16: =IF(A16="",0,IF(OR(A16<=TODAY(),COUNTA(C16:J16)>0),1,0))
A17: =IF(MONTH(DATE(Jahr,3,13))=3,DATE(Jahr,3,13),"") | B17: =IF(A17="","",CHOOSE(WEEKDAY(A17,2),"Mo","Di","Mi","Do","Fr","Sa","So")) | K17: =IF(OR(A17="",P17+R17<=0),"",P17+R17) | L17: =IF(OR(A17="",S17=0),"",S17) | M17: =IF(OR(A17="",AND(P17+R17=0,S17=0)),"",IF(T17<0,"-","+")&TEXT(ABS(T17),"[h]:mm")) | N17: =IF(A17="","",IF(Q17<>"","Feiertag: "&Q17&IF(Z17<>"","; ",""),"")&IF(Z17<>"",LEFT(Z17,LEN(Z17)-2),"")) | P17: =IF(A17="",0,ROUND((IF(AND(ISNUMBER(C17),ISNUMBER(D17)),MOD(D17-C17,1),0)+IF(AND(ISNUMBER(E17),ISNUMBER(F17)),MOD(F17-E17,1),0)-IF(ISNUMBER(G17),G17,0)/1440)*1440,0)/1440) | Q17: =IF(A17="","",IFERROR(INDEX(FeiertagNamen,MATCH(A17,FeiertagDaten,0)),"")) | R17: =IF(OR(H17="Urlaub",H17="Krank",H17="Bezahlt frei"),S17,IF(H17="Halber Urlaubstag",ROUND(S17*720,0)/1440,0)) | S17: =IF(OR(A17="",Q17<>"",H17="Unbezahlt",AA17=0),0,ROUND(CHOOSE(WEEKDAY(A17,2),N(SollMo),N(SollDi),N(SollMi),N(SollDo),N(SollFr),N(SollSa),N(SollSo))*1440,0)/1440) | T17: =P17+R17-S17 | U17: =IF(OR(A17="",NOT(ISNUMBER(C17)),NOT(ISNUMBER(D17))),"",A17+IF(AND(ISNUMBER(E17),ISNUMBER(F17)),F17+IF(E17<C17,1,0)+IF(F17<E17,1,0),D17+IF(D17<C17,1,0))) | V17: =IF(OR(A17="",NOT(ISNUMBER(C17))),"",A17+C17) | W17: =IF(OR(V17="",X16=0),"",ROUND((V17-X16)*1440,0)) | X17: =MAX(X16,N(U17)) | Y17: =IF(ISNUMBER(G17),G17,0)+IF(AND(ISNUMBER(D17),ISNUMBER(E17)),MAX(0,ROUND((E17+IF(E17<C17,1,0)-D17-IF(D17<C17,1,0))*1440,0)),0) | Z17: =IF(A17="","",IF(OR(ISNUMBER(C17)<>ISNUMBER(D17),ISNUMBER(E17)<>ISNUMBER(F17)),"Beginn oder Ende fehlt; ","")&IF(P17<0,"Pause länger als Arbeitszeit; ","")&IF(AND(ROUND(P17*1440,0)>360,ROUND(P17*1440,0)<=540,Y17<30),"Pause unter 30 Min. (§ 4); ","")&IF(AND(ROUND(P17*1440,0)>540,Y17<45),"Pause unter 45 Min. (§ 4); ","")&IF(ROUND(P17*1440,0)>600,"über 10 Std. (§ 3); ","")&IF(W17="","",IF(W17<0,"beginnt vor Ende des Vortags; ",IF(W17<660,"Ruhezeit unter 11 Std. (§ 5); ","")))&IF(AND(ISNUMBER(I17),ROUND(N(I17)*1440,0)>ROUND(P17*1440,0)),"Fahrzeit über Arbeitszeit; ","")&IF(AND(OR(H17="Urlaub",H17="Krank",H17="Bezahlt frei"),ROUND(P17*1440,0)>0),"Abwesenheit und Arbeitszeit; ","")&IF(AND(H17<>"",H17<>"Unbezahlt",S17=0),"Abwesenheit an freiem Tag zählt nicht; ","")) | AA17: =IF(A17="",0,IF(OR(A17<=TODAY(),COUNTA(C17:J17)>0),1,0))
A18: =IF(MONTH(DATE(Jahr,3,14))=3,DATE(Jahr,3,14),"") | B18: =IF(A18="","",CHOOSE(WEEKDAY(A18,2),"Mo","Di","Mi","Do","Fr","Sa","So")) | K18: =IF(OR(A18="",P18+R18<=0),"",P18+R18) | L18: =IF(OR(A18="",S18=0),"",S18) | M18: =IF(OR(A18="",AND(P18+R18=0,S18=0)),"",IF(T18<0,"-","+")&TEXT(ABS(T18),"[h]:mm")) | N18: =IF(A18="","",IF(Q18<>"","Feiertag: "&Q18&IF(Z18<>"","; ",""),"")&IF(Z18<>"",LEFT(Z18,LEN(Z18)-2),"")) | P18: =IF(A18="",0,ROUND((IF(AND(ISNUMBER(C18),ISNUMBER(D18)),MOD(D18-C18,1),0)+IF(AND(ISNUMBER(E18),ISNUMBER(F18)),MOD(F18-E18,1),0)-IF(ISNUMBER(G18),G18,0)/1440)*1440,0)/1440) | Q18: =IF(A18="","",IFERROR(INDEX(FeiertagNamen,MATCH(A18,FeiertagDaten,0)),"")) | R18: =IF(OR(H18="Urlaub",H18="Krank",H18="Bezahlt frei"),S18,IF(H18="Halber Urlaubstag",ROUND(S18*720,0)/1440,0)) | S18: =IF(OR(A18="",Q18<>"",H18="Unbezahlt",AA18=0),0,ROUND(CHOOSE(WEEKDAY(A18,2),N(SollMo),N(SollDi),N(SollMi),N(SollDo),N(SollFr),N(SollSa),N(SollSo))*1440,0)/1440) | T18: =P18+R18-S18 | U18: =IF(OR(A18="",NOT(ISNUMBER(C18)),NOT(ISNUMBER(D18))),"",A18+IF(AND(ISNUMBER(E18),ISNUMBER(F18)),F18+IF(E18<C18,1,0)+IF(F18<E18,1,0),D18+IF(D18<C18,1,0))) | V18: =IF(OR(A18="",NOT(ISNUMBER(C18))),"",A18+C18) | W18: =IF(OR(V18="",X17=0),"",ROUND((V18-X17)*1440,0)) | X18: =MAX(X17,N(U18)) | Y18: =IF(ISNUMBER(G18),G18,0)+IF(AND(ISNUMBER(D18),ISNUMBER(E18)),MAX(0,ROUND((E18+IF(E18<C18,1,0)-D18-IF(D18<C18,1,0))*1440,0)),0) | Z18: =IF(A18="","",IF(OR(ISNUMBER(C18)<>ISNUMBER(D18),ISNUMBER(E18)<>ISNUMBER(F18)),"Beginn oder Ende fehlt; ","")&IF(P18<0,"Pause länger als Arbeitszeit; ","")&IF(AND(ROUND(P18*1440,0)>360,ROUND(P18*1440,0)<=540,Y18<30),"Pause unter 30 Min. (§ 4); ","")&IF(AND(ROUND(P18*1440,0)>540,Y18<45),"Pause unter 45 Min. (§ 4); ","")&IF(ROUND(P18*1440,0)>600,"über 10 Std. (§ 3); ","")&IF(W18="","",IF(W18<0,"beginnt vor Ende des Vortags; ",IF(W18<660,"Ruhezeit unter 11 Std. (§ 5); ","")))&IF(AND(ISNUMBER(I18),ROUND(N(I18)*1440,0)>ROUND(P18*1440,0)),"Fahrzeit über Arbeitszeit; ","")&IF(AND(OR(H18="Urlaub",H18="Krank",H18="Bezahlt frei"),ROUND(P18*1440,0)>0),"Abwesenheit und Arbeitszeit; ","")&IF(AND(H18<>"",H18<>"Unbezahlt",S18=0),"Abwesenheit an freiem Tag zählt nicht; ","")) | AA18: =IF(A18="",0,IF(OR(A18<=TODAY(),COUNTA(C18:J18)>0),1,0))
A19: =IF(MONTH(DATE(Jahr,3,15))=3,DATE(Jahr,3,15),"") | B19: =IF(A19="","",CHOOSE(WEEKDAY(A19,2),"Mo","Di","Mi","Do","Fr","Sa","So")) | K19: =IF(OR(A19="",P19+R19<=0),"",P19+R19) | L19: =IF(OR(A19="",S19=0),"",S19) | M19: =IF(OR(A19="",AND(P19+R19=0,S19=0)),"",IF(T19<0,"-","+")&TEXT(ABS(T19),"[h]:mm")) | N19: =IF(A19="","",IF(Q19<>"","Feiertag: "&Q19&IF(Z19<>"","; ",""),"")&IF(Z19<>"",LEFT(Z19,LEN(Z19)-2),"")) | P19: =IF(A19="",0,ROUND((IF(AND(ISNUMBER(C19),ISNUMBER(D19)),MOD(D19-C19,1),0)+IF(AND(ISNUMBER(E19),ISNUMBER(F19)),MOD(F19-E19,1),0)-IF(ISNUMBER(G19),G19,0)/1440)*1440,0)/1440) | Q19: =IF(A19="","",IFERROR(INDEX(FeiertagNamen,MATCH(A19,FeiertagDaten,0)),"")) | R19: =IF(OR(H19="Urlaub",H19="Krank",H19="Bezahlt frei"),S19,IF(H19="Halber Urlaubstag",ROUND(S19*720,0)/1440,0)) | S19: =IF(OR(A19="",Q19<>"",H19="Unbezahlt",AA19=0),0,ROUND(CHOOSE(WEEKDAY(A19,2),N(SollMo),N(SollDi),N(SollMi),N(SollDo),N(SollFr),N(SollSa),N(SollSo))*1440,0)/1440) | T19: =P19+R19-S19 | U19: =IF(OR(A19="",NOT(ISNUMBER(C19)),NOT(ISNUMBER(D19))),"",A19+IF(AND(ISNUMBER(E19),ISNUMBER(F19)),F19+IF(E19<C19,1,0)+IF(F19<E19,1,0),D19+IF(D19<C19,1,0))) | V19: =IF(OR(A19="",NOT(ISNUMBER(C19))),"",A19+C19) | W19: =IF(OR(V19="",X18=0),"",ROUND((V19-X18)*1440,0)) | X19: =MAX(X18,N(U19)) | Y19: =IF(ISNUMBER(G19),G19,0)+IF(AND(ISNUMBER(D19),ISNUMBER(E19)),MAX(0,ROUND((E19+IF(E19<C19,1,0)-D19-IF(D19<C19,1,0))*1440,0)),0) | Z19: =IF(A19="","",IF(OR(ISNUMBER(C19)<>ISNUMBER(D19),ISNUMBER(E19)<>ISNUMBER(F19)),"Beginn oder Ende fehlt; ","")&IF(P19<0,"Pause länger als Arbeitszeit; ","")&IF(AND(ROUND(P19*1440,0)>360,ROUND(P19*1440,0)<=540,Y19<30),"Pause unter 30 Min. (§ 4); ","")&IF(AND(ROUND(P19*1440,0)>540,Y19<45),"Pause unter 45 Min. (§ 4); ","")&IF(ROUND(P19*1440,0)>600,"über 10 Std. (§ 3); ","")&IF(W19="","",IF(W19<0,"beginnt vor Ende des Vortags; ",IF(W19<660,"Ruhezeit unter 11 Std. (§ 5); ","")))&IF(AND(ISNUMBER(I19),ROUND(N(I19)*1440,0)>ROUND(P19*1440,0)),"Fahrzeit über Arbeitszeit; ","")&IF(AND(OR(H19="Urlaub",H19="Krank",H19="Bezahlt frei"),ROUND(P19*1440,0)>0),"Abwesenheit und Arbeitszeit; ","")&IF(AND(H19<>"",H19<>"Unbezahlt",S19=0),"Abwesenheit an freiem Tag zählt nicht; ","")) | AA19: =IF(A19="",0,IF(OR(A19<=TODAY(),COUNTA(C19:J19)>0),1,0))
A20: =IF(MONTH(DATE(Jahr,3,16))=3,DATE(Jahr,3,16),"") | B20: =IF(A20="","",CHOOSE(WEEKDAY(A20,2),"Mo","Di","Mi","Do","Fr","Sa","So")) | K20: =IF(OR(A20="",P20+R20<=0),"",P20+R20) | L20: =IF(OR(A20="",S20=0),"",S20) | M20: =IF(OR(A20="",AND(P20+R20=0,S20=0)),"",IF(T20<0,"-","+")&TEXT(ABS(T20),"[h]:mm")) | N20: =IF(A20="","",IF(Q20<>"","Feiertag: "&Q20&IF(Z20<>"","; ",""),"")&IF(Z20<>"",LEFT(Z20,LEN(Z20)-2),"")) | P20: =IF(A20="",0,ROUND((IF(AND(ISNUMBER(C20),ISNUMBER(D20)),MOD(D20-C20,1),0)+IF(AND(ISNUMBER(E20),ISNUMBER(F20)),MOD(F20-E20,1),0)-IF(ISNUMBER(G20),G20,0)/1440)*1440,0)/1440) | Q20: =IF(A20="","",IFERROR(INDEX(FeiertagNamen,MATCH(A20,FeiertagDaten,0)),"")) | R20: =IF(OR(H20="Urlaub",H20="Krank",H20="Bezahlt frei"),S20,IF(H20="Halber Urlaubstag",ROUND(S20*720,0)/1440,0)) | S20: =IF(OR(A20="",Q20<>"",H20="Unbezahlt",AA20=0),0,ROUND(CHOOSE(WEEKDAY(A20,2),N(SollMo),N(SollDi),N(SollMi),N(SollDo),N(SollFr),N(SollSa),N(SollSo))*1440,0)/1440) | T20: =P20+R20-S20 | U20: =IF(OR(A20="",NOT(ISNUMBER(C20)),NOT(ISNUMBER(D20))),"",A20+IF(AND(ISNUMBER(E20),ISNUMBER(F20)),F20+IF(E20<C20,1,0)+IF(F20<E20,1,0),D20+IF(D20<C20,1,0))) | V20: =IF(OR(A20="",NOT(ISNUMBER(C20))),"",A20+C20) | W20: =IF(OR(V20="",X19=0),"",ROUND((V20-X19)*1440,0)) | X20: =MAX(X19,N(U20)) | Y20: =IF(ISNUMBER(G20),G20,0)+IF(AND(ISNUMBER(D20),ISNUMBER(E20)),MAX(0,ROUND((E20+IF(E20<C20,1,0)-D20-IF(D20<C20,1,0))*1440,0)),0) | Z20: =IF(A20="","",IF(OR(ISNUMBER(C20)<>ISNUMBER(D20),ISNUMBER(E20)<>ISNUMBER(F20)),"Beginn oder Ende fehlt; ","")&IF(P20<0,"Pause länger als Arbeitszeit; ","")&IF(AND(ROUND(P20*1440,0)>360,ROUND(P20*1440,0)<=540,Y20<30),"Pause unter 30 Min. (§ 4); ","")&IF(AND(ROUND(P20*1440,0)>540,Y20<45),"Pause unter 45 Min. (§ 4); ","")&IF(ROUND(P20*1440,0)>600,"über 10 Std. (§ 3); ","")&IF(W20="","",IF(W20<0,"beginnt vor Ende des Vortags; ",IF(W20<660,"Ruhezeit unter 11 Std. (§ 5); ","")))&IF(AND(ISNUMBER(I20),ROUND(N(I20)*1440,0)>ROUND(P20*1440,0)),"Fahrzeit über Arbeitszeit; ","")&IF(AND(OR(H20="Urlaub",H20="Krank",H20="Bezahlt frei"),ROUND(P20*1440,0)>0),"Abwesenheit und Arbeitszeit; ","")&IF(AND(H20<>"",H20<>"Unbezahlt",S20=0),"Abwesenheit an freiem Tag zählt nicht; ","")) | AA20: =IF(A20="",0,IF(OR(A20<=TODAY(),COUNTA(C20:J20)>0),1,0))
A21: =IF(MONTH(DATE(Jahr,3,17))=3,DATE(Jahr,3,17),"") | B21: =IF(A21="","",CHOOSE(WEEKDAY(A21,2),"Mo","Di","Mi","Do","Fr","Sa","So")) | K21: =IF(OR(A21="",P21+R21<=0),"",P21+R21) | L21: =IF(OR(A21="",S21=0),"",S21) | M21: =IF(OR(A21="",AND(P21+R21=0,S21=0)),"",IF(T21<0,"-","+")&TEXT(ABS(T21),"[h]:mm")) | N21: =IF(A21="","",IF(Q21<>"","Feiertag: "&Q21&IF(Z21<>"","; ",""),"")&IF(Z21<>"",LEFT(Z21,LEN(Z21)-2),"")) | P21: =IF(A21="",0,ROUND((IF(AND(ISNUMBER(C21),ISNUMBER(D21)),MOD(D21-C21,1),0)+IF(AND(ISNUMBER(E21),ISNUMBER(F21)),MOD(F21-E21,1),0)-IF(ISNUMBER(G21),G21,0)/1440)*1440,0)/1440) | Q21: =IF(A21="","",IFERROR(INDEX(FeiertagNamen,MATCH(A21,FeiertagDaten,0)),"")) | R21: =IF(OR(H21="Urlaub",H21="Krank",H21="Bezahlt frei"),S21,IF(H21="Halber Urlaubstag",ROUND(S21*720,0)/1440,0)) | S21: =IF(OR(A21="",Q21<>"",H21="Unbezahlt",AA21=0),0,ROUND(CHOOSE(WEEKDAY(A21,2),N(SollMo),N(SollDi),N(SollMi),N(SollDo),N(SollFr),N(SollSa),N(SollSo))*1440,0)/1440) | T21: =P21+R21-S21 | U21: =IF(OR(A21="",NOT(ISNUMBER(C21)),NOT(ISNUMBER(D21))),"",A21+IF(AND(ISNUMBER(E21),ISNUMBER(F21)),F21+IF(E21<C21,1,0)+IF(F21<E21,1,0),D21+IF(D21<C21,1,0))) | V21: =IF(OR(A21="",NOT(ISNUMBER(C21))),"",A21+C21) | W21: =IF(OR(V21="",X20=0),"",ROUND((V21-X20)*1440,0)) | X21: =MAX(X20,N(U21)) | Y21: =IF(ISNUMBER(G21),G21,0)+IF(AND(ISNUMBER(D21),ISNUMBER(E21)),MAX(0,ROUND((E21+IF(E21<C21,1,0)-D21-IF(D21<C21,1,0))*1440,0)),0) | Z21: =IF(A21="","",IF(OR(ISNUMBER(C21)<>ISNUMBER(D21),ISNUMBER(E21)<>ISNUMBER(F21)),"Beginn oder Ende fehlt; ","")&IF(P21<0,"Pause länger als Arbeitszeit; ","")&IF(AND(ROUND(P21*1440,0)>360,ROUND(P21*1440,0)<=540,Y21<30),"Pause unter 30 Min. (§ 4); ","")&IF(AND(ROUND(P21*1440,0)>540,Y21<45),"Pause unter 45 Min. (§ 4); ","")&IF(ROUND(P21*1440,0)>600,"über 10 Std. (§ 3); ","")&IF(W21="","",IF(W21<0,"beginnt vor Ende des Vortags; ",IF(W21<660,"Ruhezeit unter 11 Std. (§ 5); ","")))&IF(AND(ISNUMBER(I21),ROUND(N(I21)*1440,0)>ROUND(P21*1440,0)),"Fahrzeit über Arbeitszeit; ","")&IF(AND(OR(H21="Urlaub",H21="Krank",H21="Bezahlt frei"),ROUND(P21*1440,0)>0),"Abwesenheit und Arbeitszeit; ","")&IF(AND(H21<>"",H21<>"Unbezahlt",S21=0),"Abwesenheit an freiem Tag zählt nicht; ","")) | AA21: =IF(A21="",0,IF(OR(A21<=TODAY(),COUNTA(C21:J21)>0),1,0))
A22: =IF(MONTH(DATE(Jahr,3,18))=3,DATE(Jahr,3,18),"") | B22: =IF(A22="","",CHOOSE(WEEKDAY(A22,2),"Mo","Di","Mi","Do","Fr","Sa","So")) | K22: =IF(OR(A22="",P22+R22<=0),"",P22+R22) | L22: =IF(OR(A22="",S22=0),"",S22) | M22: =IF(OR(A22="",AND(P22+R22=0,S22=0)),"",IF(T22<0,"-","+")&TEXT(ABS(T22),"[h]:mm")) | N22: =IF(A22="","",IF(Q22<>"","Feiertag: "&Q22&IF(Z22<>"","; ",""),"")&IF(Z22<>"",LEFT(Z22,LEN(Z22)-2),"")) | P22: =IF(A22="",0,ROUND((IF(AND(ISNUMBER(C22),ISNUMBER(D22)),MOD(D22-C22,1),0)+IF(AND(ISNUMBER(E22),ISNUMBER(F22)),MOD(F22-E22,1),0)-IF(ISNUMBER(G22),G22,0)/1440)*1440,0)/1440) | Q22: =IF(A22="","",IFERROR(INDEX(FeiertagNamen,MATCH(A22,FeiertagDaten,0)),"")) | R22: =IF(OR(H22="Urlaub",H22="Krank",H22="Bezahlt frei"),S22,IF(H22="Halber Urlaubstag",ROUND(S22*720,0)/1440,0)) | S22: =IF(OR(A22="",Q22<>"",H22="Unbezahlt",AA22=0),0,ROUND(CHOOSE(WEEKDAY(A22,2),N(SollMo),N(SollDi),N(SollMi),N(SollDo),N(SollFr),N(SollSa),N(SollSo))*1440,0)/1440) | T22: =P22+R22-S22 | U22: =IF(OR(A22="",NOT(ISNUMBER(C22)),NOT(ISNUMBER(D22))),"",A22+IF(AND(ISNUMBER(E22),ISNUMBER(F22)),F22+IF(E22<C22,1,0)+IF(F22<E22,1,0),D22+IF(D22<C22,1,0))) | V22: =IF(OR(A22="",NOT(ISNUMBER(C22))),"",A22+C22) | W22: =IF(OR(V22="",X21=0),"",ROUND((V22-X21)*1440,0)) | X22: =MAX(X21,N(U22)) | Y22: =IF(ISNUMBER(G22),G22,0)+IF(AND(ISNUMBER(D22),ISNUMBER(E22)),MAX(0,ROUND((E22+IF(E22<C22,1,0)-D22-IF(D22<C22,1,0))*1440,0)),0) | Z22: =IF(A22="","",IF(OR(ISNUMBER(C22)<>ISNUMBER(D22),ISNUMBER(E22)<>ISNUMBER(F22)),"Beginn oder Ende fehlt; ","")&IF(P22<0,"Pause länger als Arbeitszeit; ","")&IF(AND(ROUND(P22*1440,0)>360,ROUND(P22*1440,0)<=540,Y22<30),"Pause unter 30 Min. (§ 4); ","")&IF(AND(ROUND(P22*1440,0)>540,Y22<45),"Pause unter 45 Min. (§ 4); ","")&IF(ROUND(P22*1440,0)>600,"über 10 Std. (§ 3); ","")&IF(W22="","",IF(W22<0,"beginnt vor Ende des Vortags; ",IF(W22<660,"Ruhezeit unter 11 Std. (§ 5); ","")))&IF(AND(ISNUMBER(I22),ROUND(N(I22)*1440,0)>ROUND(P22*1440,0)),"Fahrzeit über Arbeitszeit; ","")&IF(AND(OR(H22="Urlaub",H22="Krank",H22="Bezahlt frei"),ROUND(P22*1440,0)>0),"Abwesenheit und Arbeitszeit; ","")&IF(AND(H22<>"",H22<>"Unbezahlt",S22=0),"Abwesenheit an freiem Tag zählt nicht; ","")) | AA22: =IF(A22="",0,IF(OR(A22<=TODAY(),COUNTA(C22:J22)>0),1,0))
A23: =IF(MONTH(DATE(Jahr,3,19))=3,DATE(Jahr,3,19),"") | B23: =IF(A23="","",CHOOSE(WEEKDAY(A23,2),"Mo","Di","Mi","Do","Fr","Sa","So")) | K23: =IF(OR(A23="",P23+R23<=0),"",P23+R23) | L23: =IF(OR(A23="",S23=0),"",S23) | M23: =IF(OR(A23="",AND(P23+R23=0,S23=0)),"",IF(T23<0,"-","+")&TEXT(ABS(T23),"[h]:mm")) | N23: =IF(A23="","",IF(Q23<>"","Feiertag: "&Q23&IF(Z23<>"","; ",""),"")&IF(Z23<>"",LEFT(Z23,LEN(Z23)-2),"")) | P23: =IF(A23="",0,ROUND((IF(AND(ISNUMBER(C23),ISNUMBER(D23)),MOD(D23-C23,1),0)+IF(AND(ISNUMBER(E23),ISNUMBER(F23)),MOD(F23-E23,1),0)-IF(ISNUMBER(G23),G23,0)/1440)*1440,0)/1440) | Q23: =IF(A23="","",IFERROR(INDEX(FeiertagNamen,MATCH(A23,FeiertagDaten,0)),"")) | R23: =IF(OR(H23="Urlaub",H23="Krank",H23="Bezahlt frei"),S23,IF(H23="Halber Urlaubstag",ROUND(S23*720,0)/1440,0)) | S23: =IF(OR(A23="",Q23<>"",H23="Unbezahlt",AA23=0),0,ROUND(CHOOSE(WEEKDAY(A23,2),N(SollMo),N(SollDi),N(SollMi),N(SollDo),N(SollFr),N(SollSa),N(SollSo))*1440,0)/1440) | T23: =P23+R23-S23 | U23: =IF(OR(A23="",NOT(ISNUMBER(C23)),NOT(ISNUMBER(D23))),"",A23+IF(AND(ISNUMBER(E23),ISNUMBER(F23)),F23+IF(E23<C23,1,0)+IF(F23<E23,1,0),D23+IF(D23<C23,1,0))) | V23: =IF(OR(A23="",NOT(ISNUMBER(C23))),"",A23+C23) | W23: =IF(OR(V23="",X22=0),"",ROUND((V23-X22)*1440,0)) | X23: =MAX(X22,N(U23)) | Y23: =IF(ISNUMBER(G23),G23,0)+IF(AND(ISNUMBER(D23),ISNUMBER(E23)),MAX(0,ROUND((E23+IF(E23<C23,1,0)-D23-IF(D23<C23,1,0))*1440,0)),0) | Z23: =IF(A23="","",IF(OR(ISNUMBER(C23)<>ISNUMBER(D23),ISNUMBER(E23)<>ISNUMBER(F23)),"Beginn oder Ende fehlt; ","")&IF(P23<0,"Pause länger als Arbeitszeit; ","")&IF(AND(ROUND(P23*1440,0)>360,ROUND(P23*1440,0)<=540,Y23<30),"Pause unter 30 Min. (§ 4); ","")&IF(AND(ROUND(P23*1440,0)>540,Y23<45),"Pause unter 45 Min. (§ 4); ","")&IF(ROUND(P23*1440,0)>600,"über 10 Std. (§ 3); ","")&IF(W23="","",IF(W23<0,"beginnt vor Ende des Vortags; ",IF(W23<660,"Ruhezeit unter 11 Std. (§ 5); ","")))&IF(AND(ISNUMBER(I23),ROUND(N(I23)*1440,0)>ROUND(P23*1440,0)),"Fahrzeit über Arbeitszeit; ","")&IF(AND(OR(H23="Urlaub",H23="Krank",H23="Bezahlt frei"),ROUND(P23*1440,0)>0),"Abwesenheit und Arbeitszeit; ","")&IF(AND(H23<>"",H23<>"Unbezahlt",S23=0),"Abwesenheit an freiem Tag zählt nicht; ","")) | AA23: =IF(A23="",0,IF(OR(A23<=TODAY(),COUNTA(C23:J23)>0),1,0))
A24: =IF(MONTH(DATE(Jahr,3,20))=3,DATE(Jahr,3,20),"") | B24: =IF(A24="","",CHOOSE(WEEKDAY(A24,2),"Mo","Di","Mi","Do","Fr","Sa","So")) | K24: =IF(OR(A24="",P24+R24<=0),"",P24+R24) | L24: =IF(OR(A24="",S24=0),"",S24) | M24: =IF(OR(A24="",AND(P24+R24=0,S24=0)),"",IF(T24<0,"-","+")&TEXT(ABS(T24),"[h]:mm")) | N24: =IF(A24="","",IF(Q24<>"","Feiertag: "&Q24&IF(Z24<>"","; ",""),"")&IF(Z24<>"",LEFT(Z24,LEN(Z24)-2),"")) | P24: =IF(A24="",0,ROUND((IF(AND(ISNUMBER(C24),ISNUMBER(D24)),MOD(D24-C24,1),0)+IF(AND(ISNUMBER(E24),ISNUMBER(F24)),MOD(F24-E24,1),0)-IF(ISNUMBER(G24),G24,0)/1440)*1440,0)/1440) | Q24: =IF(A24="","",IFERROR(INDEX(FeiertagNamen,MATCH(A24,FeiertagDaten,0)),"")) | R24: =IF(OR(H24="Urlaub",H24="Krank",H24="Bezahlt frei"),S24,IF(H24="Halber Urlaubstag",ROUND(S24*720,0)/1440,0)) | S24: =IF(OR(A24="",Q24<>"",H24="Unbezahlt",AA24=0),0,ROUND(CHOOSE(WEEKDAY(A24,2),N(SollMo),N(SollDi),N(SollMi),N(SollDo),N(SollFr),N(SollSa),N(SollSo))*1440,0)/1440) | T24: =P24+R24-S24 | U24: =IF(OR(A24="",NOT(ISNUMBER(C24)),NOT(ISNUMBER(D24))),"",A24+IF(AND(ISNUMBER(E24),ISNUMBER(F24)),F24+IF(E24<C24,1,0)+IF(F24<E24,1,0),D24+IF(D24<C24,1,0))) | V24: =IF(OR(A24="",NOT(ISNUMBER(C24))),"",A24+C24) | W24: =IF(OR(V24="",X23=0),"",ROUND((V24-X23)*1440,0)) | X24: =MAX(X23,N(U24)) | Y24: =IF(ISNUMBER(G24),G24,0)+IF(AND(ISNUMBER(D24),ISNUMBER(E24)),MAX(0,ROUND((E24+IF(E24<C24,1,0)-D24-IF(D24<C24,1,0))*1440,0)),0) | Z24: =IF(A24="","",IF(OR(ISNUMBER(C24)<>ISNUMBER(D24),ISNUMBER(E24)<>ISNUMBER(F24)),"Beginn oder Ende fehlt; ","")&IF(P24<0,"Pause länger als Arbeitszeit; ","")&IF(AND(ROUND(P24*1440,0)>360,ROUND(P24*1440,0)<=540,Y24<30),"Pause unter 30 Min. (§ 4); ","")&IF(AND(ROUND(P24*1440,0)>540,Y24<45),"Pause unter 45 Min. (§ 4); ","")&IF(ROUND(P24*1440,0)>600,"über 10 Std. (§ 3); ","")&IF(W24="","",IF(W24<0,"beginnt vor Ende des Vortags; ",IF(W24<660,"Ruhezeit unter 11 Std. (§ 5); ","")))&IF(AND(ISNUMBER(I24),ROUND(N(I24)*1440,0)>ROUND(P24*1440,0)),"Fahrzeit über Arbeitszeit; ","")&IF(AND(OR(H24="Urlaub",H24="Krank",H24="Bezahlt frei"),ROUND(P24*1440,0)>0),"Abwesenheit und Arbeitszeit; ","")&IF(AND(H24<>"",H24<>"Unbezahlt",S24=0),"Abwesenheit an freiem Tag zählt nicht; ","")) | AA24: =IF(A24="",0,IF(OR(A24<=TODAY(),COUNTA(C24:J24)>0),1,0))
A25: =IF(MONTH(DATE(Jahr,3,21))=3,DATE(Jahr,3,21),"") | B25: =IF(A25="","",CHOOSE(WEEKDAY(A25,2),"Mo","Di","Mi","Do","Fr","Sa","So")) | K25: =IF(OR(A25="",P25+R25<=0),"",P25+R25) | L25: =IF(OR(A25="",S25=0),"",S25) | M25: =IF(OR(A25="",AND(P25+R25=0,S25=0)),"",IF(T25<0,"-","+")&TEXT(ABS(T25),"[h]:mm")) | N25: =IF(A25="","",IF(Q25<>"","Feiertag: "&Q25&IF(Z25<>"","; ",""),"")&IF(Z25<>"",LEFT(Z25,LEN(Z25)-2),"")) | P25: =IF(A25="",0,ROUND((IF(AND(ISNUMBER(C25),ISNUMBER(D25)),MOD(D25-C25,1),0)+IF(AND(ISNUMBER(E25),ISNUMBER(F25)),MOD(F25-E25,1),0)-IF(ISNUMBER(G25),G25,0)/1440)*1440,0)/1440) | Q25: =IF(A25="","",IFERROR(INDEX(FeiertagNamen,MATCH(A25,FeiertagDaten,0)),"")) | R25: =IF(OR(H25="Urlaub",H25="Krank",H25="Bezahlt frei"),S25,IF(H25="Halber Urlaubstag",ROUND(S25*720,0)/1440,0)) | S25: =IF(OR(A25="",Q25<>"",H25="Unbezahlt",AA25=0),0,ROUND(CHOOSE(WEEKDAY(A25,2),N(SollMo),N(SollDi),N(SollMi),N(SollDo),N(SollFr),N(SollSa),N(SollSo))*1440,0)/1440) | T25: =P25+R25-S25 | U25: =IF(OR(A25="",NOT(ISNUMBER(C25)),NOT(ISNUMBER(D25))),"",A25+IF(AND(ISNUMBER(E25),ISNUMBER(F25)),F25+IF(E25<C25,1,0)+IF(F25<E25,1,0),D25+IF(D25<C25,1,0))) | V25: =IF(OR(A25="",NOT(ISNUMBER(C25))),"",A25+C25) | W25: =IF(OR(V25="",X24=0),"",ROUND((V25-X24)*1440,0)) | X25: =MAX(X24,N(U25)) | Y25: =IF(ISNUMBER(G25),G25,0)+IF(AND(ISNUMBER(D25),ISNUMBER(E25)),MAX(0,ROUND((E25+IF(E25<C25,1,0)-D25-IF(D25<C25,1,0))*1440,0)),0) | Z25: =IF(A25="","",IF(OR(ISNUMBER(C25)<>ISNUMBER(D25),ISNUMBER(E25)<>ISNUMBER(F25)),"Beginn oder Ende fehlt; ","")&IF(P25<0,"Pause länger als Arbeitszeit; ","")&IF(AND(ROUND(P25*1440,0)>360,ROUND(P25*1440,0)<=540,Y25<30),"Pause unter 30 Min. (§ 4); ","")&IF(AND(ROUND(P25*1440,0)>540,Y25<45),"Pause unter 45 Min. (§ 4); ","")&IF(ROUND(P25*1440,0)>600,"über 10 Std. (§ 3); ","")&IF(W25="","",IF(W25<0,"beginnt vor Ende des Vortags; ",IF(W25<660,"Ruhezeit unter 11 Std. (§ 5); ","")))&IF(AND(ISNUMBER(I25),ROUND(N(I25)*1440,0)>ROUND(P25*1440,0)),"Fahrzeit über Arbeitszeit; ","")&IF(AND(OR(H25="Urlaub",H25="Krank",H25="Bezahlt frei"),ROUND(P25*1440,0)>0),"Abwesenheit und Arbeitszeit; ","")&IF(AND(H25<>"",H25<>"Unbezahlt",S25=0),"Abwesenheit an freiem Tag zählt nicht; ","")) | AA25: =IF(A25="",0,IF(OR(A25<=TODAY(),COUNTA(C25:J25)>0),1,0))
A26: =IF(MONTH(DATE(Jahr,3,22))=3,DATE(Jahr,3,22),"") | B26: =IF(A26="","",CHOOSE(WEEKDAY(A26,2),"Mo","Di","Mi","Do","Fr","Sa","So")) | K26: =IF(OR(A26="",P26+R26<=0),"",P26+R26) | L26: =IF(OR(A26="",S26=0),"",S26) | M26: =IF(OR(A26="",AND(P26+R26=0,S26=0)),"",IF(T26<0,"-","+")&TEXT(ABS(T26),"[h]:mm")) | N26: =IF(A26="","",IF(Q26<>"","Feiertag: "&Q26&IF(Z26<>"","; ",""),"")&IF(Z26<>"",LEFT(Z26,LEN(Z26)-2),"")) | P26: =IF(A26="",0,ROUND((IF(AND(ISNUMBER(C26),ISNUMBER(D26)),MOD(D26-C26,1),0)+IF(AND(ISNUMBER(E26),ISNUMBER(F26)),MOD(F26-E26,1),0)-IF(ISNUMBER(G26),G26,0)/1440)*1440,0)/1440) | Q26: =IF(A26="","",IFERROR(INDEX(FeiertagNamen,MATCH(A26,FeiertagDaten,0)),"")) | R26: =IF(OR(H26="Urlaub",H26="Krank",H26="Bezahlt frei"),S26,IF(H26="Halber Urlaubstag",ROUND(S26*720,0)/1440,0)) | S26: =IF(OR(A26="",Q26<>"",H26="Unbezahlt",AA26=0),0,ROUND(CHOOSE(WEEKDAY(A26,2),N(SollMo),N(SollDi),N(SollMi),N(SollDo),N(SollFr),N(SollSa),N(SollSo))*1440,0)/1440) | T26: =P26+R26-S26 | U26: =IF(OR(A26="",NOT(ISNUMBER(C26)),NOT(ISNUMBER(D26))),"",A26+IF(AND(ISNUMBER(E26),ISNUMBER(F26)),F26+IF(E26<C26,1,0)+IF(F26<E26,1,0),D26+IF(D26<C26,1,0))) | V26: =IF(OR(A26="",NOT(ISNUMBER(C26))),"",A26+C26) | W26: =IF(OR(V26="",X25=0),"",ROUND((V26-X25)*1440,0)) | X26: =MAX(X25,N(U26)) | Y26: =IF(ISNUMBER(G26),G26,0)+IF(AND(ISNUMBER(D26),ISNUMBER(E26)),MAX(0,ROUND((E26+IF(E26<C26,1,0)-D26-IF(D26<C26,1,0))*1440,0)),0) | Z26: =IF(A26="","",IF(OR(ISNUMBER(C26)<>ISNUMBER(D26),ISNUMBER(E26)<>ISNUMBER(F26)),"Beginn oder Ende fehlt; ","")&IF(P26<0,"Pause länger als Arbeitszeit; ","")&IF(AND(ROUND(P26*1440,0)>360,ROUND(P26*1440,0)<=540,Y26<30),"Pause unter 30 Min. (§ 4); ","")&IF(AND(ROUND(P26*1440,0)>540,Y26<45),"Pause unter 45 Min. (§ 4); ","")&IF(ROUND(P26*1440,0)>600,"über 10 Std. (§ 3); ","")&IF(W26="","",IF(W26<0,"beginnt vor Ende des Vortags; ",IF(W26<660,"Ruhezeit unter 11 Std. (§ 5); ","")))&IF(AND(ISNUMBER(I26),ROUND(N(I26)*1440,0)>ROUND(P26*1440,0)),"Fahrzeit über Arbeitszeit; ","")&IF(AND(OR(H26="Urlaub",H26="Krank",H26="Bezahlt frei"),ROUND(P26*1440,0)>0),"Abwesenheit und Arbeitszeit; ","")&IF(AND(H26<>"",H26<>"Unbezahlt",S26=0),"Abwesenheit an freiem Tag zählt nicht; ","")) | AA26: =IF(A26="",0,IF(OR(A26<=TODAY(),COUNTA(C26:J26)>0),1,0))
A27: =IF(MONTH(DATE(Jahr,3,23))=3,DATE(Jahr,3,23),"") | B27: =IF(A27="","",CHOOSE(WEEKDAY(A27,2),"Mo","Di","Mi","Do","Fr","Sa","So")) | K27: =IF(OR(A27="",P27+R27<=0),"",P27+R27) | L27: =IF(OR(A27="",S27=0),"",S27) | M27: =IF(OR(A27="",AND(P27+R27=0,S27=0)),"",IF(T27<0,"-","+")&TEXT(ABS(T27),"[h]:mm")) | N27: =IF(A27="","",IF(Q27<>"","Feiertag: "&Q27&IF(Z27<>"","; ",""),"")&IF(Z27<>"",LEFT(Z27,LEN(Z27)-2),"")) | P27: =IF(A27="",0,ROUND((IF(AND(ISNUMBER(C27),ISNUMBER(D27)),MOD(D27-C27,1),0)+IF(AND(ISNUMBER(E27),ISNUMBER(F27)),MOD(F27-E27,1),0)-IF(ISNUMBER(G27),G27,0)/1440)*1440,0)/1440) | Q27: =IF(A27="","",IFERROR(INDEX(FeiertagNamen,MATCH(A27,FeiertagDaten,0)),"")) | R27: =IF(OR(H27="Urlaub",H27="Krank",H27="Bezahlt frei"),S27,IF(H27="Halber Urlaubstag",ROUND(S27*720,0)/1440,0)) | S27: =IF(OR(A27="",Q27<>"",H27="Unbezahlt",AA27=0),0,ROUND(CHOOSE(WEEKDAY(A27,2),N(SollMo),N(SollDi),N(SollMi),N(SollDo),N(SollFr),N(SollSa),N(SollSo))*1440,0)/1440) | T27: =P27+R27-S27 | U27: =IF(OR(A27="",NOT(ISNUMBER(C27)),NOT(ISNUMBER(D27))),"",A27+IF(AND(ISNUMBER(E27),ISNUMBER(F27)),F27+IF(E27<C27,1,0)+IF(F27<E27,1,0),D27+IF(D27<C27,1,0))) | V27: =IF(OR(A27="",NOT(ISNUMBER(C27))),"",A27+C27) | W27: =IF(OR(V27="",X26=0),"",ROUND((V27-X26)*1440,0)) | X27: =MAX(X26,N(U27)) | Y27: =IF(ISNUMBER(G27),G27,0)+IF(AND(ISNUMBER(D27),ISNUMBER(E27)),MAX(0,ROUND((E27+IF(E27<C27,1,0)-D27-IF(D27<C27,1,0))*1440,0)),0) | Z27: =IF(A27="","",IF(OR(ISNUMBER(C27)<>ISNUMBER(D27),ISNUMBER(E27)<>ISNUMBER(F27)),"Beginn oder Ende fehlt; ","")&IF(P27<0,"Pause länger als Arbeitszeit; ","")&IF(AND(ROUND(P27*1440,0)>360,ROUND(P27*1440,0)<=540,Y27<30),"Pause unter 30 Min. (§ 4); ","")&IF(AND(ROUND(P27*1440,0)>540,Y27<45),"Pause unter 45 Min. (§ 4); ","")&IF(ROUND(P27*1440,0)>600,"über 10 Std. (§ 3); ","")&IF(W27="","",IF(W27<0,"beginnt vor Ende des Vortags; ",IF(W27<660,"Ruhezeit unter 11 Std. (§ 5); ","")))&IF(AND(ISNUMBER(I27),ROUND(N(I27)*1440,0)>ROUND(P27*1440,0)),"Fahrzeit über Arbeitszeit; ","")&IF(AND(OR(H27="Urlaub",H27="Krank",H27="Bezahlt frei"),ROUND(P27*1440,0)>0),"Abwesenheit und Arbeitszeit; ","")&IF(AND(H27<>"",H27<>"Unbezahlt",S27=0),"Abwesenheit an freiem Tag zählt nicht; ","")) | AA27: =IF(A27="",0,IF(OR(A27<=TODAY(),COUNTA(C27:J27)>0),1,0))
A28: =IF(MONTH(DATE(Jahr,3,24))=3,DATE(Jahr,3,24),"") | B28: =IF(A28="","",CHOOSE(WEEKDAY(A28,2),"Mo","Di","Mi","Do","Fr","Sa","So")) | K28: =IF(OR(A28="",P28+R28<=0),"",P28+R28) | L28: =IF(OR(A28="",S28=0),"",S28) | M28: =IF(OR(A28="",AND(P28+R28=0,S28=0)),"",IF(T28<0,"-","+")&TEXT(ABS(T28),"[h]:mm")) | N28: =IF(A28="","",IF(Q28<>"","Feiertag: "&Q28&IF(Z28<>"","; ",""),"")&IF(Z28<>"",LEFT(Z28,LEN(Z28)-2),"")) | P28: =IF(A28="",0,ROUND((IF(AND(ISNUMBER(C28),ISNUMBER(D28)),MOD(D28-C28,1),0)+IF(AND(ISNUMBER(E28),ISNUMBER(F28)),MOD(F28-E28,1),0)-IF(ISNUMBER(G28),G28,0)/1440)*1440,0)/1440) | Q28: =IF(A28="","",IFERROR(INDEX(FeiertagNamen,MATCH(A28,FeiertagDaten,0)),"")) | R28: =IF(OR(H28="Urlaub",H28="Krank",H28="Bezahlt frei"),S28,IF(H28="Halber Urlaubstag",ROUND(S28*720,0)/1440,0)) | S28: =IF(OR(A28="",Q28<>"",H28="Unbezahlt",AA28=0),0,ROUND(CHOOSE(WEEKDAY(A28,2),N(SollMo),N(SollDi),N(SollMi),N(SollDo),N(SollFr),N(SollSa),N(SollSo))*1440,0)/1440) | T28: =P28+R28-S28 | U28: =IF(OR(A28="",NOT(ISNUMBER(C28)),NOT(ISNUMBER(D28))),"",A28+IF(AND(ISNUMBER(E28),ISNUMBER(F28)),F28+IF(E28<C28,1,0)+IF(F28<E28,1,0),D28+IF(D28<C28,1,0))) | V28: =IF(OR(A28="",NOT(ISNUMBER(C28))),"",A28+C28) | W28: =IF(OR(V28="",X27=0),"",ROUND((V28-X27)*1440,0)) | X28: =MAX(X27,N(U28)) | Y28: =IF(ISNUMBER(G28),G28,0)+IF(AND(ISNUMBER(D28),ISNUMBER(E28)),MAX(0,ROUND((E28+IF(E28<C28,1,0)-D28-IF(D28<C28,1,0))*1440,0)),0) | Z28: =IF(A28="","",IF(OR(ISNUMBER(C28)<>ISNUMBER(D28),ISNUMBER(E28)<>ISNUMBER(F28)),"Beginn oder Ende fehlt; ","")&IF(P28<0,"Pause länger als Arbeitszeit; ","")&IF(AND(ROUND(P28*1440,0)>360,ROUND(P28*1440,0)<=540,Y28<30),"Pause unter 30 Min. (§ 4); ","")&IF(AND(ROUND(P28*1440,0)>540,Y28<45),"Pause unter 45 Min. (§ 4); ","")&IF(ROUND(P28*1440,0)>600,"über 10 Std. (§ 3); ","")&IF(W28="","",IF(W28<0,"beginnt vor Ende des Vortags; ",IF(W28<660,"Ruhezeit unter 11 Std. (§ 5); ","")))&IF(AND(ISNUMBER(I28),ROUND(N(I28)*1440,0)>ROUND(P28*1440,0)),"Fahrzeit über Arbeitszeit; ","")&IF(AND(OR(H28="Urlaub",H28="Krank",H28="Bezahlt frei"),ROUND(P28*1440,0)>0),"Abwesenheit und Arbeitszeit; ","")&IF(AND(H28<>"",H28<>"Unbezahlt",S28=0),"Abwesenheit an freiem Tag zählt nicht; ","")) | AA28: =IF(A28="",0,IF(OR(A28<=TODAY(),COUNTA(C28:J28)>0),1,0))
